{"text_format":"1","workbook":"xlsx","n_sheets":5,"sheets":["Liste nominative CMR","Liste anonymisée CMR","Fiche individuelle CMR","Fiche intérimaires CMR ","Références"],"not_rendered":{"charts":0,"images":1,"macros":1,"external_links":0,"defined_names":25,"comments":3,"pivot_tables":0},"unopened":[],"bounds":{"document_bytes":16777216,"sheet_cells":100000,"rows_first":2000,"rows_last":500,"rows_between":2000,"halvings":0,"cell_chars":16384,"cell_head_chars":4096},"cells_cut":0,"cells_raw":0,"read":"whole","date_system":"1900"}

{"sheet":"Liste nominative CMR","index":0,"n_rows":251,"n_cols":16,"rows_kept":251,"cut":false,"hidden":false,"merged":[[0,0,2,14]]}
["Expositions aux Cancérogènes, Mutagènes et Reprotoxiques"]
[]
[]
[]
[null,null,"Raison sociale : ",null,null,null,null,null,null,"Numéro Adhérent : ",null,null,"Date de création : "]
[null,null,null,null,null,null,null,null,null,null,null,null,"Date de mise à jour : "]
[]
["Indice ligne ","NOM et Prénom du travailleur","Date de naissance","Statut intérimaire ? ","Indice agence","Nom de l'agence d'interim","Numéro CAS","Numéro CE","Numéro INDEX","Nom du CMR","Procédés","Nature d'exposition (si connu)","Durée d'exposition (si connu)","Degré d'exposition ( si connue) "]
[{"$f":"IF(COUNTIF(B$8:B8,B9)>0,\"\",MAX(A$8:A8)+1)","v":1},null,null,null,{"$f":"IF(COUNTIF(F$8:F8,F9)>0,\"\",MAX(E$8:E8)+1)","v":1},null,null,{"$f":"IFERROR(VLOOKUP(bd_expos[[#This Row],[Numéro CAS]],Tableau2[#All],2,FALSE),\"\")","v":""},{"$f":"IFERROR(VLOOKUP(bd_expos[[#This Row],[Numéro CAS]],Tableau2[#All],3,FALSE),\"\")","v":""},{"$f":"IFERROR(VLOOKUP(bd_expos[[#This Row],[Numéro CAS]],Tableau2[#All],4,FALSE),\"\")","v":""},null,null,null,null,null,{"$f":"IF('Liste nominative CMR'!B9='Fiche individuelle CMR'!$C$8,MAX($P$8:P8)+1,\"\")","v":1}]
[{"$f":"IF(COUNTIF(B$8:B9,B10)>0,\"\",MAX(A$8:A9)+1)","v":2},null,null,null,{"$f":"IF(COUNTIF(F$8:F9,F10)>0,\"\",MAX(E$8:E9)+1)","v":2},null,null,{"$f":"IFERROR(VLOOKUP(bd_expos[[#This Row],[Numéro CAS]],Tableau2[#All],2,FALSE),\"\")","v":""},{"$f":"IFERROR(VLOOKUP(bd_expos[[#This Row],[Numéro CAS]],Tableau2[#All],3,FALSE),\"\")","v":""},{"$f":"IFERROR(VLOOKUP(bd_expos[[#This Row],[Numéro CAS]],Tableau2[#All],4,FALSE),\"\")","v":""},null,null,null,null,null,{"$f":"IF('Liste nominative CMR'!B10='Fiche individuelle CMR'!$C$8,MAX($P$8:P9)+1,\"\")","v":2}]
[{"$f":"IF(COUNTIF(B$8:B10,B11)>0,\"\",MAX(A$8:A10)+1)","v":3},null,null,null,{"$f":"IF(COUNTIF(F$8:F10,F11)>0,\"\",MAX(E$8:E10)+1)","v":3},null,null,{"$f":"IFERROR(VLOOKUP(bd_expos[[#This Row],[Numéro CAS]],Tableau2[#All],2,FALSE),\"\")","v":""},{"$f":"IFERROR(VLOOKUP(bd_expos[[#This Row],[Numéro CAS]],Tableau2[#All],3,FALSE),\"\")","v":""},{"$f":"IFERROR(VLOOKUP(bd_expos[[#This Row],[Numéro CAS]],Tableau2[#All],4,FALSE),\"\")","v":""},null,null,null,null,null,{"$f":"IF('Liste nominative CMR'!B11='Fiche individuelle CMR'!$C$8,MAX($P$8:P10)+1,\"\")","v":3}]
[{"$f":"IF(COUNTIF(B$8:B11,B12)>0,\"\",MAX(A$8:A11)+1)","v":4},null,null,null,{"$f":"IF(COUNTIF(F$8:F11,F12)>0,\"\",MAX(E$8:E11)+1)","v":4},null,null,{"$f":"IFERROR(VLOOKUP(bd_expos[[#This Row],[Numéro CAS]],Tableau2[#All],2,FALSE),\"\")","v":""},{"$f":"IFERROR(VLOOKUP(bd_expos[[#This Row],[Numéro CAS]],Tableau2[#All],3,FALSE),\"\")","v":""},{"$f":"IFERROR(VLOOKUP(bd_expos[[#This Row],[Numéro CAS]],Tableau2[#All],4,FALSE),\"\")","v":""},null,null,null,null,null,{"$f":"IF('Liste nominative CMR'!B12='Fiche individuelle CMR'!$C$8,MAX($P$8:P11)+1,\"\")","v":4}]
[{"$f":"IF(COUNTIF(B$8:B12,B13)>0,\"\",MAX(A$8:A12)+1)","v":5},null,null,null,{"$f":"IF(COUNTIF(F$8:F12,F13)>0,\"\",MAX(E$8:E12)+1)","v":5},null,null,{"$f":"IFERROR(VLOOKUP(bd_expos[[#This Row],[Numéro CAS]],Tableau2[#All],2,FALSE),\"\")","v":""},{"$f":"IFERROR(VLOOKUP(bd_expos[[#This Row],[Numéro CAS]],Tableau2[#All],3,FALSE),\"\")","v":""},{"$f":"IFERROR(VLOOKUP(bd_expos[[#This Row],[Numéro CAS]],Tableau2[#All],4,FALSE),\"\")","v":""},null,null,null,null,null,{"$f":"IF('Liste nominative CMR'!B13='Fiche individuelle CMR'!$C$8,MAX($P$8:P12)+1,\"\")","v":5}]
[{"$f":"IF(COUNTIF(B$8:B13,B14)>0,\"\",MAX(A$8:A13)+1)","v":6},null,null,null,{"$f":"IF(COUNTIF(F$8:F13,F14)>0,\"\",MAX(E$8:E13)+1)","v":6},null,null,{"$f":"IFERROR(VLOOKUP(bd_expos[[#This Row],[Numéro CAS]],Tableau2[#All],2,FALSE),\"\")","v":""},{"$f":"IFERROR(VLOOKUP(bd_expos[[#This Row],[Numéro CAS]],Tableau2[#All],3,FALSE),\"\")","v":""},{"$f":"IFERROR(VLOOKUP(bd_expos[[#This Row],[Numéro CAS]],Tableau2[#All],4,FALSE),\"\")","v":""},null,null,null,null,null,{"$f":"IF('Liste nominative CMR'!B14='Fiche individuelle CMR'!$C$8,MAX($P$8:P13)+1,\"\")","v":6}]
[{"$f":"IF(COUNTIF(B$8:B14,B15)>0,\"\",MAX(A$8:A14)+1)","v":7},null,null,null,{"$f":"IF(COUNTIF(F$8:F14,F15)>0,\"\",MAX(E$8:E14)+1)","v":7},null,null,{"$f":"IFERROR(VLOOKUP(bd_expos[[#This Row],[Numéro CAS]],Tableau2[#All],2,FALSE),\"\")","v":""},{"$f":"IFERROR(VLOOKUP(bd_expos[[#This Row],[Numéro CAS]],Tableau2[#All],3,FALSE),\"\")","v":""},{"$f":"IFERROR(VLOOKUP(bd_expos[[#This Row],[Numéro CAS]],Tableau2[#All],4,FALSE),\"\")","v":""},null,null,null,null,null,{"$f":"IF('Liste nominative CMR'!B15='Fiche individuelle CMR'!$C$8,MAX($P$8:P14)+1,\"\")","v":7}]
[{"$f":"IF(COUNTIF(B$8:B15,B16)>0,\"\",MAX(A$8:A15)+1)","v":8},null,null,null,{"$f":"IF(COUNTIF(F$8:F15,F16)>0,\"\",MAX(E$8:E15)+1)","v":8},null,null,{"$f":"IFERROR(VLOOKUP(bd_expos[[#This Row],[Numéro CAS]],Tableau2[#All],2,FALSE),\"\")","v":""},{"$f":"IFERROR(VLOOKUP(bd_expos[[#This Row],[Numéro CAS]],Tableau2[#All],3,FALSE),\"\")","v":""},{"$f":"IFERROR(VLOOKUP(bd_expos[[#This Row],[Numéro CAS]],Tableau2[#All],4,FALSE),\"\")","v":""},null,null,null,null,null,{"$f":"IF('Liste nominative CMR'!B16='Fiche individuelle CMR'!$C$8,MAX($P$8:P15)+1,\"\")","v":8}]
[{"$f":"IF(COUNTIF(B$8:B16,B17)>0,\"\",MAX(A$8:A16)+1)","v":9},null,null,null,{"$f":"IF(COUNTIF(F$8:F16,F17)>0,\"\",MAX(E$8:E16)+1)","v":9},null,null,{"$f":"IFERROR(VLOOKUP(bd_expos[[#This Row],[Numéro CAS]],Tableau2[#All],2,FALSE),\"\")","v":""},{"$f":"IFERROR(VLOOKUP(bd_expos[[#This Row],[Numéro CAS]],Tableau2[#All],3,FALSE),\"\")","v":""},{"$f":"IFERROR(VLOOKUP(bd_expos[[#This Row],[Numéro CAS]],Tableau2[#All],4,FALSE),\"\")","v":""},null,null,null,null,null,{"$f":"IF('Liste nominative CMR'!B17='Fiche individuelle CMR'!$C$8,MAX($P$8:P16)+1,\"\")","v":9}]
[{"$f":"IF(COUNTIF(B$8:B17,B18)>0,\"\",MAX(A$8:A17)+1)","v":10},null,null,null,{"$f":"IF(COUNTIF(F$8:F17,F18)>0,\"\",MAX(E$8:E17)+1)","v":10},null,null,{"$f":"IFERROR(VLOOKUP(bd_expos[[#This Row],[Numéro CAS]],Tableau2[#All],2,FALSE),\"\")","v":""},{"$f":"IFERROR(VLOOKUP(bd_expos[[#This Row],[Numéro CAS]],Tableau2[#All],3,FALSE),\"\")","v":""},{"$f":"IFERROR(VLOOKUP(bd_expos[[#This Row],[Numéro CAS]],Tableau2[#All],4,FALSE),\"\")","v":""},null,null,null,null,null,{"$f":"IF('Liste nominative CMR'!B18='Fiche individuelle CMR'!$C$8,MAX($P$8:P17)+1,\"\")","v":10}]
[{"$f":"IF(COUNTIF(B$8:B18,B19)>0,\"\",MAX(A$8:A18)+1)","v":11},null,null,null,{"$f":"IF(COUNTIF(F$8:F18,F19)>0,\"\",MAX(E$8:E18)+1)","v":11},null,null,{"$f":"IFERROR(VLOOKUP(bd_expos[[#This Row],[Numéro CAS]],Tableau2[#All],2,FALSE),\"\")","v":""},{"$f":"IFERROR(VLOOKUP(bd_expos[[#This Row],[Numéro CAS]],Tableau2[#All],3,FALSE),\"\")","v":""},{"$f":"IFERROR(VLOOKUP(bd_expos[[#This Row],[Numéro CAS]],Tableau2[#All],4,FALSE),\"\")","v":""},null,null,null,null,null,{"$f":"IF('Liste nominative CMR'!B19='Fiche individuelle CMR'!$C$8,MAX($P$8:P18)+1,\"\")","v":11}]
[{"$f":"IF(COUNTIF(B$8:B19,B20)>0,\"\",MAX(A$8:A19)+1)","v":12},null,null,null,{"$f":"IF(COUNTIF(F$8:F19,F20)>0,\"\",MAX(E$8:E19)+1)","v":12},null,null,{"$f":"IFERROR(VLOOKUP(bd_expos[[#This Row],[Numéro CAS]],Tableau2[#All],2,FALSE),\"\")","v":""},{"$f":"IFERROR(VLOOKUP(bd_expos[[#This Row],[Numéro CAS]],Tableau2[#All],3,FALSE),\"\")","v":""},{"$f":"IFERROR(VLOOKUP(bd_expos[[#This Row],[Numéro CAS]],Tableau2[#All],4,FALSE),\"\")","v":""},null,null,null,null,null,{"$f":"IF('Liste nominative CMR'!B20='Fiche individuelle CMR'!$C$8,MAX($P$8:P19)+1,\"\")","v":12}]
[{"$f":"IF(COUNTIF(B$8:B20,B21)>0,\"\",MAX(A$8:A20)+1)","v":13},null,null,null,{"$f":"IF(COUNTIF(F$8:F20,F21)>0,\"\",MAX(E$8:E20)+1)","v":13},null,null,{"$f":"IFERROR(VLOOKUP(bd_expos[[#This Row],[Numéro CAS]],Tableau2[#All],2,FALSE),\"\")","v":""},{"$f":"IFERROR(VLOOKUP(bd_expos[[#This Row],[Numéro CAS]],Tableau2[#All],3,FALSE),\"\")","v":""},{"$f":"IFERROR(VLOOKUP(bd_expos[[#This Row],[Numéro CAS]],Tableau2[#All],4,FALSE),\"\")","v":""},null,null,null,null,null,{"$f":"IF('Liste nominative CMR'!B21='Fiche individuelle CMR'!$C$8,MAX($P$8:P20)+1,\"\")","v":13}]
[{"$f":"IF(COUNTIF(B$8:B21,B22)>0,\"\",MAX(A$8:A21)+1)","v":14},null,null,null,{"$f":"IF(COUNTIF(F$8:F21,F22)>0,\"\",MAX(E$8:E21)+1)","v":14},null,null,{"$f":"IFERROR(VLOOKUP(bd_expos[[#This Row],[Numéro CAS]],Tableau2[#All],2,FALSE),\"\")","v":""},{"$f":"IFERROR(VLOOKUP(bd_expos[[#This Row],[Numéro CAS]],Tableau2[#All],3,FALSE),\"\")","v":""},{"$f":"IFERROR(VLOOKUP(bd_expos[[#This Row],[Numéro CAS]],Tableau2[#All],4,FALSE),\"\")","v":""},null,null,null,null,null,{"$f":"IF('Liste nominative CMR'!B22='Fiche individuelle CMR'!$C$8,MAX($P$8:P21)+1,\"\")","v":14}]
[{"$f":"IF(COUNTIF(B$8:B22,B23)>0,\"\",MAX(A$8:A22)+1)","v":15},null,null,null,{"$f":"IF(COUNTIF(F$8:F22,F23)>0,\"\",MAX(E$8:E22)+1)","v":15},null,null,{"$f":"IFERROR(VLOOKUP(bd_expos[[#This Row],[Numéro CAS]],Tableau2[#All],2,FALSE),\"\")","v":""},{"$f":"IFERROR(VLOOKUP(bd_expos[[#This Row],[Numéro CAS]],Tableau2[#All],3,FALSE),\"\")","v":""},{"$f":"IFERROR(VLOOKUP(bd_expos[[#This Row],[Numéro CAS]],Tableau2[#All],4,FALSE),\"\")","v":""},null,null,null,null,null,{"$f":"IF('Liste nominative CMR'!B23='Fiche individuelle CMR'!$C$8,MAX($P$8:P22)+1,\"\")","v":15}]
[{"$f":"IF(COUNTIF(B$8:B23,B24)>0,\"\",MAX(A$8:A23)+1)","v":16},null,null,null,{"$f":"IF(COUNTIF(F$8:F23,F24)>0,\"\",MAX(E$8:E23)+1)","v":16},null,null,{"$f":"IFERROR(VLOOKUP(bd_expos[[#This Row],[Numéro CAS]],Tableau2[#All],2,FALSE),\"\")","v":""},{"$f":"IFERROR(VLOOKUP(bd_expos[[#This Row],[Numéro CAS]],Tableau2[#All],3,FALSE),\"\")","v":""},{"$f":"IFERROR(VLOOKUP(bd_expos[[#This Row],[Numéro CAS]],Tableau2[#All],4,FALSE),\"\")","v":""},null,null,null,null,null,{"$f":"IF('Liste nominative CMR'!B24='Fiche individuelle CMR'!$C$8,MAX($P$8:P23)+1,\"\")","v":16}]
[{"$f":"IF(COUNTIF(B$8:B24,B25)>0,\"\",MAX(A$8:A24)+1)","v":17},null,null,null,{"$f":"IF(COUNTIF(F$8:F24,F25)>0,\"\",MAX(E$8:E24)+1)","v":17},null,null,{"$f":"IFERROR(VLOOKUP(bd_expos[[#This Row],[Numéro CAS]],Tableau2[#All],2,FALSE),\"\")","v":""},{"$f":"IFERROR(VLOOKUP(bd_expos[[#This Row],[Numéro CAS]],Tableau2[#All],3,FALSE),\"\")","v":""},{"$f":"IFERROR(VLOOKUP(bd_expos[[#This Row],[Numéro CAS]],Tableau2[#All],4,FALSE),\"\")","v":""},null,null,null,null,null,{"$f":"IF('Liste nominative CMR'!B25='Fiche individuelle CMR'!$C$8,MAX($P$8:P24)+1,\"\")","v":17}]
[{"$f":"IF(COUNTIF(B$8:B25,B26)>0,\"\",MAX(A$8:A25)+1)","v":18},null,null,null,{"$f":"IF(COUNTIF(F$8:F25,F26)>0,\"\",MAX(E$8:E25)+1)","v":18},null,null,{"$f":"IFERROR(VLOOKUP(bd_expos[[#This Row],[Numéro CAS]],Tableau2[#All],2,FALSE),\"\")","v":""},{"$f":"IFERROR(VLOOKUP(bd_expos[[#This Row],[Numéro CAS]],Tableau2[#All],3,FALSE),\"\")","v":""},{"$f":"IFERROR(VLOOKUP(bd_expos[[#This Row],[Numéro CAS]],Tableau2[#All],4,FALSE),\"\")","v":""},null,null,null,null,null,{"$f":"IF('Liste nominative CMR'!B26='Fiche individuelle CMR'!$C$8,MAX($P$8:P25)+1,\"\")","v":18}]
[{"$f":"IF(COUNTIF(B$8:B26,B27)>0,\"\",MAX(A$8:A26)+1)","v":19},null,null,null,{"$f":"IF(COUNTIF(F$8:F26,F27)>0,\"\",MAX(E$8:E26)+1)","v":19},null,null,{"$f":"IFERROR(VLOOKUP(bd_expos[[#This Row],[Numéro CAS]],Tableau2[#All],2,FALSE),\"\")","v":""},{"$f":"IFERROR(VLOOKUP(bd_expos[[#This Row],[Numéro CAS]],Tableau2[#All],3,FALSE),\"\")","v":""},{"$f":"IFERROR(VLOOKUP(bd_expos[[#This Row],[Numéro CAS]],Tableau2[#All],4,FALSE),\"\")","v":""},null,null,null,null,null,{"$f":"IF('Liste nominative CMR'!B27='Fiche individuelle CMR'!$C$8,MAX($P$8:P26)+1,\"\")","v":19}]
[{"$f":"IF(COUNTIF(B$8:B27,B28)>0,\"\",MAX(A$8:A27)+1)","v":20},null,null,null,{"$f":"IF(COUNTIF(F$8:F27,F28)>0,\"\",MAX(E$8:E27)+1)","v":20},null,null,{"$f":"IFERROR(VLOOKUP(bd_expos[[#This Row],[Numéro CAS]],Tableau2[#All],2,FALSE),\"\")","v":""},{"$f":"IFERROR(VLOOKUP(bd_expos[[#This Row],[Numéro CAS]],Tableau2[#All],3,FALSE),\"\")","v":""},{"$f":"IFERROR(VLOOKUP(bd_expos[[#This Row],[Numéro CAS]],Tableau2[#All],4,FALSE),\"\")","v":""},null,null,null,null,null,{"$f":"IF('Liste nominative CMR'!B28='Fiche individuelle CMR'!$C$8,MAX($P$8:P27)+1,\"\")","v":20}]
[{"$f":"IF(COUNTIF(B$8:B28,B29)>0,\"\",MAX(A$8:A28)+1)","v":21},null,null,null,{"$f":"IF(COUNTIF(F$8:F28,F29)>0,\"\",MAX(E$8:E28)+1)","v":21},null,null,{"$f":"IFERROR(VLOOKUP(bd_expos[[#This Row],[Numéro CAS]],Tableau2[#All],2,FALSE),\"\")","v":""},{"$f":"IFERROR(VLOOKUP(bd_expos[[#This Row],[Numéro CAS]],Tableau2[#All],3,FALSE),\"\")","v":""},{"$f":"IFERROR(VLOOKUP(bd_expos[[#This Row],[Numéro CAS]],Tableau2[#All],4,FALSE),\"\")","v":""},null,null,null,null,null,{"$f":"IF('Liste nominative CMR'!B29='Fiche individuelle CMR'!$C$8,MAX($P$8:P28)+1,\"\")","v":21}]
[{"$f":"IF(COUNTIF(B$8:B29,B30)>0,\"\",MAX(A$8:A29)+1)","v":22},null,null,null,{"$f":"IF(COUNTIF(F$8:F29,F30)>0,\"\",MAX(E$8:E29)+1)","v":22},null,null,{"$f":"IFERROR(VLOOKUP(bd_expos[[#This Row],[Numéro CAS]],Tableau2[#All],2,FALSE),\"\")","v":""},{"$f":"IFERROR(VLOOKUP(bd_expos[[#This Row],[Numéro CAS]],Tableau2[#All],3,FALSE),\"\")","v":""},{"$f":"IFERROR(VLOOKUP(bd_expos[[#This Row],[Numéro CAS]],Tableau2[#All],4,FALSE),\"\")","v":""},null,null,null,null,null,{"$f":"IF('Liste nominative CMR'!B30='Fiche individuelle CMR'!$C$8,MAX($P$8:P29)+1,\"\")","v":22}]
[{"$f":"IF(COUNTIF(B$8:B30,B31)>0,\"\",MAX(A$8:A30)+1)","v":23},null,null,null,{"$f":"IF(COUNTIF(F$8:F30,F31)>0,\"\",MAX(E$8:E30)+1)","v":23},null,null,{"$f":"IFERROR(VLOOKUP(bd_expos[[#This Row],[Numéro CAS]],Tableau2[#All],2,FALSE),\"\")","v":""},{"$f":"IFERROR(VLOOKUP(bd_expos[[#This Row],[Numéro CAS]],Tableau2[#All],3,FALSE),\"\")","v":""},{"$f":"IFERROR(VLOOKUP(bd_expos[[#This Row],[Numéro CAS]],Tableau2[#All],4,FALSE),\"\")","v":""},null,null,null,null,null,{"$f":"IF('Liste nominative CMR'!B31='Fiche individuelle CMR'!$C$8,MAX($P$8:P30)+1,\"\")","v":23}]
[{"$f":"IF(COUNTIF(B$8:B31,B32)>0,\"\",MAX(A$8:A31)+1)","v":24},null,null,null,{"$f":"IF(COUNTIF(F$8:F31,F32)>0,\"\",MAX(E$8:E31)+1)","v":24},null,null,{"$f":"IFERROR(VLOOKUP(bd_expos[[#This Row],[Numéro CAS]],Tableau2[#All],2,FALSE),\"\")","v":""},{"$f":"IFERROR(VLOOKUP(bd_expos[[#This Row],[Numéro CAS]],Tableau2[#All],3,FALSE),\"\")","v":""},{"$f":"IFERROR(VLOOKUP(bd_expos[[#This Row],[Numéro CAS]],Tableau2[#All],4,FALSE),\"\")","v":""},null,null,null,null,null,{"$f":"IF('Liste nominative CMR'!B32='Fiche individuelle CMR'!$C$8,MAX($P$8:P31)+1,\"\")","v":24}]
[{"$f":"IF(COUNTIF(B$8:B32,B33)>0,\"\",MAX(A$8:A32)+1)","v":25},null,null,null,{"$f":"IF(COUNTIF(F$8:F32,F33)>0,\"\",MAX(E$8:E32)+1)","v":25},null,null,{"$f":"IFERROR(VLOOKUP(bd_expos[[#This Row],[Numéro CAS]],Tableau2[#All],2,FALSE),\"\")","v":""},{"$f":"IFERROR(VLOOKUP(bd_expos[[#This Row],[Numéro CAS]],Tableau2[#All],3,FALSE),\"\")","v":""},{"$f":"IFERROR(VLOOKUP(bd_expos[[#This Row],[Numéro CAS]],Tableau2[#All],4,FALSE),\"\")","v":""},null,null,null,null,null,{"$f":"IF('Liste nominative CMR'!B33='Fiche individuelle CMR'!$C$8,MAX($P$8:P32)+1,\"\")","v":25}]
[{"$f":"IF(COUNTIF(B$8:B33,B34)>0,\"\",MAX(A$8:A33)+1)","v":26},null,null,null,{"$f":"IF(COUNTIF(F$8:F33,F34)>0,\"\",MAX(E$8:E33)+1)","v":26},null,null,{"$f":"IFERROR(VLOOKUP(bd_expos[[#This Row],[Numéro CAS]],Tableau2[#All],2,FALSE),\"\")","v":""},{"$f":"IFERROR(VLOOKUP(bd_expos[[#This Row],[Numéro CAS]],Tableau2[#All],3,FALSE),\"\")","v":""},{"$f":"IFERROR(VLOOKUP(bd_expos[[#This Row],[Numéro CAS]],Tableau2[#All],4,FALSE),\"\")","v":""},null,null,null,null,null,{"$f":"IF('Liste nominative CMR'!B34='Fiche individuelle CMR'!$C$8,MAX($P$8:P33)+1,\"\")","v":26}]
[{"$f":"IF(COUNTIF(B$8:B34,B35)>0,\"\",MAX(A$8:A34)+1)","v":27},null,null,null,{"$f":"IF(COUNTIF(F$8:F34,F35)>0,\"\",MAX(E$8:E34)+1)","v":27},null,null,{"$f":"IFERROR(VLOOKUP(bd_expos[[#This Row],[Numéro CAS]],Tableau2[#All],2,FALSE),\"\")","v":""},{"$f":"IFERROR(VLOOKUP(bd_expos[[#This Row],[Numéro CAS]],Tableau2[#All],3,FALSE),\"\")","v":""},{"$f":"IFERROR(VLOOKUP(bd_expos[[#This Row],[Numéro CAS]],Tableau2[#All],4,FALSE),\"\")","v":""},null,null,null,null,null,{"$f":"IF('Liste nominative CMR'!B35='Fiche individuelle CMR'!$C$8,MAX($P$8:P34)+1,\"\")","v":27}]
[{"$f":"IF(COUNTIF(B$8:B35,B36)>0,\"\",MAX(A$8:A35)+1)","v":28},null,null,null,{"$f":"IF(COUNTIF(F$8:F35,F36)>0,\"\",MAX(E$8:E35)+1)","v":28},null,null,{"$f":"IFERROR(VLOOKUP(bd_expos[[#This Row],[Numéro CAS]],Tableau2[#All],2,FALSE),\"\")","v":""},{"$f":"IFERROR(VLOOKUP(bd_expos[[#This Row],[Numéro CAS]],Tableau2[#All],3,FALSE),\"\")","v":""},{"$f":"IFERROR(VLOOKUP(bd_expos[[#This Row],[Numéro CAS]],Tableau2[#All],4,FALSE),\"\")","v":""},null,null,null,null,null,{"$f":"IF('Liste nominative CMR'!B36='Fiche individuelle CMR'!$C$8,MAX($P$8:P35)+1,\"\")","v":28}]
[{"$f":"IF(COUNTIF(B$8:B36,B37)>0,\"\",MAX(A$8:A36)+1)","v":29},null,null,null,{"$f":"IF(COUNTIF(F$8:F36,F37)>0,\"\",MAX(E$8:E36)+1)","v":29},null,null,{"$f":"IFERROR(VLOOKUP(bd_expos[[#This Row],[Numéro CAS]],Tableau2[#All],2,FALSE),\"\")","v":""},{"$f":"IFERROR(VLOOKUP(bd_expos[[#This Row],[Numéro CAS]],Tableau2[#All],3,FALSE),\"\")","v":""},{"$f":"IFERROR(VLOOKUP(bd_expos[[#This Row],[Numéro CAS]],Tableau2[#All],4,FALSE),\"\")","v":""},null,null,null,null,null,{"$f":"IF('Liste nominative CMR'!B37='Fiche individuelle CMR'!$C$8,MAX($P$8:P36)+1,\"\")","v":29}]
[{"$f":"IF(COUNTIF(B$8:B37,B38)>0,\"\",MAX(A$8:A37)+1)","v":30},null,null,null,{"$f":"IF(COUNTIF(F$8:F37,F38)>0,\"\",MAX(E$8:E37)+1)","v":30},null,null,{"$f":"IFERROR(VLOOKUP(bd_expos[[#This Row],[Numéro CAS]],Tableau2[#All],2,FALSE),\"\")","v":""},{"$f":"IFERROR(VLOOKUP(bd_expos[[#This Row],[Numéro CAS]],Tableau2[#All],3,FALSE),\"\")","v":""},{"$f":"IFERROR(VLOOKUP(bd_expos[[#This Row],[Numéro CAS]],Tableau2[#All],4,FALSE),\"\")","v":""},null,null,null,null,null,{"$f":"IF('Liste nominative CMR'!B38='Fiche individuelle CMR'!$C$8,MAX($P$8:P37)+1,\"\")","v":30}]
[{"$f":"IF(COUNTIF(B$8:B38,B39)>0,\"\",MAX(A$8:A38)+1)","v":31},null,null,null,{"$f":"IF(COUNTIF(F$8:F38,F39)>0,\"\",MAX(E$8:E38)+1)","v":31},null,null,{"$f":"IFERROR(VLOOKUP(bd_expos[[#This Row],[Numéro CAS]],Tableau2[#All],2,FALSE),\"\")","v":""},{"$f":"IFERROR(VLOOKUP(bd_expos[[#This Row],[Numéro CAS]],Tableau2[#All],3,FALSE),\"\")","v":""},{"$f":"IFERROR(VLOOKUP(bd_expos[[#This Row],[Numéro CAS]],Tableau2[#All],4,FALSE),\"\")","v":""},null,null,null,null,null,{"$f":"IF('Liste nominative CMR'!B39='Fiche individuelle CMR'!$C$8,MAX($P$8:P38)+1,\"\")","v":31}]
[{"$f":"IF(COUNTIF(B$8:B39,B40)>0,\"\",MAX(A$8:A39)+1)","v":32},null,null,null,{"$f":"IF(COUNTIF(F$8:F39,F40)>0,\"\",MAX(E$8:E39)+1)","v":32},null,null,{"$f":"IFERROR(VLOOKUP(bd_expos[[#This Row],[Numéro CAS]],Tableau2[#All],2,FALSE),\"\")","v":""},{"$f":"IFERROR(VLOOKUP(bd_expos[[#This Row],[Numéro CAS]],Tableau2[#All],3,FALSE),\"\")","v":""},{"$f":"IFERROR(VLOOKUP(bd_expos[[#This Row],[Numéro CAS]],Tableau2[#All],4,FALSE),\"\")","v":""},null,null,null,null,null,{"$f":"IF('Liste nominative CMR'!B40='Fiche individuelle CMR'!$C$8,MAX($P$8:P39)+1,\"\")","v":32}]
[{"$f":"IF(COUNTIF(B$8:B40,B41)>0,\"\",MAX(A$8:A40)+1)","v":33},null,null,null,{"$f":"IF(COUNTIF(F$8:F40,F41)>0,\"\",MAX(E$8:E40)+1)","v":33},null,null,{"$f":"IFERROR(VLOOKUP(bd_expos[[#This Row],[Numéro CAS]],Tableau2[#All],2,FALSE),\"\")","v":""},{"$f":"IFERROR(VLOOKUP(bd_expos[[#This Row],[Numéro CAS]],Tableau2[#All],3,FALSE),\"\")","v":""},{"$f":"IFERROR(VLOOKUP(bd_expos[[#This Row],[Numéro CAS]],Tableau2[#All],4,FALSE),\"\")","v":""},null,null,null,null,null,{"$f":"IF('Liste nominative CMR'!B41='Fiche individuelle CMR'!$C$8,MAX($P$8:P40)+1,\"\")","v":33}]
[{"$f":"IF(COUNTIF(B$8:B41,B42)>0,\"\",MAX(A$8:A41)+1)","v":34},null,null,null,{"$f":"IF(COUNTIF(F$8:F41,F42)>0,\"\",MAX(E$8:E41)+1)","v":34},null,null,{"$f":"IFERROR(VLOOKUP(bd_expos[[#This Row],[Numéro CAS]],Tableau2[#All],2,FALSE),\"\")","v":""},{"$f":"IFERROR(VLOOKUP(bd_expos[[#This Row],[Numéro CAS]],Tableau2[#All],3,FALSE),\"\")","v":""},{"$f":"IFERROR(VLOOKUP(bd_expos[[#This Row],[Numéro CAS]],Tableau2[#All],4,FALSE),\"\")","v":""},null,null,null,null,null,{"$f":"IF('Liste nominative CMR'!B42='Fiche individuelle CMR'!$C$8,MAX($P$8:P41)+1,\"\")","v":34}]
[{"$f":"IF(COUNTIF(B$8:B42,B43)>0,\"\",MAX(A$8:A42)+1)","v":35},null,null,null,{"$f":"IF(COUNTIF(F$8:F42,F43)>0,\"\",MAX(E$8:E42)+1)","v":35},null,null,{"$f":"IFERROR(VLOOKUP(bd_expos[[#This Row],[Numéro CAS]],Tableau2[#All],2,FALSE),\"\")","v":""},{"$f":"IFERROR(VLOOKUP(bd_expos[[#This Row],[Numéro CAS]],Tableau2[#All],3,FALSE),\"\")","v":""},{"$f":"IFERROR(VLOOKUP(bd_expos[[#This Row],[Numéro CAS]],Tableau2[#All],4,FALSE),\"\")","v":""},null,null,null,null,null,{"$f":"IF('Liste nominative CMR'!B43='Fiche individuelle CMR'!$C$8,MAX($P$8:P42)+1,\"\")","v":35}]
[{"$f":"IF(COUNTIF(B$8:B43,B44)>0,\"\",MAX(A$8:A43)+1)","v":36},null,null,null,{"$f":"IF(COUNTIF(F$8:F43,F44)>0,\"\",MAX(E$8:E43)+1)","v":36},null,null,{"$f":"IFERROR(VLOOKUP(bd_expos[[#This Row],[Numéro CAS]],Tableau2[#All],2,FALSE),\"\")","v":""},{"$f":"IFERROR(VLOOKUP(bd_expos[[#This Row],[Numéro CAS]],Tableau2[#All],3,FALSE),\"\")","v":""},{"$f":"IFERROR(VLOOKUP(bd_expos[[#This Row],[Numéro CAS]],Tableau2[#All],4,FALSE),\"\")","v":""},null,null,null,null,null,{"$f":"IF('Liste nominative CMR'!B44='Fiche individuelle CMR'!$C$8,MAX($P$8:P43)+1,\"\")","v":36}]
[{"$f":"IF(COUNTIF(B$8:B44,B45)>0,\"\",MAX(A$8:A44)+1)","v":37},null,null,null,{"$f":"IF(COUNTIF(F$8:F44,F45)>0,\"\",MAX(E$8:E44)+1)","v":37},null,null,{"$f":"IFERROR(VLOOKUP(bd_expos[[#This Row],[Numéro CAS]],Tableau2[#All],2,FALSE),\"\")","v":""},{"$f":"IFERROR(VLOOKUP(bd_expos[[#This Row],[Numéro CAS]],Tableau2[#All],3,FALSE),\"\")","v":""},{"$f":"IFERROR(VLOOKUP(bd_expos[[#This Row],[Numéro CAS]],Tableau2[#All],4,FALSE),\"\")","v":""},null,null,null,null,null,{"$f":"IF('Liste nominative CMR'!B45='Fiche individuelle CMR'!$C$8,MAX($P$8:P44)+1,\"\")","v":37}]
[{"$f":"IF(COUNTIF(B$8:B45,B46)>0,\"\",MAX(A$8:A45)+1)","v":38},null,null,null,{"$f":"IF(COUNTIF(F$8:F45,F46)>0,\"\",MAX(E$8:E45)+1)","v":38},null,null,{"$f":"IFERROR(VLOOKUP(bd_expos[[#This Row],[Numéro CAS]],Tableau2[#All],2,FALSE),\"\")","v":""},{"$f":"IFERROR(VLOOKUP(bd_expos[[#This Row],[Numéro CAS]],Tableau2[#All],3,FALSE),\"\")","v":""},{"$f":"IFERROR(VLOOKUP(bd_expos[[#This Row],[Numéro CAS]],Tableau2[#All],4,FALSE),\"\")","v":""},null,null,null,null,null,{"$f":"IF('Liste nominative CMR'!B46='Fiche individuelle CMR'!$C$8,MAX($P$8:P45)+1,\"\")","v":38}]
[{"$f":"IF(COUNTIF(B$8:B46,B47)>0,\"\",MAX(A$8:A46)+1)","v":39},null,null,null,{"$f":"IF(COUNTIF(F$8:F46,F47)>0,\"\",MAX(E$8:E46)+1)","v":39},null,null,{"$f":"IFERROR(VLOOKUP(bd_expos[[#This Row],[Numéro CAS]],Tableau2[#All],2,FALSE),\"\")","v":""},{"$f":"IFERROR(VLOOKUP(bd_expos[[#This Row],[Numéro CAS]],Tableau2[#All],3,FALSE),\"\")","v":""},{"$f":"IFERROR(VLOOKUP(bd_expos[[#This Row],[Numéro CAS]],Tableau2[#All],4,FALSE),\"\")","v":""},null,null,null,null,null,{"$f":"IF('Liste nominative CMR'!B47='Fiche individuelle CMR'!$C$8,MAX($P$8:P46)+1,\"\")","v":39}]
[{"$f":"IF(COUNTIF(B$8:B47,B48)>0,\"\",MAX(A$8:A47)+1)","v":40},null,null,null,{"$f":"IF(COUNTIF(F$8:F47,F48)>0,\"\",MAX(E$8:E47)+1)","v":40},null,null,{"$f":"IFERROR(VLOOKUP(bd_expos[[#This Row],[Numéro CAS]],Tableau2[#All],2,FALSE),\"\")","v":""},{"$f":"IFERROR(VLOOKUP(bd_expos[[#This Row],[Numéro CAS]],Tableau2[#All],3,FALSE),\"\")","v":""},{"$f":"IFERROR(VLOOKUP(bd_expos[[#This Row],[Numéro CAS]],Tableau2[#All],4,FALSE),\"\")","v":""},null,null,null,null,null,{"$f":"IF('Liste nominative CMR'!B48='Fiche individuelle CMR'!$C$8,MAX($P$8:P47)+1,\"\")","v":40}]
[{"$f":"IF(COUNTIF(B$8:B48,B49)>0,\"\",MAX(A$8:A48)+1)","v":41},null,null,null,{"$f":"IF(COUNTIF(F$8:F48,F49)>0,\"\",MAX(E$8:E48)+1)","v":41},null,null,{"$f":"IFERROR(VLOOKUP(bd_expos[[#This Row],[Numéro CAS]],Tableau2[#All],2,FALSE),\"\")","v":""},{"$f":"IFERROR(VLOOKUP(bd_expos[[#This Row],[Numéro CAS]],Tableau2[#All],3,FALSE),\"\")","v":""},{"$f":"IFERROR(VLOOKUP(bd_expos[[#This Row],[Numéro CAS]],Tableau2[#All],4,FALSE),\"\")","v":""},null,null,null,null,null,{"$f":"IF('Liste nominative CMR'!B49='Fiche individuelle CMR'!$C$8,MAX($P$8:P48)+1,\"\")","v":41}]
[{"$f":"IF(COUNTIF(B$8:B49,B50)>0,\"\",MAX(A$8:A49)+1)","v":42},null,null,null,{"$f":"IF(COUNTIF(F$8:F49,F50)>0,\"\",MAX(E$8:E49)+1)","v":42},null,null,{"$f":"IFERROR(VLOOKUP(bd_expos[[#This Row],[Numéro CAS]],Tableau2[#All],2,FALSE),\"\")","v":""},{"$f":"IFERROR(VLOOKUP(bd_expos[[#This Row],[Numéro CAS]],Tableau2[#All],3,FALSE),\"\")","v":""},{"$f":"IFERROR(VLOOKUP(bd_expos[[#This Row],[Numéro CAS]],Tableau2[#All],4,FALSE),\"\")","v":""},null,null,null,null,null,{"$f":"IF('Liste nominative CMR'!B50='Fiche individuelle CMR'!$C$8,MAX($P$8:P49)+1,\"\")","v":42}]
[{"$f":"IF(COUNTIF(B$8:B50,B51)>0,\"\",MAX(A$8:A50)+1)","v":43},null,null,null,{"$f":"IF(COUNTIF(F$8:F50,F51)>0,\"\",MAX(E$8:E50)+1)","v":43},null,null,{"$f":"IFERROR(VLOOKUP(bd_expos[[#This Row],[Numéro CAS]],Tableau2[#All],2,FALSE),\"\")","v":""},{"$f":"IFERROR(VLOOKUP(bd_expos[[#This Row],[Numéro CAS]],Tableau2[#All],3,FALSE),\"\")","v":""},{"$f":"IFERROR(VLOOKUP(bd_expos[[#This Row],[Numéro CAS]],Tableau2[#All],4,FALSE),\"\")","v":""},null,null,null,null,null,{"$f":"IF('Liste nominative CMR'!B51='Fiche individuelle CMR'!$C$8,MAX($P$8:P50)+1,\"\")","v":43}]
[{"$f":"IF(COUNTIF(B$8:B51,B52)>0,\"\",MAX(A$8:A51)+1)","v":44},null,null,null,{"$f":"IF(COUNTIF(F$8:F51,F52)>0,\"\",MAX(E$8:E51)+1)","v":44},null,null,{"$f":"IFERROR(VLOOKUP(bd_expos[[#This Row],[Numéro CAS]],Tableau2[#All],2,FALSE),\"\")","v":""},{"$f":"IFERROR(VLOOKUP(bd_expos[[#This Row],[Numéro CAS]],Tableau2[#All],3,FALSE),\"\")","v":""},{"$f":"IFERROR(VLOOKUP(bd_expos[[#This Row],[Numéro CAS]],Tableau2[#All],4,FALSE),\"\")","v":""},null,null,null,null,null,{"$f":"IF('Liste nominative CMR'!B52='Fiche individuelle CMR'!$C$8,MAX($P$8:P51)+1,\"\")","v":44}]
[{"$f":"IF(COUNTIF(B$8:B52,B53)>0,\"\",MAX(A$8:A52)+1)","v":45},null,null,null,{"$f":"IF(COUNTIF(F$8:F52,F53)>0,\"\",MAX(E$8:E52)+1)","v":45},null,null,{"$f":"IFERROR(VLOOKUP(bd_expos[[#This Row],[Numéro CAS]],Tableau2[#All],2,FALSE),\"\")","v":""},{"$f":"IFERROR(VLOOKUP(bd_expos[[#This Row],[Numéro CAS]],Tableau2[#All],3,FALSE),\"\")","v":""},{"$f":"IFERROR(VLOOKUP(bd_expos[[#This Row],[Numéro CAS]],Tableau2[#All],4,FALSE),\"\")","v":""},null,null,null,null,null,{"$f":"IF('Liste nominative CMR'!B53='Fiche individuelle CMR'!$C$8,MAX($P$8:P52)+1,\"\")","v":45}]
[{"$f":"IF(COUNTIF(B$8:B53,B54)>0,\"\",MAX(A$8:A53)+1)","v":46},null,null,null,{"$f":"IF(COUNTIF(F$8:F53,F54)>0,\"\",MAX(E$8:E53)+1)","v":46},null,null,{"$f":"IFERROR(VLOOKUP(bd_expos[[#This Row],[Numéro CAS]],Tableau2[#All],2,FALSE),\"\")","v":""},{"$f":"IFERROR(VLOOKUP(bd_expos[[#This Row],[Numéro CAS]],Tableau2[#All],3,FALSE),\"\")","v":""},{"$f":"IFERROR(VLOOKUP(bd_expos[[#This Row],[Numéro CAS]],Tableau2[#All],4,FALSE),\"\")","v":""},null,null,null,null,null,{"$f":"IF('Liste nominative CMR'!B54='Fiche individuelle CMR'!$C$8,MAX($P$8:P53)+1,\"\")","v":46}]
[{"$f":"IF(COUNTIF(B$8:B54,B55)>0,\"\",MAX(A$8:A54)+1)","v":47},null,null,null,{"$f":"IF(COUNTIF(F$8:F54,F55)>0,\"\",MAX(E$8:E54)+1)","v":47},null,null,{"$f":"IFERROR(VLOOKUP(bd_expos[[#This Row],[Numéro CAS]],Tableau2[#All],2,FALSE),\"\")","v":""},{"$f":"IFERROR(VLOOKUP(bd_expos[[#This Row],[Numéro CAS]],Tableau2[#All],3,FALSE),\"\")","v":""},{"$f":"IFERROR(VLOOKUP(bd_expos[[#This Row],[Numéro CAS]],Tableau2[#All],4,FALSE),\"\")","v":""},null,null,null,null,null,{"$f":"IF('Liste nominative CMR'!B55='Fiche individuelle CMR'!$C$8,MAX($P$8:P54)+1,\"\")","v":47}]
[{"$f":"IF(COUNTIF(B$8:B55,B56)>0,\"\",MAX(A$8:A55)+1)","v":48},null,null,null,{"$f":"IF(COUNTIF(F$8:F55,F56)>0,\"\",MAX(E$8:E55)+1)","v":48},null,null,{"$f":"IFERROR(VLOOKUP(bd_expos[[#This Row],[Numéro CAS]],Tableau2[#All],2,FALSE),\"\")","v":""},{"$f":"IFERROR(VLOOKUP(bd_expos[[#This Row],[Numéro CAS]],Tableau2[#All],3,FALSE),\"\")","v":""},{"$f":"IFERROR(VLOOKUP(bd_expos[[#This Row],[Numéro CAS]],Tableau2[#All],4,FALSE),\"\")","v":""},null,null,null,null,null,{"$f":"IF('Liste nominative CMR'!B56='Fiche individuelle CMR'!$C$8,MAX($P$8:P55)+1,\"\")","v":48}]
[{"$f":"IF(COUNTIF(B$8:B56,B57)>0,\"\",MAX(A$8:A56)+1)","v":49},null,null,null,{"$f":"IF(COUNTIF(F$8:F56,F57)>0,\"\",MAX(E$8:E56)+1)","v":49},null,null,{"$f":"IFERROR(VLOOKUP(bd_expos[[#This Row],[Numéro CAS]],Tableau2[#All],2,FALSE),\"\")","v":""},{"$f":"IFERROR(VLOOKUP(bd_expos[[#This Row],[Numéro CAS]],Tableau2[#All],3,FALSE),\"\")","v":""},{"$f":"IFERROR(VLOOKUP(bd_expos[[#This Row],[Numéro CAS]],Tableau2[#All],4,FALSE),\"\")","v":""},null,null,null,null,null,{"$f":"IF('Liste nominative CMR'!B57='Fiche individuelle CMR'!$C$8,MAX($P$8:P56)+1,\"\")","v":49}]
[{"$f":"IF(COUNTIF(B$8:B57,B58)>0,\"\",MAX(A$8:A57)+1)","v":50},null,null,null,{"$f":"IF(COUNTIF(F$8:F57,F58)>0,\"\",MAX(E$8:E57)+1)","v":50},null,null,{"$f":"IFERROR(VLOOKUP(bd_expos[[#This Row],[Numéro CAS]],Tableau2[#All],2,FALSE),\"\")","v":""},{"$f":"IFERROR(VLOOKUP(bd_expos[[#This Row],[Numéro CAS]],Tableau2[#All],3,FALSE),\"\")","v":""},{"$f":"IFERROR(VLOOKUP(bd_expos[[#This Row],[Numéro CAS]],Tableau2[#All],4,FALSE),\"\")","v":""},null,null,null,null,null,{"$f":"IF('Liste nominative CMR'!B58='Fiche individuelle CMR'!$C$8,MAX($P$8:P57)+1,\"\")","v":50}]
[{"$f":"IF(COUNTIF(B$8:B58,B59)>0,\"\",MAX(A$8:A58)+1)","v":51},null,null,null,{"$f":"IF(COUNTIF(F$8:F58,F59)>0,\"\",MAX(E$8:E58)+1)","v":51},null,null,{"$f":"IFERROR(VLOOKUP(bd_expos[[#This Row],[Numéro CAS]],Tableau2[#All],2,FALSE),\"\")","v":""},{"$f":"IFERROR(VLOOKUP(bd_expos[[#This Row],[Numéro CAS]],Tableau2[#All],3,FALSE),\"\")","v":""},{"$f":"IFERROR(VLOOKUP(bd_expos[[#This Row],[Numéro CAS]],Tableau2[#All],4,FALSE),\"\")","v":""},null,null,null,null,null,{"$f":"IF('Liste nominative CMR'!B59='Fiche individuelle CMR'!$C$8,MAX($P$8:P58)+1,\"\")","v":51}]
[{"$f":"IF(COUNTIF(B$8:B59,B60)>0,\"\",MAX(A$8:A59)+1)","v":52},null,null,null,{"$f":"IF(COUNTIF(F$8:F59,F60)>0,\"\",MAX(E$8:E59)+1)","v":52},null,null,{"$f":"IFERROR(VLOOKUP(bd_expos[[#This Row],[Numéro CAS]],Tableau2[#All],2,FALSE),\"\")","v":""},{"$f":"IFERROR(VLOOKUP(bd_expos[[#This Row],[Numéro CAS]],Tableau2[#All],3,FALSE),\"\")","v":""},{"$f":"IFERROR(VLOOKUP(bd_expos[[#This Row],[Numéro CAS]],Tableau2[#All],4,FALSE),\"\")","v":""},null,null,null,null,null,{"$f":"IF('Liste nominative CMR'!B60='Fiche individuelle CMR'!$C$8,MAX($P$8:P59)+1,\"\")","v":52}]
[{"$f":"IF(COUNTIF(B$8:B60,B61)>0,\"\",MAX(A$8:A60)+1)","v":53},null,null,null,{"$f":"IF(COUNTIF(F$8:F60,F61)>0,\"\",MAX(E$8:E60)+1)","v":53},null,null,{"$f":"IFERROR(VLOOKUP(bd_expos[[#This Row],[Numéro CAS]],Tableau2[#All],2,FALSE),\"\")","v":""},{"$f":"IFERROR(VLOOKUP(bd_expos[[#This Row],[Numéro CAS]],Tableau2[#All],3,FALSE),\"\")","v":""},{"$f":"IFERROR(VLOOKUP(bd_expos[[#This Row],[Numéro CAS]],Tableau2[#All],4,FALSE),\"\")","v":""},null,null,null,null,null,{"$f":"IF('Liste nominative CMR'!B61='Fiche individuelle CMR'!$C$8,MAX($P$8:P60)+1,\"\")","v":53}]
[{"$f":"IF(COUNTIF(B$8:B61,B62)>0,\"\",MAX(A$8:A61)+1)","v":54},null,null,null,{"$f":"IF(COUNTIF(F$8:F61,F62)>0,\"\",MAX(E$8:E61)+1)","v":54},null,null,{"$f":"IFERROR(VLOOKUP(bd_expos[[#This Row],[Numéro CAS]],Tableau2[#All],2,FALSE),\"\")","v":""},{"$f":"IFERROR(VLOOKUP(bd_expos[[#This Row],[Numéro CAS]],Tableau2[#All],3,FALSE),\"\")","v":""},{"$f":"IFERROR(VLOOKUP(bd_expos[[#This Row],[Numéro CAS]],Tableau2[#All],4,FALSE),\"\")","v":""},null,null,null,null,null,{"$f":"IF('Liste nominative CMR'!B62='Fiche individuelle CMR'!$C$8,MAX($P$8:P61)+1,\"\")","v":54}]
[{"$f":"IF(COUNTIF(B$8:B62,B63)>0,\"\",MAX(A$8:A62)+1)","v":55},null,null,null,{"$f":"IF(COUNTIF(F$8:F62,F63)>0,\"\",MAX(E$8:E62)+1)","v":55},null,null,{"$f":"IFERROR(VLOOKUP(bd_expos[[#This Row],[Numéro CAS]],Tableau2[#All],2,FALSE),\"\")","v":""},{"$f":"IFERROR(VLOOKUP(bd_expos[[#This Row],[Numéro CAS]],Tableau2[#All],3,FALSE),\"\")","v":""},{"$f":"IFERROR(VLOOKUP(bd_expos[[#This Row],[Numéro CAS]],Tableau2[#All],4,FALSE),\"\")","v":""},null,null,null,null,null,{"$f":"IF('Liste nominative CMR'!B63='Fiche individuelle CMR'!$C$8,MAX($P$8:P62)+1,\"\")","v":55}]
[{"$f":"IF(COUNTIF(B$8:B63,B64)>0,\"\",MAX(A$8:A63)+1)","v":56},null,null,null,{"$f":"IF(COUNTIF(F$8:F63,F64)>0,\"\",MAX(E$8:E63)+1)","v":56},null,null,{"$f":"IFERROR(VLOOKUP(bd_expos[[#This Row],[Numéro CAS]],Tableau2[#All],2,FALSE),\"\")","v":""},{"$f":"IFERROR(VLOOKUP(bd_expos[[#This Row],[Numéro CAS]],Tableau2[#All],3,FALSE),\"\")","v":""},{"$f":"IFERROR(VLOOKUP(bd_expos[[#This Row],[Numéro CAS]],Tableau2[#All],4,FALSE),\"\")","v":""},null,null,null,null,null,{"$f":"IF('Liste nominative CMR'!B64='Fiche individuelle CMR'!$C$8,MAX($P$8:P63)+1,\"\")","v":56}]
[{"$f":"IF(COUNTIF(B$8:B64,B65)>0,\"\",MAX(A$8:A64)+1)","v":57},null,null,null,{"$f":"IF(COUNTIF(F$8:F64,F65)>0,\"\",MAX(E$8:E64)+1)","v":57},null,null,{"$f":"IFERROR(VLOOKUP(bd_expos[[#This Row],[Numéro CAS]],Tableau2[#All],2,FALSE),\"\")","v":""},{"$f":"IFERROR(VLOOKUP(bd_expos[[#This Row],[Numéro CAS]],Tableau2[#All],3,FALSE),\"\")","v":""},{"$f":"IFERROR(VLOOKUP(bd_expos[[#This Row],[Numéro CAS]],Tableau2[#All],4,FALSE),\"\")","v":""},null,null,null,null,null,{"$f":"IF('Liste nominative CMR'!B65='Fiche individuelle CMR'!$C$8,MAX($P$8:P64)+1,\"\")","v":57}]
[{"$f":"IF(COUNTIF(B$8:B65,B66)>0,\"\",MAX(A$8:A65)+1)","v":58},null,null,null,{"$f":"IF(COUNTIF(F$8:F65,F66)>0,\"\",MAX(E$8:E65)+1)","v":58},null,null,{"$f":"IFERROR(VLOOKUP(bd_expos[[#This Row],[Numéro CAS]],Tableau2[#All],2,FALSE),\"\")","v":""},{"$f":"IFERROR(VLOOKUP(bd_expos[[#This Row],[Numéro CAS]],Tableau2[#All],3,FALSE),\"\")","v":""},{"$f":"IFERROR(VLOOKUP(bd_expos[[#This Row],[Numéro CAS]],Tableau2[#All],4,FALSE),\"\")","v":""},null,null,null,null,null,{"$f":"IF('Liste nominative CMR'!B66='Fiche individuelle CMR'!$C$8,MAX($P$8:P65)+1,\"\")","v":58}]
[{"$f":"IF(COUNTIF(B$8:B66,B67)>0,\"\",MAX(A$8:A66)+1)","v":59},null,null,null,{"$f":"IF(COUNTIF(F$8:F66,F67)>0,\"\",MAX(E$8:E66)+1)","v":59},null,null,{"$f":"IFERROR(VLOOKUP(bd_expos[[#This Row],[Numéro CAS]],Tableau2[#All],2,FALSE),\"\")","v":""},{"$f":"IFERROR(VLOOKUP(bd_expos[[#This Row],[Numéro CAS]],Tableau2[#All],3,FALSE),\"\")","v":""},{"$f":"IFERROR(VLOOKUP(bd_expos[[#This Row],[Numéro CAS]],Tableau2[#All],4,FALSE),\"\")","v":""},null,null,null,null,null,{"$f":"IF('Liste nominative CMR'!B67='Fiche individuelle CMR'!$C$8,MAX($P$8:P66)+1,\"\")","v":59}]
[{"$f":"IF(COUNTIF(B$8:B67,B68)>0,\"\",MAX(A$8:A67)+1)","v":60},null,null,null,{"$f":"IF(COUNTIF(F$8:F67,F68)>0,\"\",MAX(E$8:E67)+1)","v":60},null,null,{"$f":"IFERROR(VLOOKUP(bd_expos[[#This Row],[Numéro CAS]],Tableau2[#All],2,FALSE),\"\")","v":""},{"$f":"IFERROR(VLOOKUP(bd_expos[[#This Row],[Numéro CAS]],Tableau2[#All],3,FALSE),\"\")","v":""},{"$f":"IFERROR(VLOOKUP(bd_expos[[#This Row],[Numéro CAS]],Tableau2[#All],4,FALSE),\"\")","v":""},null,null,null,null,null,{"$f":"IF('Liste nominative CMR'!B68='Fiche individuelle CMR'!$C$8,MAX($P$8:P67)+1,\"\")","v":60}]
[{"$f":"IF(COUNTIF(B$8:B68,B69)>0,\"\",MAX(A$8:A68)+1)","v":61},null,null,null,{"$f":"IF(COUNTIF(F$8:F68,F69)>0,\"\",MAX(E$8:E68)+1)","v":61},null,null,{"$f":"IFERROR(VLOOKUP(bd_expos[[#This Row],[Numéro CAS]],Tableau2[#All],2,FALSE),\"\")","v":""},{"$f":"IFERROR(VLOOKUP(bd_expos[[#This Row],[Numéro CAS]],Tableau2[#All],3,FALSE),\"\")","v":""},{"$f":"IFERROR(VLOOKUP(bd_expos[[#This Row],[Numéro CAS]],Tableau2[#All],4,FALSE),\"\")","v":""},null,null,null,null,null,{"$f":"IF('Liste nominative CMR'!B69='Fiche individuelle CMR'!$C$8,MAX($P$8:P68)+1,\"\")","v":61}]
[{"$f":"IF(COUNTIF(B$8:B69,B70)>0,\"\",MAX(A$8:A69)+1)","v":62},null,null,null,{"$f":"IF(COUNTIF(F$8:F69,F70)>0,\"\",MAX(E$8:E69)+1)","v":62},null,null,{"$f":"IFERROR(VLOOKUP(bd_expos[[#This Row],[Numéro CAS]],Tableau2[#All],2,FALSE),\"\")","v":""},{"$f":"IFERROR(VLOOKUP(bd_expos[[#This Row],[Numéro CAS]],Tableau2[#All],3,FALSE),\"\")","v":""},{"$f":"IFERROR(VLOOKUP(bd_expos[[#This Row],[Numéro CAS]],Tableau2[#All],4,FALSE),\"\")","v":""},null,null,null,null,null,{"$f":"IF('Liste nominative CMR'!B70='Fiche individuelle CMR'!$C$8,MAX($P$8:P69)+1,\"\")","v":62}]
[{"$f":"IF(COUNTIF(B$8:B70,B71)>0,\"\",MAX(A$8:A70)+1)","v":63},null,null,null,{"$f":"IF(COUNTIF(F$8:F70,F71)>0,\"\",MAX(E$8:E70)+1)","v":63},null,null,{"$f":"IFERROR(VLOOKUP(bd_expos[[#This Row],[Numéro CAS]],Tableau2[#All],2,FALSE),\"\")","v":""},{"$f":"IFERROR(VLOOKUP(bd_expos[[#This Row],[Numéro CAS]],Tableau2[#All],3,FALSE),\"\")","v":""},{"$f":"IFERROR(VLOOKUP(bd_expos[[#This Row],[Numéro CAS]],Tableau2[#All],4,FALSE),\"\")","v":""},null,null,null,null,null,{"$f":"IF('Liste nominative CMR'!B71='Fiche individuelle CMR'!$C$8,MAX($P$8:P70)+1,\"\")","v":63}]
[{"$f":"IF(COUNTIF(B$8:B71,B72)>0,\"\",MAX(A$8:A71)+1)","v":64},null,null,null,{"$f":"IF(COUNTIF(F$8:F71,F72)>0,\"\",MAX(E$8:E71)+1)","v":64},null,null,{"$f":"IFERROR(VLOOKUP(bd_expos[[#This Row],[Numéro CAS]],Tableau2[#All],2,FALSE),\"\")","v":""},{"$f":"IFERROR(VLOOKUP(bd_expos[[#This Row],[Numéro CAS]],Tableau2[#All],3,FALSE),\"\")","v":""},{"$f":"IFERROR(VLOOKUP(bd_expos[[#This Row],[Numéro CAS]],Tableau2[#All],4,FALSE),\"\")","v":""},null,null,null,null,null,{"$f":"IF('Liste nominative CMR'!B72='Fiche individuelle CMR'!$C$8,MAX($P$8:P71)+1,\"\")","v":64}]
[{"$f":"IF(COUNTIF(B$8:B72,B73)>0,\"\",MAX(A$8:A72)+1)","v":65},null,null,null,{"$f":"IF(COUNTIF(F$8:F72,F73)>0,\"\",MAX(E$8:E72)+1)","v":65},null,null,{"$f":"IFERROR(VLOOKUP(bd_expos[[#This Row],[Numéro CAS]],Tableau2[#All],2,FALSE),\"\")","v":""},{"$f":"IFERROR(VLOOKUP(bd_expos[[#This Row],[Numéro CAS]],Tableau2[#All],3,FALSE),\"\")","v":""},{"$f":"IFERROR(VLOOKUP(bd_expos[[#This Row],[Numéro CAS]],Tableau2[#All],4,FALSE),\"\")","v":""},null,null,null,null,null,{"$f":"IF('Liste nominative CMR'!B73='Fiche individuelle CMR'!$C$8,MAX($P$8:P72)+1,\"\")","v":65}]
[{"$f":"IF(COUNTIF(B$8:B73,B74)>0,\"\",MAX(A$8:A73)+1)","v":66},null,null,null,{"$f":"IF(COUNTIF(F$8:F73,F74)>0,\"\",MAX(E$8:E73)+1)","v":66},null,null,{"$f":"IFERROR(VLOOKUP(bd_expos[[#This Row],[Numéro CAS]],Tableau2[#All],2,FALSE),\"\")","v":""},{"$f":"IFERROR(VLOOKUP(bd_expos[[#This Row],[Numéro CAS]],Tableau2[#All],3,FALSE),\"\")","v":""},{"$f":"IFERROR(VLOOKUP(bd_expos[[#This Row],[Numéro CAS]],Tableau2[#All],4,FALSE),\"\")","v":""},null,null,null,null,null,{"$f":"IF('Liste nominative CMR'!B74='Fiche individuelle CMR'!$C$8,MAX($P$8:P73)+1,\"\")","v":66}]
[{"$f":"IF(COUNTIF(B$8:B74,B75)>0,\"\",MAX(A$8:A74)+1)","v":67},null,null,null,{"$f":"IF(COUNTIF(F$8:F74,F75)>0,\"\",MAX(E$8:E74)+1)","v":67},null,null,{"$f":"IFERROR(VLOOKUP(bd_expos[[#This Row],[Numéro CAS]],Tableau2[#All],2,FALSE),\"\")","v":""},{"$f":"IFERROR(VLOOKUP(bd_expos[[#This Row],[Numéro CAS]],Tableau2[#All],3,FALSE),\"\")","v":""},{"$f":"IFERROR(VLOOKUP(bd_expos[[#This Row],[Numéro CAS]],Tableau2[#All],4,FALSE),\"\")","v":""},null,null,null,null,null,{"$f":"IF('Liste nominative CMR'!B75='Fiche individuelle CMR'!$C$8,MAX($P$8:P74)+1,\"\")","v":67}]
[{"$f":"IF(COUNTIF(B$8:B75,B76)>0,\"\",MAX(A$8:A75)+1)","v":68},null,null,null,{"$f":"IF(COUNTIF(F$8:F75,F76)>0,\"\",MAX(E$8:E75)+1)","v":68},null,null,{"$f":"IFERROR(VLOOKUP(bd_expos[[#This Row],[Numéro CAS]],Tableau2[#All],2,FALSE),\"\")","v":""},{"$f":"IFERROR(VLOOKUP(bd_expos[[#This Row],[Numéro CAS]],Tableau2[#All],3,FALSE),\"\")","v":""},{"$f":"IFERROR(VLOOKUP(bd_expos[[#This Row],[Numéro CAS]],Tableau2[#All],4,FALSE),\"\")","v":""},null,null,null,null,null,{"$f":"IF('Liste nominative CMR'!B76='Fiche individuelle CMR'!$C$8,MAX($P$8:P75)+1,\"\")","v":68}]
[{"$f":"IF(COUNTIF(B$8:B76,B77)>0,\"\",MAX(A$8:A76)+1)","v":69},null,null,null,{"$f":"IF(COUNTIF(F$8:F76,F77)>0,\"\",MAX(E$8:E76)+1)","v":69},null,null,{"$f":"IFERROR(VLOOKUP(bd_expos[[#This Row],[Numéro CAS]],Tableau2[#All],2,FALSE),\"\")","v":""},{"$f":"IFERROR(VLOOKUP(bd_expos[[#This Row],[Numéro CAS]],Tableau2[#All],3,FALSE),\"\")","v":""},{"$f":"IFERROR(VLOOKUP(bd_expos[[#This Row],[Numéro CAS]],Tableau2[#All],4,FALSE),\"\")","v":""},null,null,null,null,null,{"$f":"IF('Liste nominative CMR'!B77='Fiche individuelle CMR'!$C$8,MAX($P$8:P76)+1,\"\")","v":69}]
[{"$f":"IF(COUNTIF(B$8:B77,B78)>0,\"\",MAX(A$8:A77)+1)","v":70},null,null,null,{"$f":"IF(COUNTIF(F$8:F77,F78)>0,\"\",MAX(E$8:E77)+1)","v":70},null,null,{"$f":"IFERROR(VLOOKUP(bd_expos[[#This Row],[Numéro CAS]],Tableau2[#All],2,FALSE),\"\")","v":""},{"$f":"IFERROR(VLOOKUP(bd_expos[[#This Row],[Numéro CAS]],Tableau2[#All],3,FALSE),\"\")","v":""},{"$f":"IFERROR(VLOOKUP(bd_expos[[#This Row],[Numéro CAS]],Tableau2[#All],4,FALSE),\"\")","v":""},null,null,null,null,null,{"$f":"IF('Liste nominative CMR'!B78='Fiche individuelle CMR'!$C$8,MAX($P$8:P77)+1,\"\")","v":70}]
[{"$f":"IF(COUNTIF(B$8:B78,B79)>0,\"\",MAX(A$8:A78)+1)","v":71},null,null,null,{"$f":"IF(COUNTIF(F$8:F78,F79)>0,\"\",MAX(E$8:E78)+1)","v":71},null,null,{"$f":"IFERROR(VLOOKUP(bd_expos[[#This Row],[Numéro CAS]],Tableau2[#All],2,FALSE),\"\")","v":""},{"$f":"IFERROR(VLOOKUP(bd_expos[[#This Row],[Numéro CAS]],Tableau2[#All],3,FALSE),\"\")","v":""},{"$f":"IFERROR(VLOOKUP(bd_expos[[#This Row],[Numéro CAS]],Tableau2[#All],4,FALSE),\"\")","v":""},null,null,null,null,null,{"$f":"IF('Liste nominative CMR'!B79='Fiche individuelle CMR'!$C$8,MAX($P$8:P78)+1,\"\")","v":71}]
[{"$f":"IF(COUNTIF(B$8:B79,B80)>0,\"\",MAX(A$8:A79)+1)","v":72},null,null,null,{"$f":"IF(COUNTIF(F$8:F79,F80)>0,\"\",MAX(E$8:E79)+1)","v":72},null,null,{"$f":"IFERROR(VLOOKUP(bd_expos[[#This Row],[Numéro CAS]],Tableau2[#All],2,FALSE),\"\")","v":""},{"$f":"IFERROR(VLOOKUP(bd_expos[[#This Row],[Numéro CAS]],Tableau2[#All],3,FALSE),\"\")","v":""},{"$f":"IFERROR(VLOOKUP(bd_expos[[#This Row],[Numéro CAS]],Tableau2[#All],4,FALSE),\"\")","v":""},null,null,null,null,null,{"$f":"IF('Liste nominative CMR'!B80='Fiche individuelle CMR'!$C$8,MAX($P$8:P79)+1,\"\")","v":72}]
[{"$f":"IF(COUNTIF(B$8:B80,B81)>0,\"\",MAX(A$8:A80)+1)","v":73},null,null,null,{"$f":"IF(COUNTIF(F$8:F80,F81)>0,\"\",MAX(E$8:E80)+1)","v":73},null,null,{"$f":"IFERROR(VLOOKUP(bd_expos[[#This Row],[Numéro CAS]],Tableau2[#All],2,FALSE),\"\")","v":""},{"$f":"IFERROR(VLOOKUP(bd_expos[[#This Row],[Numéro CAS]],Tableau2[#All],3,FALSE),\"\")","v":""},{"$f":"IFERROR(VLOOKUP(bd_expos[[#This Row],[Numéro CAS]],Tableau2[#All],4,FALSE),\"\")","v":""},null,null,null,null,null,{"$f":"IF('Liste nominative CMR'!B81='Fiche individuelle CMR'!$C$8,MAX($P$8:P80)+1,\"\")","v":73}]
[{"$f":"IF(COUNTIF(B$8:B81,B82)>0,\"\",MAX(A$8:A81)+1)","v":74},null,null,null,{"$f":"IF(COUNTIF(F$8:F81,F82)>0,\"\",MAX(E$8:E81)+1)","v":74},null,null,{"$f":"IFERROR(VLOOKUP(bd_expos[[#This Row],[Numéro CAS]],Tableau2[#All],2,FALSE),\"\")","v":""},{"$f":"IFERROR(VLOOKUP(bd_expos[[#This Row],[Numéro CAS]],Tableau2[#All],3,FALSE),\"\")","v":""},{"$f":"IFERROR(VLOOKUP(bd_expos[[#This Row],[Numéro CAS]],Tableau2[#All],4,FALSE),\"\")","v":""},null,null,null,null,null,{"$f":"IF('Liste nominative CMR'!B82='Fiche individuelle CMR'!$C$8,MAX($P$8:P81)+1,\"\")","v":74}]
[{"$f":"IF(COUNTIF(B$8:B82,B83)>0,\"\",MAX(A$8:A82)+1)","v":75},null,null,null,{"$f":"IF(COUNTIF(F$8:F82,F83)>0,\"\",MAX(E$8:E82)+1)","v":75},null,null,{"$f":"IFERROR(VLOOKUP(bd_expos[[#This Row],[Numéro CAS]],Tableau2[#All],2,FALSE),\"\")","v":""},{"$f":"IFERROR(VLOOKUP(bd_expos[[#This Row],[Numéro CAS]],Tableau2[#All],3,FALSE),\"\")","v":""},{"$f":"IFERROR(VLOOKUP(bd_expos[[#This Row],[Numéro CAS]],Tableau2[#All],4,FALSE),\"\")","v":""},null,null,null,null,null,{"$f":"IF('Liste nominative CMR'!B83='Fiche individuelle CMR'!$C$8,MAX($P$8:P82)+1,\"\")","v":75}]
[{"$f":"IF(COUNTIF(B$8:B83,B84)>0,\"\",MAX(A$8:A83)+1)","v":76},null,null,null,{"$f":"IF(COUNTIF(F$8:F83,F84)>0,\"\",MAX(E$8:E83)+1)","v":76},null,null,{"$f":"IFERROR(VLOOKUP(bd_expos[[#This Row],[Numéro CAS]],Tableau2[#All],2,FALSE),\"\")","v":""},{"$f":"IFERROR(VLOOKUP(bd_expos[[#This Row],[Numéro CAS]],Tableau2[#All],3,FALSE),\"\")","v":""},{"$f":"IFERROR(VLOOKUP(bd_expos[[#This Row],[Numéro CAS]],Tableau2[#All],4,FALSE),\"\")","v":""},null,null,null,null,null,{"$f":"IF('Liste nominative CMR'!B84='Fiche individuelle CMR'!$C$8,MAX($P$8:P83)+1,\"\")","v":76}]
[{"$f":"IF(COUNTIF(B$8:B84,B85)>0,\"\",MAX(A$8:A84)+1)","v":77},null,null,null,{"$f":"IF(COUNTIF(F$8:F84,F85)>0,\"\",MAX(E$8:E84)+1)","v":77},null,null,{"$f":"IFERROR(VLOOKUP(bd_expos[[#This Row],[Numéro CAS]],Tableau2[#All],2,FALSE),\"\")","v":""},{"$f":"IFERROR(VLOOKUP(bd_expos[[#This Row],[Numéro CAS]],Tableau2[#All],3,FALSE),\"\")","v":""},{"$f":"IFERROR(VLOOKUP(bd_expos[[#This Row],[Numéro CAS]],Tableau2[#All],4,FALSE),\"\")","v":""},null,null,null,null,null,{"$f":"IF('Liste nominative CMR'!B85='Fiche individuelle CMR'!$C$8,MAX($P$8:P84)+1,\"\")","v":77}]
[{"$f":"IF(COUNTIF(B$8:B85,B86)>0,\"\",MAX(A$8:A85)+1)","v":78},null,null,null,{"$f":"IF(COUNTIF(F$8:F85,F86)>0,\"\",MAX(E$8:E85)+1)","v":78},null,null,{"$f":"IFERROR(VLOOKUP(bd_expos[[#This Row],[Numéro CAS]],Tableau2[#All],2,FALSE),\"\")","v":""},{"$f":"IFERROR(VLOOKUP(bd_expos[[#This Row],[Numéro CAS]],Tableau2[#All],3,FALSE),\"\")","v":""},{"$f":"IFERROR(VLOOKUP(bd_expos[[#This Row],[Numéro CAS]],Tableau2[#All],4,FALSE),\"\")","v":""},null,null,null,null,null,{"$f":"IF('Liste nominative CMR'!B86='Fiche individuelle CMR'!$C$8,MAX($P$8:P85)+1,\"\")","v":78}]
[{"$f":"IF(COUNTIF(B$8:B86,B87)>0,\"\",MAX(A$8:A86)+1)","v":79},null,null,null,{"$f":"IF(COUNTIF(F$8:F86,F87)>0,\"\",MAX(E$8:E86)+1)","v":79},null,null,{"$f":"IFERROR(VLOOKUP(bd_expos[[#This Row],[Numéro CAS]],Tableau2[#All],2,FALSE),\"\")","v":""},{"$f":"IFERROR(VLOOKUP(bd_expos[[#This Row],[Numéro CAS]],Tableau2[#All],3,FALSE),\"\")","v":""},{"$f":"IFERROR(VLOOKUP(bd_expos[[#This Row],[Numéro CAS]],Tableau2[#All],4,FALSE),\"\")","v":""},null,null,null,null,null,{"$f":"IF('Liste nominative CMR'!B87='Fiche individuelle CMR'!$C$8,MAX($P$8:P86)+1,\"\")","v":79}]
[{"$f":"IF(COUNTIF(B$8:B87,B88)>0,\"\",MAX(A$8:A87)+1)","v":80},null,null,null,{"$f":"IF(COUNTIF(F$8:F87,F88)>0,\"\",MAX(E$8:E87)+1)","v":80},null,null,{"$f":"IFERROR(VLOOKUP(bd_expos[[#This Row],[Numéro CAS]],Tableau2[#All],2,FALSE),\"\")","v":""},{"$f":"IFERROR(VLOOKUP(bd_expos[[#This Row],[Numéro CAS]],Tableau2[#All],3,FALSE),\"\")","v":""},{"$f":"IFERROR(VLOOKUP(bd_expos[[#This Row],[Numéro CAS]],Tableau2[#All],4,FALSE),\"\")","v":""},null,null,null,null,null,{"$f":"IF('Liste nominative CMR'!B88='Fiche individuelle CMR'!$C$8,MAX($P$8:P87)+1,\"\")","v":80}]
[{"$f":"IF(COUNTIF(B$8:B88,B89)>0,\"\",MAX(A$8:A88)+1)","v":81},null,null,null,{"$f":"IF(COUNTIF(F$8:F88,F89)>0,\"\",MAX(E$8:E88)+1)","v":81},null,null,{"$f":"IFERROR(VLOOKUP(bd_expos[[#This Row],[Numéro CAS]],Tableau2[#All],2,FALSE),\"\")","v":""},{"$f":"IFERROR(VLOOKUP(bd_expos[[#This Row],[Numéro CAS]],Tableau2[#All],3,FALSE),\"\")","v":""},{"$f":"IFERROR(VLOOKUP(bd_expos[[#This Row],[Numéro CAS]],Tableau2[#All],4,FALSE),\"\")","v":""},null,null,null,null,null,{"$f":"IF('Liste nominative CMR'!B89='Fiche individuelle CMR'!$C$8,MAX($P$8:P88)+1,\"\")","v":81}]
[{"$f":"IF(COUNTIF(B$8:B89,B90)>0,\"\",MAX(A$8:A89)+1)","v":82},null,null,null,{"$f":"IF(COUNTIF(F$8:F89,F90)>0,\"\",MAX(E$8:E89)+1)","v":82},null,null,{"$f":"IFERROR(VLOOKUP(bd_expos[[#This Row],[Numéro CAS]],Tableau2[#All],2,FALSE),\"\")","v":""},{"$f":"IFERROR(VLOOKUP(bd_expos[[#This Row],[Numéro CAS]],Tableau2[#All],3,FALSE),\"\")","v":""},{"$f":"IFERROR(VLOOKUP(bd_expos[[#This Row],[Numéro CAS]],Tableau2[#All],4,FALSE),\"\")","v":""},null,null,null,null,null,{"$f":"IF('Liste nominative CMR'!B90='Fiche individuelle CMR'!$C$8,MAX($P$8:P89)+1,\"\")","v":82}]
[{"$f":"IF(COUNTIF(B$8:B90,B91)>0,\"\",MAX(A$8:A90)+1)","v":83},null,null,null,{"$f":"IF(COUNTIF(F$8:F90,F91)>0,\"\",MAX(E$8:E90)+1)","v":83},null,null,{"$f":"IFERROR(VLOOKUP(bd_expos[[#This Row],[Numéro CAS]],Tableau2[#All],2,FALSE),\"\")","v":""},{"$f":"IFERROR(VLOOKUP(bd_expos[[#This Row],[Numéro CAS]],Tableau2[#All],3,FALSE),\"\")","v":""},{"$f":"IFERROR(VLOOKUP(bd_expos[[#This Row],[Numéro CAS]],Tableau2[#All],4,FALSE),\"\")","v":""},null,null,null,null,null,{"$f":"IF('Liste nominative CMR'!B91='Fiche individuelle CMR'!$C$8,MAX($P$8:P90)+1,\"\")","v":83}]
[{"$f":"IF(COUNTIF(B$8:B91,B92)>0,\"\",MAX(A$8:A91)+1)","v":84},null,null,null,{"$f":"IF(COUNTIF(F$8:F91,F92)>0,\"\",MAX(E$8:E91)+1)","v":84},null,null,{"$f":"IFERROR(VLOOKUP(bd_expos[[#This Row],[Numéro CAS]],Tableau2[#All],2,FALSE),\"\")","v":""},{"$f":"IFERROR(VLOOKUP(bd_expos[[#This Row],[Numéro CAS]],Tableau2[#All],3,FALSE),\"\")","v":""},{"$f":"IFERROR(VLOOKUP(bd_expos[[#This Row],[Numéro CAS]],Tableau2[#All],4,FALSE),\"\")","v":""},null,null,null,null,null,{"$f":"IF('Liste nominative CMR'!B92='Fiche individuelle CMR'!$C$8,MAX($P$8:P91)+1,\"\")","v":84}]
[{"$f":"IF(COUNTIF(B$8:B92,B93)>0,\"\",MAX(A$8:A92)+1)","v":85},null,null,null,{"$f":"IF(COUNTIF(F$8:F92,F93)>0,\"\",MAX(E$8:E92)+1)","v":85},null,null,{"$f":"IFERROR(VLOOKUP(bd_expos[[#This Row],[Numéro CAS]],Tableau2[#All],2,FALSE),\"\")","v":""},{"$f":"IFERROR(VLOOKUP(bd_expos[[#This Row],[Numéro CAS]],Tableau2[#All],3,FALSE),\"\")","v":""},{"$f":"IFERROR(VLOOKUP(bd_expos[[#This Row],[Numéro CAS]],Tableau2[#All],4,FALSE),\"\")","v":""},null,null,null,null,null,{"$f":"IF('Liste nominative CMR'!B93='Fiche individuelle CMR'!$C$8,MAX($P$8:P92)+1,\"\")","v":85}]
[{"$f":"IF(COUNTIF(B$8:B93,B94)>0,\"\",MAX(A$8:A93)+1)","v":86},null,null,null,{"$f":"IF(COUNTIF(F$8:F93,F94)>0,\"\",MAX(E$8:E93)+1)","v":86},null,null,{"$f":"IFERROR(VLOOKUP(bd_expos[[#This Row],[Numéro CAS]],Tableau2[#All],2,FALSE),\"\")","v":""},{"$f":"IFERROR(VLOOKUP(bd_expos[[#This Row],[Numéro CAS]],Tableau2[#All],3,FALSE),\"\")","v":""},{"$f":"IFERROR(VLOOKUP(bd_expos[[#This Row],[Numéro CAS]],Tableau2[#All],4,FALSE),\"\")","v":""},null,null,null,null,null,{"$f":"IF('Liste nominative CMR'!B94='Fiche individuelle CMR'!$C$8,MAX($P$8:P93)+1,\"\")","v":86}]
[{"$f":"IF(COUNTIF(B$8:B94,B95)>0,\"\",MAX(A$8:A94)+1)","v":87},null,null,null,{"$f":"IF(COUNTIF(F$8:F94,F95)>0,\"\",MAX(E$8:E94)+1)","v":87},null,null,{"$f":"IFERROR(VLOOKUP(bd_expos[[#This Row],[Numéro CAS]],Tableau2[#All],2,FALSE),\"\")","v":""},{"$f":"IFERROR(VLOOKUP(bd_expos[[#This Row],[Numéro CAS]],Tableau2[#All],3,FALSE),\"\")","v":""},{"$f":"IFERROR(VLOOKUP(bd_expos[[#This Row],[Numéro CAS]],Tableau2[#All],4,FALSE),\"\")","v":""},null,null,null,null,null,{"$f":"IF('Liste nominative CMR'!B95='Fiche individuelle CMR'!$C$8,MAX($P$8:P94)+1,\"\")","v":87}]
[{"$f":"IF(COUNTIF(B$8:B95,B96)>0,\"\",MAX(A$8:A95)+1)","v":88},null,null,null,{"$f":"IF(COUNTIF(F$8:F95,F96)>0,\"\",MAX(E$8:E95)+1)","v":88},null,null,{"$f":"IFERROR(VLOOKUP(bd_expos[[#This Row],[Numéro CAS]],Tableau2[#All],2,FALSE),\"\")","v":""},{"$f":"IFERROR(VLOOKUP(bd_expos[[#This Row],[Numéro CAS]],Tableau2[#All],3,FALSE),\"\")","v":""},{"$f":"IFERROR(VLOOKUP(bd_expos[[#This Row],[Numéro CAS]],Tableau2[#All],4,FALSE),\"\")","v":""},null,null,null,null,null,{"$f":"IF('Liste nominative CMR'!B96='Fiche individuelle CMR'!$C$8,MAX($P$8:P95)+1,\"\")","v":88}]
[{"$f":"IF(COUNTIF(B$8:B96,B97)>0,\"\",MAX(A$8:A96)+1)","v":89},null,null,null,{"$f":"IF(COUNTIF(F$8:F96,F97)>0,\"\",MAX(E$8:E96)+1)","v":89},null,null,{"$f":"IFERROR(VLOOKUP(bd_expos[[#This Row],[Numéro CAS]],Tableau2[#All],2,FALSE),\"\")","v":""},{"$f":"IFERROR(VLOOKUP(bd_expos[[#This Row],[Numéro CAS]],Tableau2[#All],3,FALSE),\"\")","v":""},{"$f":"IFERROR(VLOOKUP(bd_expos[[#This Row],[Numéro CAS]],Tableau2[#All],4,FALSE),\"\")","v":""},null,null,null,null,null,{"$f":"IF('Liste nominative CMR'!B97='Fiche individuelle CMR'!$C$8,MAX($P$8:P96)+1,\"\")","v":89}]
[{"$f":"IF(COUNTIF(B$8:B97,B98)>0,\"\",MAX(A$8:A97)+1)","v":90},null,null,null,{"$f":"IF(COUNTIF(F$8:F97,F98)>0,\"\",MAX(E$8:E97)+1)","v":90},null,null,{"$f":"IFERROR(VLOOKUP(bd_expos[[#This Row],[Numéro CAS]],Tableau2[#All],2,FALSE),\"\")","v":""},{"$f":"IFERROR(VLOOKUP(bd_expos[[#This Row],[Numéro CAS]],Tableau2[#All],3,FALSE),\"\")","v":""},{"$f":"IFERROR(VLOOKUP(bd_expos[[#This Row],[Numéro CAS]],Tableau2[#All],4,FALSE),\"\")","v":""},null,null,null,null,null,{"$f":"IF('Liste nominative CMR'!B98='Fiche individuelle CMR'!$C$8,MAX($P$8:P97)+1,\"\")","v":90}]
[{"$f":"IF(COUNTIF(B$8:B98,B99)>0,\"\",MAX(A$8:A98)+1)","v":91},null,null,null,{"$f":"IF(COUNTIF(F$8:F98,F99)>0,\"\",MAX(E$8:E98)+1)","v":91},null,null,{"$f":"IFERROR(VLOOKUP(bd_expos[[#This Row],[Numéro CAS]],Tableau2[#All],2,FALSE),\"\")","v":""},{"$f":"IFERROR(VLOOKUP(bd_expos[[#This Row],[Numéro CAS]],Tableau2[#All],3,FALSE),\"\")","v":""},{"$f":"IFERROR(VLOOKUP(bd_expos[[#This Row],[Numéro CAS]],Tableau2[#All],4,FALSE),\"\")","v":""},null,null,null,null,null,{"$f":"IF('Liste nominative CMR'!B99='Fiche individuelle CMR'!$C$8,MAX($P$8:P98)+1,\"\")","v":91}]
[{"$f":"IF(COUNTIF(B$8:B99,B100)>0,\"\",MAX(A$8:A99)+1)","v":92},null,null,null,{"$f":"IF(COUNTIF(F$8:F99,F100)>0,\"\",MAX(E$8:E99)+1)","v":92},null,null,{"$f":"IFERROR(VLOOKUP(bd_expos[[#This Row],[Numéro CAS]],Tableau2[#All],2,FALSE),\"\")","v":""},{"$f":"IFERROR(VLOOKUP(bd_expos[[#This Row],[Numéro CAS]],Tableau2[#All],3,FALSE),\"\")","v":""},{"$f":"IFERROR(VLOOKUP(bd_expos[[#This Row],[Numéro CAS]],Tableau2[#All],4,FALSE),\"\")","v":""},null,null,null,null,null,{"$f":"IF('Liste nominative CMR'!B100='Fiche individuelle CMR'!$C$8,MAX($P$8:P99)+1,\"\")","v":92}]
[{"$f":"IF(COUNTIF(B$8:B100,B101)>0,\"\",MAX(A$8:A100)+1)","v":93},null,null,null,{"$f":"IF(COUNTIF(F$8:F100,F101)>0,\"\",MAX(E$8:E100)+1)","v":93},null,null,{"$f":"IFERROR(VLOOKUP(bd_expos[[#This Row],[Numéro CAS]],Tableau2[#All],2,FALSE),\"\")","v":""},{"$f":"IFERROR(VLOOKUP(bd_expos[[#This Row],[Numéro CAS]],Tableau2[#All],3,FALSE),\"\")","v":""},{"$f":"IFERROR(VLOOKUP(bd_expos[[#This Row],[Numéro CAS]],Tableau2[#All],4,FALSE),\"\")","v":""},null,null,null,null,null,{"$f":"IF('Liste nominative CMR'!B101='Fiche individuelle CMR'!$C$8,MAX($P$8:P100)+1,\"\")","v":93}]
[{"$f":"IF(COUNTIF(B$8:B101,B102)>0,\"\",MAX(A$8:A101)+1)","v":94},null,null,null,{"$f":"IF(COUNTIF(F$8:F101,F102)>0,\"\",MAX(E$8:E101)+1)","v":94},null,null,{"$f":"IFERROR(VLOOKUP(bd_expos[[#This Row],[Numéro CAS]],Tableau2[#All],2,FALSE),\"\")","v":""},{"$f":"IFERROR(VLOOKUP(bd_expos[[#This Row],[Numéro CAS]],Tableau2[#All],3,FALSE),\"\")","v":""},{"$f":"IFERROR(VLOOKUP(bd_expos[[#This Row],[Numéro CAS]],Tableau2[#All],4,FALSE),\"\")","v":""},null,null,null,null,null,{"$f":"IF('Liste nominative CMR'!B102='Fiche individuelle CMR'!$C$8,MAX($P$8:P101)+1,\"\")","v":94}]
[{"$f":"IF(COUNTIF(B$8:B102,B103)>0,\"\",MAX(A$8:A102)+1)","v":95},null,null,null,{"$f":"IF(COUNTIF(F$8:F102,F103)>0,\"\",MAX(E$8:E102)+1)","v":95},null,null,{"$f":"IFERROR(VLOOKUP(bd_expos[[#This Row],[Numéro CAS]],Tableau2[#All],2,FALSE),\"\")","v":""},{"$f":"IFERROR(VLOOKUP(bd_expos[[#This Row],[Numéro CAS]],Tableau2[#All],3,FALSE),\"\")","v":""},{"$f":"IFERROR(VLOOKUP(bd_expos[[#This Row],[Numéro CAS]],Tableau2[#All],4,FALSE),\"\")","v":""},null,null,null,null,null,{"$f":"IF('Liste nominative CMR'!B103='Fiche individuelle CMR'!$C$8,MAX($P$8:P102)+1,\"\")","v":95}]
[{"$f":"IF(COUNTIF(B$8:B103,B104)>0,\"\",MAX(A$8:A103)+1)","v":96},null,null,null,{"$f":"IF(COUNTIF(F$8:F103,F104)>0,\"\",MAX(E$8:E103)+1)","v":96},null,null,{"$f":"IFERROR(VLOOKUP(bd_expos[[#This Row],[Numéro CAS]],Tableau2[#All],2,FALSE),\"\")","v":""},{"$f":"IFERROR(VLOOKUP(bd_expos[[#This Row],[Numéro CAS]],Tableau2[#All],3,FALSE),\"\")","v":""},{"$f":"IFERROR(VLOOKUP(bd_expos[[#This Row],[Numéro CAS]],Tableau2[#All],4,FALSE),\"\")","v":""},null,null,null,null,null,{"$f":"IF('Liste nominative CMR'!B104='Fiche individuelle CMR'!$C$8,MAX($P$8:P103)+1,\"\")","v":96}]
[{"$f":"IF(COUNTIF(B$8:B104,B105)>0,\"\",MAX(A$8:A104)+1)","v":97},null,null,null,{"$f":"IF(COUNTIF(F$8:F104,F105)>0,\"\",MAX(E$8:E104)+1)","v":97},null,null,{"$f":"IFERROR(VLOOKUP(bd_expos[[#This Row],[Numéro CAS]],Tableau2[#All],2,FALSE),\"\")","v":""},{"$f":"IFERROR(VLOOKUP(bd_expos[[#This Row],[Numéro CAS]],Tableau2[#All],3,FALSE),\"\")","v":""},{"$f":"IFERROR(VLOOKUP(bd_expos[[#This Row],[Numéro CAS]],Tableau2[#All],4,FALSE),\"\")","v":""},null,null,null,null,null,{"$f":"IF('Liste nominative CMR'!B105='Fiche individuelle CMR'!$C$8,MAX($P$8:P104)+1,\"\")","v":97}]
[{"$f":"IF(COUNTIF(B$8:B105,B106)>0,\"\",MAX(A$8:A105)+1)","v":98},null,null,null,{"$f":"IF(COUNTIF(F$8:F105,F106)>0,\"\",MAX(E$8:E105)+1)","v":98},null,null,{"$f":"IFERROR(VLOOKUP(bd_expos[[#This Row],[Numéro CAS]],Tableau2[#All],2,FALSE),\"\")","v":""},{"$f":"IFERROR(VLOOKUP(bd_expos[[#This Row],[Numéro CAS]],Tableau2[#All],3,FALSE),\"\")","v":""},{"$f":"IFERROR(VLOOKUP(bd_expos[[#This Row],[Numéro CAS]],Tableau2[#All],4,FALSE),\"\")","v":""},null,null,null,null,null,{"$f":"IF('Liste nominative CMR'!B106='Fiche individuelle CMR'!$C$8,MAX($P$8:P105)+1,\"\")","v":98}]
[{"$f":"IF(COUNTIF(B$8:B106,B107)>0,\"\",MAX(A$8:A106)+1)","v":99},null,null,null,{"$f":"IF(COUNTIF(F$8:F106,F107)>0,\"\",MAX(E$8:E106)+1)","v":99},null,null,{"$f":"IFERROR(VLOOKUP(bd_expos[[#This Row],[Numéro CAS]],Tableau2[#All],2,FALSE),\"\")","v":""},{"$f":"IFERROR(VLOOKUP(bd_expos[[#This Row],[Numéro CAS]],Tableau2[#All],3,FALSE),\"\")","v":""},{"$f":"IFERROR(VLOOKUP(bd_expos[[#This Row],[Numéro CAS]],Tableau2[#All],4,FALSE),\"\")","v":""},null,null,null,null,null,{"$f":"IF('Liste nominative CMR'!B107='Fiche individuelle CMR'!$C$8,MAX($P$8:P106)+1,\"\")","v":99}]
[{"$f":"IF(COUNTIF(B$8:B107,B108)>0,\"\",MAX(A$8:A107)+1)","v":100},null,null,null,{"$f":"IF(COUNTIF(F$8:F107,F108)>0,\"\",MAX(E$8:E107)+1)","v":100},null,null,{"$f":"IFERROR(VLOOKUP(bd_expos[[#This Row],[Numéro CAS]],Tableau2[#All],2,FALSE),\"\")","v":""},{"$f":"IFERROR(VLOOKUP(bd_expos[[#This Row],[Numéro CAS]],Tableau2[#All],3,FALSE),\"\")","v":""},{"$f":"IFERROR(VLOOKUP(bd_expos[[#This Row],[Numéro CAS]],Tableau2[#All],4,FALSE),\"\")","v":""},null,null,null,null,null,{"$f":"IF('Liste nominative CMR'!B108='Fiche individuelle CMR'!$C$8,MAX($P$8:P107)+1,\"\")","v":100}]
[{"$f":"IF(COUNTIF(B$8:B108,B109)>0,\"\",MAX(A$8:A108)+1)","v":101},null,null,null,{"$f":"IF(COUNTIF(F$8:F108,F109)>0,\"\",MAX(E$8:E108)+1)","v":101},null,null,{"$f":"IFERROR(VLOOKUP(bd_expos[[#This Row],[Numéro CAS]],Tableau2[#All],2,FALSE),\"\")","v":""},{"$f":"IFERROR(VLOOKUP(bd_expos[[#This Row],[Numéro CAS]],Tableau2[#All],3,FALSE),\"\")","v":""},{"$f":"IFERROR(VLOOKUP(bd_expos[[#This Row],[Numéro CAS]],Tableau2[#All],4,FALSE),\"\")","v":""},null,null,null,null,null,{"$f":"IF('Liste nominative CMR'!B109='Fiche individuelle CMR'!$C$8,MAX($P$8:P108)+1,\"\")","v":101}]
[{"$f":"IF(COUNTIF(B$8:B109,B110)>0,\"\",MAX(A$8:A109)+1)","v":102},null,null,null,{"$f":"IF(COUNTIF(F$8:F109,F110)>0,\"\",MAX(E$8:E109)+1)","v":102},null,null,{"$f":"IFERROR(VLOOKUP(bd_expos[[#This Row],[Numéro CAS]],Tableau2[#All],2,FALSE),\"\")","v":""},{"$f":"IFERROR(VLOOKUP(bd_expos[[#This Row],[Numéro CAS]],Tableau2[#All],3,FALSE),\"\")","v":""},{"$f":"IFERROR(VLOOKUP(bd_expos[[#This Row],[Numéro CAS]],Tableau2[#All],4,FALSE),\"\")","v":""},null,null,null,null,null,{"$f":"IF('Liste nominative CMR'!B110='Fiche individuelle CMR'!$C$8,MAX($P$8:P109)+1,\"\")","v":102}]
[{"$f":"IF(COUNTIF(B$8:B110,B111)>0,\"\",MAX(A$8:A110)+1)","v":103},null,null,null,{"$f":"IF(COUNTIF(F$8:F110,F111)>0,\"\",MAX(E$8:E110)+1)","v":103},null,null,{"$f":"IFERROR(VLOOKUP(bd_expos[[#This Row],[Numéro CAS]],Tableau2[#All],2,FALSE),\"\")","v":""},{"$f":"IFERROR(VLOOKUP(bd_expos[[#This Row],[Numéro CAS]],Tableau2[#All],3,FALSE),\"\")","v":""},{"$f":"IFERROR(VLOOKUP(bd_expos[[#This Row],[Numéro CAS]],Tableau2[#All],4,FALSE),\"\")","v":""},null,null,null,null,null,{"$f":"IF('Liste nominative CMR'!B111='Fiche individuelle CMR'!$C$8,MAX($P$8:P110)+1,\"\")","v":103}]
[{"$f":"IF(COUNTIF(B$8:B111,B112)>0,\"\",MAX(A$8:A111)+1)","v":104},null,null,null,{"$f":"IF(COUNTIF(F$8:F111,F112)>0,\"\",MAX(E$8:E111)+1)","v":104},null,null,{"$f":"IFERROR(VLOOKUP(bd_expos[[#This Row],[Numéro CAS]],Tableau2[#All],2,FALSE),\"\")","v":""},{"$f":"IFERROR(VLOOKUP(bd_expos[[#This Row],[Numéro CAS]],Tableau2[#All],3,FALSE),\"\")","v":""},{"$f":"IFERROR(VLOOKUP(bd_expos[[#This Row],[Numéro CAS]],Tableau2[#All],4,FALSE),\"\")","v":""},null,null,null,null,null,{"$f":"IF('Liste nominative CMR'!B112='Fiche individuelle CMR'!$C$8,MAX($P$8:P111)+1,\"\")","v":104}]
[{"$f":"IF(COUNTIF(B$8:B112,B113)>0,\"\",MAX(A$8:A112)+1)","v":105},null,null,null,{"$f":"IF(COUNTIF(F$8:F112,F113)>0,\"\",MAX(E$8:E112)+1)","v":105},null,null,{"$f":"IFERROR(VLOOKUP(bd_expos[[#This Row],[Numéro CAS]],Tableau2[#All],2,FALSE),\"\")","v":""},{"$f":"IFERROR(VLOOKUP(bd_expos[[#This Row],[Numéro CAS]],Tableau2[#All],3,FALSE),\"\")","v":""},{"$f":"IFERROR(VLOOKUP(bd_expos[[#This Row],[Numéro CAS]],Tableau2[#All],4,FALSE),\"\")","v":""},null,null,null,null,null,{"$f":"IF('Liste nominative CMR'!B113='Fiche individuelle CMR'!$C$8,MAX($P$8:P112)+1,\"\")","v":105}]
[{"$f":"IF(COUNTIF(B$8:B113,B114)>0,\"\",MAX(A$8:A113)+1)","v":106},null,null,null,{"$f":"IF(COUNTIF(F$8:F113,F114)>0,\"\",MAX(E$8:E113)+1)","v":106},null,null,{"$f":"IFERROR(VLOOKUP(bd_expos[[#This Row],[Numéro CAS]],Tableau2[#All],2,FALSE),\"\")","v":""},{"$f":"IFERROR(VLOOKUP(bd_expos[[#This Row],[Numéro CAS]],Tableau2[#All],3,FALSE),\"\")","v":""},{"$f":"IFERROR(VLOOKUP(bd_expos[[#This Row],[Numéro CAS]],Tableau2[#All],4,FALSE),\"\")","v":""},null,null,null,null,null,{"$f":"IF('Liste nominative CMR'!B114='Fiche individuelle CMR'!$C$8,MAX($P$8:P113)+1,\"\")","v":106}]
[{"$f":"IF(COUNTIF(B$8:B114,B115)>0,\"\",MAX(A$8:A114)+1)","v":107},null,null,null,{"$f":"IF(COUNTIF(F$8:F114,F115)>0,\"\",MAX(E$8:E114)+1)","v":107},null,null,{"$f":"IFERROR(VLOOKUP(bd_expos[[#This Row],[Numéro CAS]],Tableau2[#All],2,FALSE),\"\")","v":""},{"$f":"IFERROR(VLOOKUP(bd_expos[[#This Row],[Numéro CAS]],Tableau2[#All],3,FALSE),\"\")","v":""},{"$f":"IFERROR(VLOOKUP(bd_expos[[#This Row],[Numéro CAS]],Tableau2[#All],4,FALSE),\"\")","v":""},null,null,null,null,null,{"$f":"IF('Liste nominative CMR'!B115='Fiche individuelle CMR'!$C$8,MAX($P$8:P114)+1,\"\")","v":107}]
[{"$f":"IF(COUNTIF(B$8:B115,B116)>0,\"\",MAX(A$8:A115)+1)","v":108},null,null,null,{"$f":"IF(COUNTIF(F$8:F115,F116)>0,\"\",MAX(E$8:E115)+1)","v":108},null,null,{"$f":"IFERROR(VLOOKUP(bd_expos[[#This Row],[Numéro CAS]],Tableau2[#All],2,FALSE),\"\")","v":""},{"$f":"IFERROR(VLOOKUP(bd_expos[[#This Row],[Numéro CAS]],Tableau2[#All],3,FALSE),\"\")","v":""},{"$f":"IFERROR(VLOOKUP(bd_expos[[#This Row],[Numéro CAS]],Tableau2[#All],4,FALSE),\"\")","v":""},null,null,null,null,null,{"$f":"IF('Liste nominative CMR'!B116='Fiche individuelle CMR'!$C$8,MAX($P$8:P115)+1,\"\")","v":108}]
[{"$f":"IF(COUNTIF(B$8:B116,B117)>0,\"\",MAX(A$8:A116)+1)","v":109},null,null,null,{"$f":"IF(COUNTIF(F$8:F116,F117)>0,\"\",MAX(E$8:E116)+1)","v":109},null,null,{"$f":"IFERROR(VLOOKUP(bd_expos[[#This Row],[Numéro CAS]],Tableau2[#All],2,FALSE),\"\")","v":""},{"$f":"IFERROR(VLOOKUP(bd_expos[[#This Row],[Numéro CAS]],Tableau2[#All],3,FALSE),\"\")","v":""},{"$f":"IFERROR(VLOOKUP(bd_expos[[#This Row],[Numéro CAS]],Tableau2[#All],4,FALSE),\"\")","v":""},null,null,null,null,null,{"$f":"IF('Liste nominative CMR'!B117='Fiche individuelle CMR'!$C$8,MAX($P$8:P116)+1,\"\")","v":109}]
[{"$f":"IF(COUNTIF(B$8:B117,B118)>0,\"\",MAX(A$8:A117)+1)","v":110},null,null,null,{"$f":"IF(COUNTIF(F$8:F117,F118)>0,\"\",MAX(E$8:E117)+1)","v":110},null,null,{"$f":"IFERROR(VLOOKUP(bd_expos[[#This Row],[Numéro CAS]],Tableau2[#All],2,FALSE),\"\")","v":""},{"$f":"IFERROR(VLOOKUP(bd_expos[[#This Row],[Numéro CAS]],Tableau2[#All],3,FALSE),\"\")","v":""},{"$f":"IFERROR(VLOOKUP(bd_expos[[#This Row],[Numéro CAS]],Tableau2[#All],4,FALSE),\"\")","v":""},null,null,null,null,null,{"$f":"IF('Liste nominative CMR'!B118='Fiche individuelle CMR'!$C$8,MAX($P$8:P117)+1,\"\")","v":110}]
[{"$f":"IF(COUNTIF(B$8:B118,B119)>0,\"\",MAX(A$8:A118)+1)","v":111},null,null,null,{"$f":"IF(COUNTIF(F$8:F118,F119)>0,\"\",MAX(E$8:E118)+1)","v":111},null,null,{"$f":"IFERROR(VLOOKUP(bd_expos[[#This Row],[Numéro CAS]],Tableau2[#All],2,FALSE),\"\")","v":""},{"$f":"IFERROR(VLOOKUP(bd_expos[[#This Row],[Numéro CAS]],Tableau2[#All],3,FALSE),\"\")","v":""},{"$f":"IFERROR(VLOOKUP(bd_expos[[#This Row],[Numéro CAS]],Tableau2[#All],4,FALSE),\"\")","v":""},null,null,null,null,null,{"$f":"IF('Liste nominative CMR'!B119='Fiche individuelle CMR'!$C$8,MAX($P$8:P118)+1,\"\")","v":111}]
[{"$f":"IF(COUNTIF(B$8:B119,B120)>0,\"\",MAX(A$8:A119)+1)","v":112},null,null,null,{"$f":"IF(COUNTIF(F$8:F119,F120)>0,\"\",MAX(E$8:E119)+1)","v":112},null,null,{"$f":"IFERROR(VLOOKUP(bd_expos[[#This Row],[Numéro CAS]],Tableau2[#All],2,FALSE),\"\")","v":""},{"$f":"IFERROR(VLOOKUP(bd_expos[[#This Row],[Numéro CAS]],Tableau2[#All],3,FALSE),\"\")","v":""},{"$f":"IFERROR(VLOOKUP(bd_expos[[#This Row],[Numéro CAS]],Tableau2[#All],4,FALSE),\"\")","v":""},null,null,null,null,null,{"$f":"IF('Liste nominative CMR'!B120='Fiche individuelle CMR'!$C$8,MAX($P$8:P119)+1,\"\")","v":112}]
[{"$f":"IF(COUNTIF(B$8:B120,B121)>0,\"\",MAX(A$8:A120)+1)","v":113},null,null,null,{"$f":"IF(COUNTIF(F$8:F120,F121)>0,\"\",MAX(E$8:E120)+1)","v":113},null,null,{"$f":"IFERROR(VLOOKUP(bd_expos[[#This Row],[Numéro CAS]],Tableau2[#All],2,FALSE),\"\")","v":""},{"$f":"IFERROR(VLOOKUP(bd_expos[[#This Row],[Numéro CAS]],Tableau2[#All],3,FALSE),\"\")","v":""},{"$f":"IFERROR(VLOOKUP(bd_expos[[#This Row],[Numéro CAS]],Tableau2[#All],4,FALSE),\"\")","v":""},null,null,null,null,null,{"$f":"IF('Liste nominative CMR'!B121='Fiche individuelle CMR'!$C$8,MAX($P$8:P120)+1,\"\")","v":113}]
[{"$f":"IF(COUNTIF(B$8:B121,B122)>0,\"\",MAX(A$8:A121)+1)","v":114},null,null,null,{"$f":"IF(COUNTIF(F$8:F121,F122)>0,\"\",MAX(E$8:E121)+1)","v":114},null,null,{"$f":"IFERROR(VLOOKUP(bd_expos[[#This Row],[Numéro CAS]],Tableau2[#All],2,FALSE),\"\")","v":""},{"$f":"IFERROR(VLOOKUP(bd_expos[[#This Row],[Numéro CAS]],Tableau2[#All],3,FALSE),\"\")","v":""},{"$f":"IFERROR(VLOOKUP(bd_expos[[#This Row],[Numéro CAS]],Tableau2[#All],4,FALSE),\"\")","v":""},null,null,null,null,null,{"$f":"IF('Liste nominative CMR'!B122='Fiche individuelle CMR'!$C$8,MAX($P$8:P121)+1,\"\")","v":114}]
[{"$f":"IF(COUNTIF(B$8:B122,B123)>0,\"\",MAX(A$8:A122)+1)","v":115},null,null,null,{"$f":"IF(COUNTIF(F$8:F122,F123)>0,\"\",MAX(E$8:E122)+1)","v":115},null,null,{"$f":"IFERROR(VLOOKUP(bd_expos[[#This Row],[Numéro CAS]],Tableau2[#All],2,FALSE),\"\")","v":""},{"$f":"IFERROR(VLOOKUP(bd_expos[[#This Row],[Numéro CAS]],Tableau2[#All],3,FALSE),\"\")","v":""},{"$f":"IFERROR(VLOOKUP(bd_expos[[#This Row],[Numéro CAS]],Tableau2[#All],4,FALSE),\"\")","v":""},null,null,null,null,null,{"$f":"IF('Liste nominative CMR'!B123='Fiche individuelle CMR'!$C$8,MAX($P$8:P122)+1,\"\")","v":115}]
[{"$f":"IF(COUNTIF(B$8:B123,B124)>0,\"\",MAX(A$8:A123)+1)","v":116},null,null,null,{"$f":"IF(COUNTIF(F$8:F123,F124)>0,\"\",MAX(E$8:E123)+1)","v":116},null,null,{"$f":"IFERROR(VLOOKUP(bd_expos[[#This Row],[Numéro CAS]],Tableau2[#All],2,FALSE),\"\")","v":""},{"$f":"IFERROR(VLOOKUP(bd_expos[[#This Row],[Numéro CAS]],Tableau2[#All],3,FALSE),\"\")","v":""},{"$f":"IFERROR(VLOOKUP(bd_expos[[#This Row],[Numéro CAS]],Tableau2[#All],4,FALSE),\"\")","v":""},null,null,null,null,null,{"$f":"IF('Liste nominative CMR'!B124='Fiche individuelle CMR'!$C$8,MAX($P$8:P123)+1,\"\")","v":116}]
[{"$f":"IF(COUNTIF(B$8:B124,B125)>0,\"\",MAX(A$8:A124)+1)","v":117},null,null,null,{"$f":"IF(COUNTIF(F$8:F124,F125)>0,\"\",MAX(E$8:E124)+1)","v":117},null,null,{"$f":"IFERROR(VLOOKUP(bd_expos[[#This Row],[Numéro CAS]],Tableau2[#All],2,FALSE),\"\")","v":""},{"$f":"IFERROR(VLOOKUP(bd_expos[[#This Row],[Numéro CAS]],Tableau2[#All],3,FALSE),\"\")","v":""},{"$f":"IFERROR(VLOOKUP(bd_expos[[#This Row],[Numéro CAS]],Tableau2[#All],4,FALSE),\"\")","v":""},null,null,null,null,null,{"$f":"IF('Liste nominative CMR'!B125='Fiche individuelle CMR'!$C$8,MAX($P$8:P124)+1,\"\")","v":117}]
[{"$f":"IF(COUNTIF(B$8:B125,B126)>0,\"\",MAX(A$8:A125)+1)","v":118},null,null,null,{"$f":"IF(COUNTIF(F$8:F125,F126)>0,\"\",MAX(E$8:E125)+1)","v":118},null,null,{"$f":"IFERROR(VLOOKUP(bd_expos[[#This Row],[Numéro CAS]],Tableau2[#All],2,FALSE),\"\")","v":""},{"$f":"IFERROR(VLOOKUP(bd_expos[[#This Row],[Numéro CAS]],Tableau2[#All],3,FALSE),\"\")","v":""},{"$f":"IFERROR(VLOOKUP(bd_expos[[#This Row],[Numéro CAS]],Tableau2[#All],4,FALSE),\"\")","v":""},null,null,null,null,null,{"$f":"IF('Liste nominative CMR'!B126='Fiche individuelle CMR'!$C$8,MAX($P$8:P125)+1,\"\")","v":118}]
[{"$f":"IF(COUNTIF(B$8:B126,B127)>0,\"\",MAX(A$8:A126)+1)","v":119},null,null,null,{"$f":"IF(COUNTIF(F$8:F126,F127)>0,\"\",MAX(E$8:E126)+1)","v":119},null,null,{"$f":"IFERROR(VLOOKUP(bd_expos[[#This Row],[Numéro CAS]],Tableau2[#All],2,FALSE),\"\")","v":""},{"$f":"IFERROR(VLOOKUP(bd_expos[[#This Row],[Numéro CAS]],Tableau2[#All],3,FALSE),\"\")","v":""},{"$f":"IFERROR(VLOOKUP(bd_expos[[#This Row],[Numéro CAS]],Tableau2[#All],4,FALSE),\"\")","v":""},null,null,null,null,null,{"$f":"IF('Liste nominative CMR'!B127='Fiche individuelle CMR'!$C$8,MAX($P$8:P126)+1,\"\")","v":119}]
[{"$f":"IF(COUNTIF(B$8:B127,B128)>0,\"\",MAX(A$8:A127)+1)","v":120},null,null,null,{"$f":"IF(COUNTIF(F$8:F127,F128)>0,\"\",MAX(E$8:E127)+1)","v":120},null,null,{"$f":"IFERROR(VLOOKUP(bd_expos[[#This Row],[Numéro CAS]],Tableau2[#All],2,FALSE),\"\")","v":""},{"$f":"IFERROR(VLOOKUP(bd_expos[[#This Row],[Numéro CAS]],Tableau2[#All],3,FALSE),\"\")","v":""},{"$f":"IFERROR(VLOOKUP(bd_expos[[#This Row],[Numéro CAS]],Tableau2[#All],4,FALSE),\"\")","v":""},null,null,null,null,null,{"$f":"IF('Liste nominative CMR'!B128='Fiche individuelle CMR'!$C$8,MAX($P$8:P127)+1,\"\")","v":120}]
[{"$f":"IF(COUNTIF(B$8:B128,B129)>0,\"\",MAX(A$8:A128)+1)","v":121},null,null,null,{"$f":"IF(COUNTIF(F$8:F128,F129)>0,\"\",MAX(E$8:E128)+1)","v":121},null,null,{"$f":"IFERROR(VLOOKUP(bd_expos[[#This Row],[Numéro CAS]],Tableau2[#All],2,FALSE),\"\")","v":""},{"$f":"IFERROR(VLOOKUP(bd_expos[[#This Row],[Numéro CAS]],Tableau2[#All],3,FALSE),\"\")","v":""},{"$f":"IFERROR(VLOOKUP(bd_expos[[#This Row],[Numéro CAS]],Tableau2[#All],4,FALSE),\"\")","v":""},null,null,null,null,null,{"$f":"IF('Liste nominative CMR'!B129='Fiche individuelle CMR'!$C$8,MAX($P$8:P128)+1,\"\")","v":121}]
[{"$f":"IF(COUNTIF(B$8:B129,B130)>0,\"\",MAX(A$8:A129)+1)","v":122},null,null,null,{"$f":"IF(COUNTIF(F$8:F129,F130)>0,\"\",MAX(E$8:E129)+1)","v":122},null,null,{"$f":"IFERROR(VLOOKUP(bd_expos[[#This Row],[Numéro CAS]],Tableau2[#All],2,FALSE),\"\")","v":""},{"$f":"IFERROR(VLOOKUP(bd_expos[[#This Row],[Numéro CAS]],Tableau2[#All],3,FALSE),\"\")","v":""},{"$f":"IFERROR(VLOOKUP(bd_expos[[#This Row],[Numéro CAS]],Tableau2[#All],4,FALSE),\"\")","v":""},null,null,null,null,null,{"$f":"IF('Liste nominative CMR'!B130='Fiche individuelle CMR'!$C$8,MAX($P$8:P129)+1,\"\")","v":122}]
[{"$f":"IF(COUNTIF(B$8:B130,B131)>0,\"\",MAX(A$8:A130)+1)","v":123},null,null,null,{"$f":"IF(COUNTIF(F$8:F130,F131)>0,\"\",MAX(E$8:E130)+1)","v":123},null,null,{"$f":"IFERROR(VLOOKUP(bd_expos[[#This Row],[Numéro CAS]],Tableau2[#All],2,FALSE),\"\")","v":""},{"$f":"IFERROR(VLOOKUP(bd_expos[[#This Row],[Numéro CAS]],Tableau2[#All],3,FALSE),\"\")","v":""},{"$f":"IFERROR(VLOOKUP(bd_expos[[#This Row],[Numéro CAS]],Tableau2[#All],4,FALSE),\"\")","v":""},null,null,null,null,null,{"$f":"IF('Liste nominative CMR'!B131='Fiche individuelle CMR'!$C$8,MAX($P$8:P130)+1,\"\")","v":123}]
[{"$f":"IF(COUNTIF(B$8:B131,B132)>0,\"\",MAX(A$8:A131)+1)","v":124},null,null,null,{"$f":"IF(COUNTIF(F$8:F131,F132)>0,\"\",MAX(E$8:E131)+1)","v":124},null,null,{"$f":"IFERROR(VLOOKUP(bd_expos[[#This Row],[Numéro CAS]],Tableau2[#All],2,FALSE),\"\")","v":""},{"$f":"IFERROR(VLOOKUP(bd_expos[[#This Row],[Numéro CAS]],Tableau2[#All],3,FALSE),\"\")","v":""},{"$f":"IFERROR(VLOOKUP(bd_expos[[#This Row],[Numéro CAS]],Tableau2[#All],4,FALSE),\"\")","v":""},null,null,null,null,null,{"$f":"IF('Liste nominative CMR'!B132='Fiche individuelle CMR'!$C$8,MAX($P$8:P131)+1,\"\")","v":124}]
[{"$f":"IF(COUNTIF(B$8:B132,B133)>0,\"\",MAX(A$8:A132)+1)","v":125},null,null,null,{"$f":"IF(COUNTIF(F$8:F132,F133)>0,\"\",MAX(E$8:E132)+1)","v":125},null,null,{"$f":"IFERROR(VLOOKUP(bd_expos[[#This Row],[Numéro CAS]],Tableau2[#All],2,FALSE),\"\")","v":""},{"$f":"IFERROR(VLOOKUP(bd_expos[[#This Row],[Numéro CAS]],Tableau2[#All],3,FALSE),\"\")","v":""},{"$f":"IFERROR(VLOOKUP(bd_expos[[#This Row],[Numéro CAS]],Tableau2[#All],4,FALSE),\"\")","v":""},null,null,null,null,null,{"$f":"IF('Liste nominative CMR'!B133='Fiche individuelle CMR'!$C$8,MAX($P$8:P132)+1,\"\")","v":125}]
[{"$f":"IF(COUNTIF(B$8:B133,B134)>0,\"\",MAX(A$8:A133)+1)","v":126},null,null,null,{"$f":"IF(COUNTIF(F$8:F133,F134)>0,\"\",MAX(E$8:E133)+1)","v":126},null,null,{"$f":"IFERROR(VLOOKUP(bd_expos[[#This Row],[Numéro CAS]],Tableau2[#All],2,FALSE),\"\")","v":""},{"$f":"IFERROR(VLOOKUP(bd_expos[[#This Row],[Numéro CAS]],Tableau2[#All],3,FALSE),\"\")","v":""},{"$f":"IFERROR(VLOOKUP(bd_expos[[#This Row],[Numéro CAS]],Tableau2[#All],4,FALSE),\"\")","v":""},null,null,null,null,null,{"$f":"IF('Liste nominative CMR'!B134='Fiche individuelle CMR'!$C$8,MAX($P$8:P133)+1,\"\")","v":126}]
[{"$f":"IF(COUNTIF(B$8:B134,B135)>0,\"\",MAX(A$8:A134)+1)","v":127},null,null,null,{"$f":"IF(COUNTIF(F$8:F134,F135)>0,\"\",MAX(E$8:E134)+1)","v":127},null,null,{"$f":"IFERROR(VLOOKUP(bd_expos[[#This Row],[Numéro CAS]],Tableau2[#All],2,FALSE),\"\")","v":""},{"$f":"IFERROR(VLOOKUP(bd_expos[[#This Row],[Numéro CAS]],Tableau2[#All],3,FALSE),\"\")","v":""},{"$f":"IFERROR(VLOOKUP(bd_expos[[#This Row],[Numéro CAS]],Tableau2[#All],4,FALSE),\"\")","v":""},null,null,null,null,null,{"$f":"IF('Liste nominative CMR'!B135='Fiche individuelle CMR'!$C$8,MAX($P$8:P134)+1,\"\")","v":127}]
[{"$f":"IF(COUNTIF(B$8:B135,B136)>0,\"\",MAX(A$8:A135)+1)","v":128},null,null,null,{"$f":"IF(COUNTIF(F$8:F135,F136)>0,\"\",MAX(E$8:E135)+1)","v":128},null,null,{"$f":"IFERROR(VLOOKUP(bd_expos[[#This Row],[Numéro CAS]],Tableau2[#All],2,FALSE),\"\")","v":""},{"$f":"IFERROR(VLOOKUP(bd_expos[[#This Row],[Numéro CAS]],Tableau2[#All],3,FALSE),\"\")","v":""},{"$f":"IFERROR(VLOOKUP(bd_expos[[#This Row],[Numéro CAS]],Tableau2[#All],4,FALSE),\"\")","v":""},null,null,null,null,null,{"$f":"IF('Liste nominative CMR'!B136='Fiche individuelle CMR'!$C$8,MAX($P$8:P135)+1,\"\")","v":128}]
[{"$f":"IF(COUNTIF(B$8:B136,B137)>0,\"\",MAX(A$8:A136)+1)","v":129},null,null,null,{"$f":"IF(COUNTIF(F$8:F136,F137)>0,\"\",MAX(E$8:E136)+1)","v":129},null,null,{"$f":"IFERROR(VLOOKUP(bd_expos[[#This Row],[Numéro CAS]],Tableau2[#All],2,FALSE),\"\")","v":""},{"$f":"IFERROR(VLOOKUP(bd_expos[[#This Row],[Numéro CAS]],Tableau2[#All],3,FALSE),\"\")","v":""},{"$f":"IFERROR(VLOOKUP(bd_expos[[#This Row],[Numéro CAS]],Tableau2[#All],4,FALSE),\"\")","v":""},null,null,null,null,null,{"$f":"IF('Liste nominative CMR'!B137='Fiche individuelle CMR'!$C$8,MAX($P$8:P136)+1,\"\")","v":129}]
[{"$f":"IF(COUNTIF(B$8:B137,B138)>0,\"\",MAX(A$8:A137)+1)","v":130},null,null,null,{"$f":"IF(COUNTIF(F$8:F137,F138)>0,\"\",MAX(E$8:E137)+1)","v":130},null,null,{"$f":"IFERROR(VLOOKUP(bd_expos[[#This Row],[Numéro CAS]],Tableau2[#All],2,FALSE),\"\")","v":""},{"$f":"IFERROR(VLOOKUP(bd_expos[[#This Row],[Numéro CAS]],Tableau2[#All],3,FALSE),\"\")","v":""},{"$f":"IFERROR(VLOOKUP(bd_expos[[#This Row],[Numéro CAS]],Tableau2[#All],4,FALSE),\"\")","v":""},null,null,null,null,null,{"$f":"IF('Liste nominative CMR'!B138='Fiche individuelle CMR'!$C$8,MAX($P$8:P137)+1,\"\")","v":130}]
[{"$f":"IF(COUNTIF(B$8:B138,B139)>0,\"\",MAX(A$8:A138)+1)","v":131},null,null,null,{"$f":"IF(COUNTIF(F$8:F138,F139)>0,\"\",MAX(E$8:E138)+1)","v":131},null,null,{"$f":"IFERROR(VLOOKUP(bd_expos[[#This Row],[Numéro CAS]],Tableau2[#All],2,FALSE),\"\")","v":""},{"$f":"IFERROR(VLOOKUP(bd_expos[[#This Row],[Numéro CAS]],Tableau2[#All],3,FALSE),\"\")","v":""},{"$f":"IFERROR(VLOOKUP(bd_expos[[#This Row],[Numéro CAS]],Tableau2[#All],4,FALSE),\"\")","v":""},null,null,null,null,null,{"$f":"IF('Liste nominative CMR'!B139='Fiche individuelle CMR'!$C$8,MAX($P$8:P138)+1,\"\")","v":131}]
[{"$f":"IF(COUNTIF(B$8:B139,B140)>0,\"\",MAX(A$8:A139)+1)","v":132},null,null,null,{"$f":"IF(COUNTIF(F$8:F139,F140)>0,\"\",MAX(E$8:E139)+1)","v":132},null,null,{"$f":"IFERROR(VLOOKUP(bd_expos[[#This Row],[Numéro CAS]],Tableau2[#All],2,FALSE),\"\")","v":""},{"$f":"IFERROR(VLOOKUP(bd_expos[[#This Row],[Numéro CAS]],Tableau2[#All],3,FALSE),\"\")","v":""},{"$f":"IFERROR(VLOOKUP(bd_expos[[#This Row],[Numéro CAS]],Tableau2[#All],4,FALSE),\"\")","v":""},null,null,null,null,null,{"$f":"IF('Liste nominative CMR'!B140='Fiche individuelle CMR'!$C$8,MAX($P$8:P139)+1,\"\")","v":132}]
[{"$f":"IF(COUNTIF(B$8:B140,B141)>0,\"\",MAX(A$8:A140)+1)","v":133},null,null,null,{"$f":"IF(COUNTIF(F$8:F140,F141)>0,\"\",MAX(E$8:E140)+1)","v":133},null,null,{"$f":"IFERROR(VLOOKUP(bd_expos[[#This Row],[Numéro CAS]],Tableau2[#All],2,FALSE),\"\")","v":""},{"$f":"IFERROR(VLOOKUP(bd_expos[[#This Row],[Numéro CAS]],Tableau2[#All],3,FALSE),\"\")","v":""},{"$f":"IFERROR(VLOOKUP(bd_expos[[#This Row],[Numéro CAS]],Tableau2[#All],4,FALSE),\"\")","v":""},null,null,null,null,null,{"$f":"IF('Liste nominative CMR'!B141='Fiche individuelle CMR'!$C$8,MAX($P$8:P140)+1,\"\")","v":133}]
[{"$f":"IF(COUNTIF(B$8:B141,B142)>0,\"\",MAX(A$8:A141)+1)","v":134},null,null,null,{"$f":"IF(COUNTIF(F$8:F141,F142)>0,\"\",MAX(E$8:E141)+1)","v":134},null,null,{"$f":"IFERROR(VLOOKUP(bd_expos[[#This Row],[Numéro CAS]],Tableau2[#All],2,FALSE),\"\")","v":""},{"$f":"IFERROR(VLOOKUP(bd_expos[[#This Row],[Numéro CAS]],Tableau2[#All],3,FALSE),\"\")","v":""},{"$f":"IFERROR(VLOOKUP(bd_expos[[#This Row],[Numéro CAS]],Tableau2[#All],4,FALSE),\"\")","v":""},null,null,null,null,null,{"$f":"IF('Liste nominative CMR'!B142='Fiche individuelle CMR'!$C$8,MAX($P$8:P141)+1,\"\")","v":134}]
[{"$f":"IF(COUNTIF(B$8:B142,B143)>0,\"\",MAX(A$8:A142)+1)","v":135},null,null,null,{"$f":"IF(COUNTIF(F$8:F142,F143)>0,\"\",MAX(E$8:E142)+1)","v":135},null,null,{"$f":"IFERROR(VLOOKUP(bd_expos[[#This Row],[Numéro CAS]],Tableau2[#All],2,FALSE),\"\")","v":""},{"$f":"IFERROR(VLOOKUP(bd_expos[[#This Row],[Numéro CAS]],Tableau2[#All],3,FALSE),\"\")","v":""},{"$f":"IFERROR(VLOOKUP(bd_expos[[#This Row],[Numéro CAS]],Tableau2[#All],4,FALSE),\"\")","v":""},null,null,null,null,null,{"$f":"IF('Liste nominative CMR'!B143='Fiche individuelle CMR'!$C$8,MAX($P$8:P142)+1,\"\")","v":135}]
[{"$f":"IF(COUNTIF(B$8:B143,B144)>0,\"\",MAX(A$8:A143)+1)","v":136},null,null,null,{"$f":"IF(COUNTIF(F$8:F143,F144)>0,\"\",MAX(E$8:E143)+1)","v":136},null,null,{"$f":"IFERROR(VLOOKUP(bd_expos[[#This Row],[Numéro CAS]],Tableau2[#All],2,FALSE),\"\")","v":""},{"$f":"IFERROR(VLOOKUP(bd_expos[[#This Row],[Numéro CAS]],Tableau2[#All],3,FALSE),\"\")","v":""},{"$f":"IFERROR(VLOOKUP(bd_expos[[#This Row],[Numéro CAS]],Tableau2[#All],4,FALSE),\"\")","v":""},null,null,null,null,null,{"$f":"IF('Liste nominative CMR'!B144='Fiche individuelle CMR'!$C$8,MAX($P$8:P143)+1,\"\")","v":136}]
[{"$f":"IF(COUNTIF(B$8:B144,B145)>0,\"\",MAX(A$8:A144)+1)","v":137},null,null,null,{"$f":"IF(COUNTIF(F$8:F144,F145)>0,\"\",MAX(E$8:E144)+1)","v":137},null,null,{"$f":"IFERROR(VLOOKUP(bd_expos[[#This Row],[Numéro CAS]],Tableau2[#All],2,FALSE),\"\")","v":""},{"$f":"IFERROR(VLOOKUP(bd_expos[[#This Row],[Numéro CAS]],Tableau2[#All],3,FALSE),\"\")","v":""},{"$f":"IFERROR(VLOOKUP(bd_expos[[#This Row],[Numéro CAS]],Tableau2[#All],4,FALSE),\"\")","v":""},null,null,null,null,null,{"$f":"IF('Liste nominative CMR'!B145='Fiche individuelle CMR'!$C$8,MAX($P$8:P144)+1,\"\")","v":137}]
[{"$f":"IF(COUNTIF(B$8:B145,B146)>0,\"\",MAX(A$8:A145)+1)","v":138},null,null,null,{"$f":"IF(COUNTIF(F$8:F145,F146)>0,\"\",MAX(E$8:E145)+1)","v":138},null,null,{"$f":"IFERROR(VLOOKUP(bd_expos[[#This Row],[Numéro CAS]],Tableau2[#All],2,FALSE),\"\")","v":""},{"$f":"IFERROR(VLOOKUP(bd_expos[[#This Row],[Numéro CAS]],Tableau2[#All],3,FALSE),\"\")","v":""},{"$f":"IFERROR(VLOOKUP(bd_expos[[#This Row],[Numéro CAS]],Tableau2[#All],4,FALSE),\"\")","v":""},null,null,null,null,null,{"$f":"IF('Liste nominative CMR'!B146='Fiche individuelle CMR'!$C$8,MAX($P$8:P145)+1,\"\")","v":138}]
[{"$f":"IF(COUNTIF(B$8:B146,B147)>0,\"\",MAX(A$8:A146)+1)","v":139},null,null,null,{"$f":"IF(COUNTIF(F$8:F146,F147)>0,\"\",MAX(E$8:E146)+1)","v":139},null,null,{"$f":"IFERROR(VLOOKUP(bd_expos[[#This Row],[Numéro CAS]],Tableau2[#All],2,FALSE),\"\")","v":""},{"$f":"IFERROR(VLOOKUP(bd_expos[[#This Row],[Numéro CAS]],Tableau2[#All],3,FALSE),\"\")","v":""},{"$f":"IFERROR(VLOOKUP(bd_expos[[#This Row],[Numéro CAS]],Tableau2[#All],4,FALSE),\"\")","v":""},null,null,null,null,null,{"$f":"IF('Liste nominative CMR'!B147='Fiche individuelle CMR'!$C$8,MAX($P$8:P146)+1,\"\")","v":139}]
[{"$f":"IF(COUNTIF(B$8:B147,B148)>0,\"\",MAX(A$8:A147)+1)","v":140},null,null,null,{"$f":"IF(COUNTIF(F$8:F147,F148)>0,\"\",MAX(E$8:E147)+1)","v":140},null,null,{"$f":"IFERROR(VLOOKUP(bd_expos[[#This Row],[Numéro CAS]],Tableau2[#All],2,FALSE),\"\")","v":""},{"$f":"IFERROR(VLOOKUP(bd_expos[[#This Row],[Numéro CAS]],Tableau2[#All],3,FALSE),\"\")","v":""},{"$f":"IFERROR(VLOOKUP(bd_expos[[#This Row],[Numéro CAS]],Tableau2[#All],4,FALSE),\"\")","v":""},null,null,null,null,null,{"$f":"IF('Liste nominative CMR'!B148='Fiche individuelle CMR'!$C$8,MAX($P$8:P147)+1,\"\")","v":140}]
[{"$f":"IF(COUNTIF(B$8:B148,B149)>0,\"\",MAX(A$8:A148)+1)","v":141},null,null,null,{"$f":"IF(COUNTIF(F$8:F148,F149)>0,\"\",MAX(E$8:E148)+1)","v":141},null,null,{"$f":"IFERROR(VLOOKUP(bd_expos[[#This Row],[Numéro CAS]],Tableau2[#All],2,FALSE),\"\")","v":""},{"$f":"IFERROR(VLOOKUP(bd_expos[[#This Row],[Numéro CAS]],Tableau2[#All],3,FALSE),\"\")","v":""},{"$f":"IFERROR(VLOOKUP(bd_expos[[#This Row],[Numéro CAS]],Tableau2[#All],4,FALSE),\"\")","v":""},null,null,null,null,null,{"$f":"IF('Liste nominative CMR'!B149='Fiche individuelle CMR'!$C$8,MAX($P$8:P148)+1,\"\")","v":141}]
[{"$f":"IF(COUNTIF(B$8:B149,B150)>0,\"\",MAX(A$8:A149)+1)","v":142},null,null,null,{"$f":"IF(COUNTIF(F$8:F149,F150)>0,\"\",MAX(E$8:E149)+1)","v":142},null,null,{"$f":"IFERROR(VLOOKUP(bd_expos[[#This Row],[Numéro CAS]],Tableau2[#All],2,FALSE),\"\")","v":""},{"$f":"IFERROR(VLOOKUP(bd_expos[[#This Row],[Numéro CAS]],Tableau2[#All],3,FALSE),\"\")","v":""},{"$f":"IFERROR(VLOOKUP(bd_expos[[#This Row],[Numéro CAS]],Tableau2[#All],4,FALSE),\"\")","v":""},null,null,null,null,null,{"$f":"IF('Liste nominative CMR'!B150='Fiche individuelle CMR'!$C$8,MAX($P$8:P149)+1,\"\")","v":142}]
[{"$f":"IF(COUNTIF(B$8:B150,B151)>0,\"\",MAX(A$8:A150)+1)","v":143},null,null,null,{"$f":"IF(COUNTIF(F$8:F150,F151)>0,\"\",MAX(E$8:E150)+1)","v":143},null,null,{"$f":"IFERROR(VLOOKUP(bd_expos[[#This Row],[Numéro CAS]],Tableau2[#All],2,FALSE),\"\")","v":""},{"$f":"IFERROR(VLOOKUP(bd_expos[[#This Row],[Numéro CAS]],Tableau2[#All],3,FALSE),\"\")","v":""},{"$f":"IFERROR(VLOOKUP(bd_expos[[#This Row],[Numéro CAS]],Tableau2[#All],4,FALSE),\"\")","v":""},null,null,null,null,null,{"$f":"IF('Liste nominative CMR'!B151='Fiche individuelle CMR'!$C$8,MAX($P$8:P150)+1,\"\")","v":143}]
[{"$f":"IF(COUNTIF(B$8:B151,B152)>0,\"\",MAX(A$8:A151)+1)","v":144},null,null,null,{"$f":"IF(COUNTIF(F$8:F151,F152)>0,\"\",MAX(E$8:E151)+1)","v":144},null,null,{"$f":"IFERROR(VLOOKUP(bd_expos[[#This Row],[Numéro CAS]],Tableau2[#All],2,FALSE),\"\")","v":""},{"$f":"IFERROR(VLOOKUP(bd_expos[[#This Row],[Numéro CAS]],Tableau2[#All],3,FALSE),\"\")","v":""},{"$f":"IFERROR(VLOOKUP(bd_expos[[#This Row],[Numéro CAS]],Tableau2[#All],4,FALSE),\"\")","v":""},null,null,null,null,null,{"$f":"IF('Liste nominative CMR'!B152='Fiche individuelle CMR'!$C$8,MAX($P$8:P151)+1,\"\")","v":144}]
[{"$f":"IF(COUNTIF(B$8:B152,B153)>0,\"\",MAX(A$8:A152)+1)","v":145},null,null,null,{"$f":"IF(COUNTIF(F$8:F152,F153)>0,\"\",MAX(E$8:E152)+1)","v":145},null,null,{"$f":"IFERROR(VLOOKUP(bd_expos[[#This Row],[Numéro CAS]],Tableau2[#All],2,FALSE),\"\")","v":""},{"$f":"IFERROR(VLOOKUP(bd_expos[[#This Row],[Numéro CAS]],Tableau2[#All],3,FALSE),\"\")","v":""},{"$f":"IFERROR(VLOOKUP(bd_expos[[#This Row],[Numéro CAS]],Tableau2[#All],4,FALSE),\"\")","v":""},null,null,null,null,null,{"$f":"IF('Liste nominative CMR'!B153='Fiche individuelle CMR'!$C$8,MAX($P$8:P152)+1,\"\")","v":145}]
[{"$f":"IF(COUNTIF(B$8:B153,B154)>0,\"\",MAX(A$8:A153)+1)","v":146},null,null,null,{"$f":"IF(COUNTIF(F$8:F153,F154)>0,\"\",MAX(E$8:E153)+1)","v":146},null,null,{"$f":"IFERROR(VLOOKUP(bd_expos[[#This Row],[Numéro CAS]],Tableau2[#All],2,FALSE),\"\")","v":""},{"$f":"IFERROR(VLOOKUP(bd_expos[[#This Row],[Numéro CAS]],Tableau2[#All],3,FALSE),\"\")","v":""},{"$f":"IFERROR(VLOOKUP(bd_expos[[#This Row],[Numéro CAS]],Tableau2[#All],4,FALSE),\"\")","v":""},null,null,null,null,null,{"$f":"IF('Liste nominative CMR'!B154='Fiche individuelle CMR'!$C$8,MAX($P$8:P153)+1,\"\")","v":146}]
[{"$f":"IF(COUNTIF(B$8:B154,B155)>0,\"\",MAX(A$8:A154)+1)","v":147},null,null,null,{"$f":"IF(COUNTIF(F$8:F154,F155)>0,\"\",MAX(E$8:E154)+1)","v":147},null,null,{"$f":"IFERROR(VLOOKUP(bd_expos[[#This Row],[Numéro CAS]],Tableau2[#All],2,FALSE),\"\")","v":""},{"$f":"IFERROR(VLOOKUP(bd_expos[[#This Row],[Numéro CAS]],Tableau2[#All],3,FALSE),\"\")","v":""},{"$f":"IFERROR(VLOOKUP(bd_expos[[#This Row],[Numéro CAS]],Tableau2[#All],4,FALSE),\"\")","v":""},null,null,null,null,null,{"$f":"IF('Liste nominative CMR'!B155='Fiche individuelle CMR'!$C$8,MAX($P$8:P154)+1,\"\")","v":147}]
[{"$f":"IF(COUNTIF(B$8:B155,B156)>0,\"\",MAX(A$8:A155)+1)","v":148},null,null,null,{"$f":"IF(COUNTIF(F$8:F155,F156)>0,\"\",MAX(E$8:E155)+1)","v":148},null,null,{"$f":"IFERROR(VLOOKUP(bd_expos[[#This Row],[Numéro CAS]],Tableau2[#All],2,FALSE),\"\")","v":""},{"$f":"IFERROR(VLOOKUP(bd_expos[[#This Row],[Numéro CAS]],Tableau2[#All],3,FALSE),\"\")","v":""},{"$f":"IFERROR(VLOOKUP(bd_expos[[#This Row],[Numéro CAS]],Tableau2[#All],4,FALSE),\"\")","v":""},null,null,null,null,null,{"$f":"IF('Liste nominative CMR'!B156='Fiche individuelle CMR'!$C$8,MAX($P$8:P155)+1,\"\")","v":148}]
[{"$f":"IF(COUNTIF(B$8:B156,B157)>0,\"\",MAX(A$8:A156)+1)","v":149},null,null,null,{"$f":"IF(COUNTIF(F$8:F156,F157)>0,\"\",MAX(E$8:E156)+1)","v":149},null,null,{"$f":"IFERROR(VLOOKUP(bd_expos[[#This Row],[Numéro CAS]],Tableau2[#All],2,FALSE),\"\")","v":""},{"$f":"IFERROR(VLOOKUP(bd_expos[[#This Row],[Numéro CAS]],Tableau2[#All],3,FALSE),\"\")","v":""},{"$f":"IFERROR(VLOOKUP(bd_expos[[#This Row],[Numéro CAS]],Tableau2[#All],4,FALSE),\"\")","v":""},null,null,null,null,null,{"$f":"IF('Liste nominative CMR'!B157='Fiche individuelle CMR'!$C$8,MAX($P$8:P156)+1,\"\")","v":149}]
[{"$f":"IF(COUNTIF(B$8:B157,B158)>0,\"\",MAX(A$8:A157)+1)","v":150},null,null,null,{"$f":"IF(COUNTIF(F$8:F157,F158)>0,\"\",MAX(E$8:E157)+1)","v":150},null,null,{"$f":"IFERROR(VLOOKUP(bd_expos[[#This Row],[Numéro CAS]],Tableau2[#All],2,FALSE),\"\")","v":""},{"$f":"IFERROR(VLOOKUP(bd_expos[[#This Row],[Numéro CAS]],Tableau2[#All],3,FALSE),\"\")","v":""},{"$f":"IFERROR(VLOOKUP(bd_expos[[#This Row],[Numéro CAS]],Tableau2[#All],4,FALSE),\"\")","v":""},null,null,null,null,null,{"$f":"IF('Liste nominative CMR'!B158='Fiche individuelle CMR'!$C$8,MAX($P$8:P157)+1,\"\")","v":150}]
[{"$f":"IF(COUNTIF(B$8:B158,B159)>0,\"\",MAX(A$8:A158)+1)","v":151},null,null,null,{"$f":"IF(COUNTIF(F$8:F158,F159)>0,\"\",MAX(E$8:E158)+1)","v":151},null,null,{"$f":"IFERROR(VLOOKUP(bd_expos[[#This Row],[Numéro CAS]],Tableau2[#All],2,FALSE),\"\")","v":""},{"$f":"IFERROR(VLOOKUP(bd_expos[[#This Row],[Numéro CAS]],Tableau2[#All],3,FALSE),\"\")","v":""},{"$f":"IFERROR(VLOOKUP(bd_expos[[#This Row],[Numéro CAS]],Tableau2[#All],4,FALSE),\"\")","v":""},null,null,null,null,null,{"$f":"IF('Liste nominative CMR'!B159='Fiche individuelle CMR'!$C$8,MAX($P$8:P158)+1,\"\")","v":151}]
[{"$f":"IF(COUNTIF(B$8:B159,B160)>0,\"\",MAX(A$8:A159)+1)","v":152},null,null,null,{"$f":"IF(COUNTIF(F$8:F159,F160)>0,\"\",MAX(E$8:E159)+1)","v":152},null,null,{"$f":"IFERROR(VLOOKUP(bd_expos[[#This Row],[Numéro CAS]],Tableau2[#All],2,FALSE),\"\")","v":""},{"$f":"IFERROR(VLOOKUP(bd_expos[[#This Row],[Numéro CAS]],Tableau2[#All],3,FALSE),\"\")","v":""},{"$f":"IFERROR(VLOOKUP(bd_expos[[#This Row],[Numéro CAS]],Tableau2[#All],4,FALSE),\"\")","v":""},null,null,null,null,null,{"$f":"IF('Liste nominative CMR'!B160='Fiche individuelle CMR'!$C$8,MAX($P$8:P159)+1,\"\")","v":152}]
[{"$f":"IF(COUNTIF(B$8:B160,B161)>0,\"\",MAX(A$8:A160)+1)","v":153},null,null,null,{"$f":"IF(COUNTIF(F$8:F160,F161)>0,\"\",MAX(E$8:E160)+1)","v":153},null,null,{"$f":"IFERROR(VLOOKUP(bd_expos[[#This Row],[Numéro CAS]],Tableau2[#All],2,FALSE),\"\")","v":""},{"$f":"IFERROR(VLOOKUP(bd_expos[[#This Row],[Numéro CAS]],Tableau2[#All],3,FALSE),\"\")","v":""},{"$f":"IFERROR(VLOOKUP(bd_expos[[#This Row],[Numéro CAS]],Tableau2[#All],4,FALSE),\"\")","v":""},null,null,null,null,null,{"$f":"IF('Liste nominative CMR'!B161='Fiche individuelle CMR'!$C$8,MAX($P$8:P160)+1,\"\")","v":153}]
[{"$f":"IF(COUNTIF(B$8:B161,B162)>0,\"\",MAX(A$8:A161)+1)","v":154},null,null,null,{"$f":"IF(COUNTIF(F$8:F161,F162)>0,\"\",MAX(E$8:E161)+1)","v":154},null,null,{"$f":"IFERROR(VLOOKUP(bd_expos[[#This Row],[Numéro CAS]],Tableau2[#All],2,FALSE),\"\")","v":""},{"$f":"IFERROR(VLOOKUP(bd_expos[[#This Row],[Numéro CAS]],Tableau2[#All],3,FALSE),\"\")","v":""},{"$f":"IFERROR(VLOOKUP(bd_expos[[#This Row],[Numéro CAS]],Tableau2[#All],4,FALSE),\"\")","v":""},null,null,null,null,null,{"$f":"IF('Liste nominative CMR'!B162='Fiche individuelle CMR'!$C$8,MAX($P$8:P161)+1,\"\")","v":154}]
[{"$f":"IF(COUNTIF(B$8:B162,B163)>0,\"\",MAX(A$8:A162)+1)","v":155},null,null,null,{"$f":"IF(COUNTIF(F$8:F162,F163)>0,\"\",MAX(E$8:E162)+1)","v":155},null,null,{"$f":"IFERROR(VLOOKUP(bd_expos[[#This Row],[Numéro CAS]],Tableau2[#All],2,FALSE),\"\")","v":""},{"$f":"IFERROR(VLOOKUP(bd_expos[[#This Row],[Numéro CAS]],Tableau2[#All],3,FALSE),\"\")","v":""},{"$f":"IFERROR(VLOOKUP(bd_expos[[#This Row],[Numéro CAS]],Tableau2[#All],4,FALSE),\"\")","v":""},null,null,null,null,null,{"$f":"IF('Liste nominative CMR'!B163='Fiche individuelle CMR'!$C$8,MAX($P$8:P162)+1,\"\")","v":155}]
[{"$f":"IF(COUNTIF(B$8:B163,B164)>0,\"\",MAX(A$8:A163)+1)","v":156},null,null,null,{"$f":"IF(COUNTIF(F$8:F163,F164)>0,\"\",MAX(E$8:E163)+1)","v":156},null,null,{"$f":"IFERROR(VLOOKUP(bd_expos[[#This Row],[Numéro CAS]],Tableau2[#All],2,FALSE),\"\")","v":""},{"$f":"IFERROR(VLOOKUP(bd_expos[[#This Row],[Numéro CAS]],Tableau2[#All],3,FALSE),\"\")","v":""},{"$f":"IFERROR(VLOOKUP(bd_expos[[#This Row],[Numéro CAS]],Tableau2[#All],4,FALSE),\"\")","v":""},null,null,null,null,null,{"$f":"IF('Liste nominative CMR'!B164='Fiche individuelle CMR'!$C$8,MAX($P$8:P163)+1,\"\")","v":156}]
[{"$f":"IF(COUNTIF(B$8:B164,B165)>0,\"\",MAX(A$8:A164)+1)","v":157},null,null,null,{"$f":"IF(COUNTIF(F$8:F164,F165)>0,\"\",MAX(E$8:E164)+1)","v":157},null,null,{"$f":"IFERROR(VLOOKUP(bd_expos[[#This Row],[Numéro CAS]],Tableau2[#All],2,FALSE),\"\")","v":""},{"$f":"IFERROR(VLOOKUP(bd_expos[[#This Row],[Numéro CAS]],Tableau2[#All],3,FALSE),\"\")","v":""},{"$f":"IFERROR(VLOOKUP(bd_expos[[#This Row],[Numéro CAS]],Tableau2[#All],4,FALSE),\"\")","v":""},null,null,null,null,null,{"$f":"IF('Liste nominative CMR'!B165='Fiche individuelle CMR'!$C$8,MAX($P$8:P164)+1,\"\")","v":157}]
[{"$f":"IF(COUNTIF(B$8:B165,B166)>0,\"\",MAX(A$8:A165)+1)","v":158},null,null,null,{"$f":"IF(COUNTIF(F$8:F165,F166)>0,\"\",MAX(E$8:E165)+1)","v":158},null,null,{"$f":"IFERROR(VLOOKUP(bd_expos[[#This Row],[Numéro CAS]],Tableau2[#All],2,FALSE),\"\")","v":""},{"$f":"IFERROR(VLOOKUP(bd_expos[[#This Row],[Numéro CAS]],Tableau2[#All],3,FALSE),\"\")","v":""},{"$f":"IFERROR(VLOOKUP(bd_expos[[#This Row],[Numéro CAS]],Tableau2[#All],4,FALSE),\"\")","v":""},null,null,null,null,null,{"$f":"IF('Liste nominative CMR'!B166='Fiche individuelle CMR'!$C$8,MAX($P$8:P165)+1,\"\")","v":158}]
[{"$f":"IF(COUNTIF(B$8:B166,B167)>0,\"\",MAX(A$8:A166)+1)","v":159},null,null,null,{"$f":"IF(COUNTIF(F$8:F166,F167)>0,\"\",MAX(E$8:E166)+1)","v":159},null,null,{"$f":"IFERROR(VLOOKUP(bd_expos[[#This Row],[Numéro CAS]],Tableau2[#All],2,FALSE),\"\")","v":""},{"$f":"IFERROR(VLOOKUP(bd_expos[[#This Row],[Numéro CAS]],Tableau2[#All],3,FALSE),\"\")","v":""},{"$f":"IFERROR(VLOOKUP(bd_expos[[#This Row],[Numéro CAS]],Tableau2[#All],4,FALSE),\"\")","v":""},null,null,null,null,null,{"$f":"IF('Liste nominative CMR'!B167='Fiche individuelle CMR'!$C$8,MAX($P$8:P166)+1,\"\")","v":159}]
[{"$f":"IF(COUNTIF(B$8:B167,B168)>0,\"\",MAX(A$8:A167)+1)","v":160},null,null,null,{"$f":"IF(COUNTIF(F$8:F167,F168)>0,\"\",MAX(E$8:E167)+1)","v":160},null,null,{"$f":"IFERROR(VLOOKUP(bd_expos[[#This Row],[Numéro CAS]],Tableau2[#All],2,FALSE),\"\")","v":""},{"$f":"IFERROR(VLOOKUP(bd_expos[[#This Row],[Numéro CAS]],Tableau2[#All],3,FALSE),\"\")","v":""},{"$f":"IFERROR(VLOOKUP(bd_expos[[#This Row],[Numéro CAS]],Tableau2[#All],4,FALSE),\"\")","v":""},null,null,null,null,null,{"$f":"IF('Liste nominative CMR'!B168='Fiche individuelle CMR'!$C$8,MAX($P$8:P167)+1,\"\")","v":160}]
[{"$f":"IF(COUNTIF(B$8:B168,B169)>0,\"\",MAX(A$8:A168)+1)","v":161},null,null,null,{"$f":"IF(COUNTIF(F$8:F168,F169)>0,\"\",MAX(E$8:E168)+1)","v":161},null,null,{"$f":"IFERROR(VLOOKUP(bd_expos[[#This Row],[Numéro CAS]],Tableau2[#All],2,FALSE),\"\")","v":""},{"$f":"IFERROR(VLOOKUP(bd_expos[[#This Row],[Numéro CAS]],Tableau2[#All],3,FALSE),\"\")","v":""},{"$f":"IFERROR(VLOOKUP(bd_expos[[#This Row],[Numéro CAS]],Tableau2[#All],4,FALSE),\"\")","v":""},null,null,null,null,null,{"$f":"IF('Liste nominative CMR'!B169='Fiche individuelle CMR'!$C$8,MAX($P$8:P168)+1,\"\")","v":161}]
[{"$f":"IF(COUNTIF(B$8:B169,B170)>0,\"\",MAX(A$8:A169)+1)","v":162},null,null,null,{"$f":"IF(COUNTIF(F$8:F169,F170)>0,\"\",MAX(E$8:E169)+1)","v":162},null,null,{"$f":"IFERROR(VLOOKUP(bd_expos[[#This Row],[Numéro CAS]],Tableau2[#All],2,FALSE),\"\")","v":""},{"$f":"IFERROR(VLOOKUP(bd_expos[[#This Row],[Numéro CAS]],Tableau2[#All],3,FALSE),\"\")","v":""},{"$f":"IFERROR(VLOOKUP(bd_expos[[#This Row],[Numéro CAS]],Tableau2[#All],4,FALSE),\"\")","v":""},null,null,null,null,null,{"$f":"IF('Liste nominative CMR'!B170='Fiche individuelle CMR'!$C$8,MAX($P$8:P169)+1,\"\")","v":162}]
[{"$f":"IF(COUNTIF(B$8:B170,B171)>0,\"\",MAX(A$8:A170)+1)","v":163},null,null,null,{"$f":"IF(COUNTIF(F$8:F170,F171)>0,\"\",MAX(E$8:E170)+1)","v":163},null,null,{"$f":"IFERROR(VLOOKUP(bd_expos[[#This Row],[Numéro CAS]],Tableau2[#All],2,FALSE),\"\")","v":""},{"$f":"IFERROR(VLOOKUP(bd_expos[[#This Row],[Numéro CAS]],Tableau2[#All],3,FALSE),\"\")","v":""},{"$f":"IFERROR(VLOOKUP(bd_expos[[#This Row],[Numéro CAS]],Tableau2[#All],4,FALSE),\"\")","v":""},null,null,null,null,null,{"$f":"IF('Liste nominative CMR'!B171='Fiche individuelle CMR'!$C$8,MAX($P$8:P170)+1,\"\")","v":163}]
[{"$f":"IF(COUNTIF(B$8:B171,B172)>0,\"\",MAX(A$8:A171)+1)","v":164},null,null,null,{"$f":"IF(COUNTIF(F$8:F171,F172)>0,\"\",MAX(E$8:E171)+1)","v":164},null,null,{"$f":"IFERROR(VLOOKUP(bd_expos[[#This Row],[Numéro CAS]],Tableau2[#All],2,FALSE),\"\")","v":""},{"$f":"IFERROR(VLOOKUP(bd_expos[[#This Row],[Numéro CAS]],Tableau2[#All],3,FALSE),\"\")","v":""},{"$f":"IFERROR(VLOOKUP(bd_expos[[#This Row],[Numéro CAS]],Tableau2[#All],4,FALSE),\"\")","v":""},null,null,null,null,null,{"$f":"IF('Liste nominative CMR'!B172='Fiche individuelle CMR'!$C$8,MAX($P$8:P171)+1,\"\")","v":164}]
[{"$f":"IF(COUNTIF(B$8:B172,B173)>0,\"\",MAX(A$8:A172)+1)","v":165},null,null,null,{"$f":"IF(COUNTIF(F$8:F172,F173)>0,\"\",MAX(E$8:E172)+1)","v":165},null,null,{"$f":"IFERROR(VLOOKUP(bd_expos[[#This Row],[Numéro CAS]],Tableau2[#All],2,FALSE),\"\")","v":""},{"$f":"IFERROR(VLOOKUP(bd_expos[[#This Row],[Numéro CAS]],Tableau2[#All],3,FALSE),\"\")","v":""},{"$f":"IFERROR(VLOOKUP(bd_expos[[#This Row],[Numéro CAS]],Tableau2[#All],4,FALSE),\"\")","v":""},null,null,null,null,null,{"$f":"IF('Liste nominative CMR'!B173='Fiche individuelle CMR'!$C$8,MAX($P$8:P172)+1,\"\")","v":165}]
[{"$f":"IF(COUNTIF(B$8:B173,B174)>0,\"\",MAX(A$8:A173)+1)","v":166},null,null,null,{"$f":"IF(COUNTIF(F$8:F173,F174)>0,\"\",MAX(E$8:E173)+1)","v":166},null,null,{"$f":"IFERROR(VLOOKUP(bd_expos[[#This Row],[Numéro CAS]],Tableau2[#All],2,FALSE),\"\")","v":""},{"$f":"IFERROR(VLOOKUP(bd_expos[[#This Row],[Numéro CAS]],Tableau2[#All],3,FALSE),\"\")","v":""},{"$f":"IFERROR(VLOOKUP(bd_expos[[#This Row],[Numéro CAS]],Tableau2[#All],4,FALSE),\"\")","v":""},null,null,null,null,null,{"$f":"IF('Liste nominative CMR'!B174='Fiche individuelle CMR'!$C$8,MAX($P$8:P173)+1,\"\")","v":166}]
[{"$f":"IF(COUNTIF(B$8:B174,B175)>0,\"\",MAX(A$8:A174)+1)","v":167},null,null,null,{"$f":"IF(COUNTIF(F$8:F174,F175)>0,\"\",MAX(E$8:E174)+1)","v":167},null,null,{"$f":"IFERROR(VLOOKUP(bd_expos[[#This Row],[Numéro CAS]],Tableau2[#All],2,FALSE),\"\")","v":""},{"$f":"IFERROR(VLOOKUP(bd_expos[[#This Row],[Numéro CAS]],Tableau2[#All],3,FALSE),\"\")","v":""},{"$f":"IFERROR(VLOOKUP(bd_expos[[#This Row],[Numéro CAS]],Tableau2[#All],4,FALSE),\"\")","v":""},null,null,null,null,null,{"$f":"IF('Liste nominative CMR'!B175='Fiche individuelle CMR'!$C$8,MAX($P$8:P174)+1,\"\")","v":167}]
[{"$f":"IF(COUNTIF(B$8:B175,B176)>0,\"\",MAX(A$8:A175)+1)","v":168},null,null,null,{"$f":"IF(COUNTIF(F$8:F175,F176)>0,\"\",MAX(E$8:E175)+1)","v":168},null,null,{"$f":"IFERROR(VLOOKUP(bd_expos[[#This Row],[Numéro CAS]],Tableau2[#All],2,FALSE),\"\")","v":""},{"$f":"IFERROR(VLOOKUP(bd_expos[[#This Row],[Numéro CAS]],Tableau2[#All],3,FALSE),\"\")","v":""},{"$f":"IFERROR(VLOOKUP(bd_expos[[#This Row],[Numéro CAS]],Tableau2[#All],4,FALSE),\"\")","v":""},null,null,null,null,null,{"$f":"IF('Liste nominative CMR'!B176='Fiche individuelle CMR'!$C$8,MAX($P$8:P175)+1,\"\")","v":168}]
[{"$f":"IF(COUNTIF(B$8:B176,B177)>0,\"\",MAX(A$8:A176)+1)","v":169},null,null,null,{"$f":"IF(COUNTIF(F$8:F176,F177)>0,\"\",MAX(E$8:E176)+1)","v":169},null,null,{"$f":"IFERROR(VLOOKUP(bd_expos[[#This Row],[Numéro CAS]],Tableau2[#All],2,FALSE),\"\")","v":""},{"$f":"IFERROR(VLOOKUP(bd_expos[[#This Row],[Numéro CAS]],Tableau2[#All],3,FALSE),\"\")","v":""},{"$f":"IFERROR(VLOOKUP(bd_expos[[#This Row],[Numéro CAS]],Tableau2[#All],4,FALSE),\"\")","v":""},null,null,null,null,null,{"$f":"IF('Liste nominative CMR'!B177='Fiche individuelle CMR'!$C$8,MAX($P$8:P176)+1,\"\")","v":169}]
[{"$f":"IF(COUNTIF(B$8:B177,B178)>0,\"\",MAX(A$8:A177)+1)","v":170},null,null,null,{"$f":"IF(COUNTIF(F$8:F177,F178)>0,\"\",MAX(E$8:E177)+1)","v":170},null,null,{"$f":"IFERROR(VLOOKUP(bd_expos[[#This Row],[Numéro CAS]],Tableau2[#All],2,FALSE),\"\")","v":""},{"$f":"IFERROR(VLOOKUP(bd_expos[[#This Row],[Numéro CAS]],Tableau2[#All],3,FALSE),\"\")","v":""},{"$f":"IFERROR(VLOOKUP(bd_expos[[#This Row],[Numéro CAS]],Tableau2[#All],4,FALSE),\"\")","v":""},null,null,null,null,null,{"$f":"IF('Liste nominative CMR'!B178='Fiche individuelle CMR'!$C$8,MAX($P$8:P177)+1,\"\")","v":170}]
[{"$f":"IF(COUNTIF(B$8:B178,B179)>0,\"\",MAX(A$8:A178)+1)","v":171},null,null,null,{"$f":"IF(COUNTIF(F$8:F178,F179)>0,\"\",MAX(E$8:E178)+1)","v":171},null,null,{"$f":"IFERROR(VLOOKUP(bd_expos[[#This Row],[Numéro CAS]],Tableau2[#All],2,FALSE),\"\")","v":""},{"$f":"IFERROR(VLOOKUP(bd_expos[[#This Row],[Numéro CAS]],Tableau2[#All],3,FALSE),\"\")","v":""},{"$f":"IFERROR(VLOOKUP(bd_expos[[#This Row],[Numéro CAS]],Tableau2[#All],4,FALSE),\"\")","v":""},null,null,null,null,null,{"$f":"IF('Liste nominative CMR'!B179='Fiche individuelle CMR'!$C$8,MAX($P$8:P178)+1,\"\")","v":171}]
[{"$f":"IF(COUNTIF(B$8:B179,B180)>0,\"\",MAX(A$8:A179)+1)","v":172},null,null,null,{"$f":"IF(COUNTIF(F$8:F179,F180)>0,\"\",MAX(E$8:E179)+1)","v":172},null,null,{"$f":"IFERROR(VLOOKUP(bd_expos[[#This Row],[Numéro CAS]],Tableau2[#All],2,FALSE),\"\")","v":""},{"$f":"IFERROR(VLOOKUP(bd_expos[[#This Row],[Numéro CAS]],Tableau2[#All],3,FALSE),\"\")","v":""},{"$f":"IFERROR(VLOOKUP(bd_expos[[#This Row],[Numéro CAS]],Tableau2[#All],4,FALSE),\"\")","v":""},null,null,null,null,null,{"$f":"IF('Liste nominative CMR'!B180='Fiche individuelle CMR'!$C$8,MAX($P$8:P179)+1,\"\")","v":172}]
[{"$f":"IF(COUNTIF(B$8:B180,B181)>0,\"\",MAX(A$8:A180)+1)","v":173},null,null,null,{"$f":"IF(COUNTIF(F$8:F180,F181)>0,\"\",MAX(E$8:E180)+1)","v":173},null,null,{"$f":"IFERROR(VLOOKUP(bd_expos[[#This Row],[Numéro CAS]],Tableau2[#All],2,FALSE),\"\")","v":""},{"$f":"IFERROR(VLOOKUP(bd_expos[[#This Row],[Numéro CAS]],Tableau2[#All],3,FALSE),\"\")","v":""},{"$f":"IFERROR(VLOOKUP(bd_expos[[#This Row],[Numéro CAS]],Tableau2[#All],4,FALSE),\"\")","v":""},null,null,null,null,null,{"$f":"IF('Liste nominative CMR'!B181='Fiche individuelle CMR'!$C$8,MAX($P$8:P180)+1,\"\")","v":173}]
[{"$f":"IF(COUNTIF(B$8:B181,B182)>0,\"\",MAX(A$8:A181)+1)","v":174},null,null,null,{"$f":"IF(COUNTIF(F$8:F181,F182)>0,\"\",MAX(E$8:E181)+1)","v":174},null,null,{"$f":"IFERROR(VLOOKUP(bd_expos[[#This Row],[Numéro CAS]],Tableau2[#All],2,FALSE),\"\")","v":""},{"$f":"IFERROR(VLOOKUP(bd_expos[[#This Row],[Numéro CAS]],Tableau2[#All],3,FALSE),\"\")","v":""},{"$f":"IFERROR(VLOOKUP(bd_expos[[#This Row],[Numéro CAS]],Tableau2[#All],4,FALSE),\"\")","v":""},null,null,null,null,null,{"$f":"IF('Liste nominative CMR'!B182='Fiche individuelle CMR'!$C$8,MAX($P$8:P181)+1,\"\")","v":174}]
[{"$f":"IF(COUNTIF(B$8:B182,B183)>0,\"\",MAX(A$8:A182)+1)","v":175},null,null,null,{"$f":"IF(COUNTIF(F$8:F182,F183)>0,\"\",MAX(E$8:E182)+1)","v":175},null,null,{"$f":"IFERROR(VLOOKUP(bd_expos[[#This Row],[Numéro CAS]],Tableau2[#All],2,FALSE),\"\")","v":""},{"$f":"IFERROR(VLOOKUP(bd_expos[[#This Row],[Numéro CAS]],Tableau2[#All],3,FALSE),\"\")","v":""},{"$f":"IFERROR(VLOOKUP(bd_expos[[#This Row],[Numéro CAS]],Tableau2[#All],4,FALSE),\"\")","v":""},null,null,null,null,null,{"$f":"IF('Liste nominative CMR'!B183='Fiche individuelle CMR'!$C$8,MAX($P$8:P182)+1,\"\")","v":175}]
[{"$f":"IF(COUNTIF(B$8:B183,B184)>0,\"\",MAX(A$8:A183)+1)","v":176},null,null,null,{"$f":"IF(COUNTIF(F$8:F183,F184)>0,\"\",MAX(E$8:E183)+1)","v":176},null,null,{"$f":"IFERROR(VLOOKUP(bd_expos[[#This Row],[Numéro CAS]],Tableau2[#All],2,FALSE),\"\")","v":""},{"$f":"IFERROR(VLOOKUP(bd_expos[[#This Row],[Numéro CAS]],Tableau2[#All],3,FALSE),\"\")","v":""},{"$f":"IFERROR(VLOOKUP(bd_expos[[#This Row],[Numéro CAS]],Tableau2[#All],4,FALSE),\"\")","v":""},null,null,null,null,null,{"$f":"IF('Liste nominative CMR'!B184='Fiche individuelle CMR'!$C$8,MAX($P$8:P183)+1,\"\")","v":176}]
[{"$f":"IF(COUNTIF(B$8:B184,B185)>0,\"\",MAX(A$8:A184)+1)","v":177},null,null,null,{"$f":"IF(COUNTIF(F$8:F184,F185)>0,\"\",MAX(E$8:E184)+1)","v":177},null,null,{"$f":"IFERROR(VLOOKUP(bd_expos[[#This Row],[Numéro CAS]],Tableau2[#All],2,FALSE),\"\")","v":""},{"$f":"IFERROR(VLOOKUP(bd_expos[[#This Row],[Numéro CAS]],Tableau2[#All],3,FALSE),\"\")","v":""},{"$f":"IFERROR(VLOOKUP(bd_expos[[#This Row],[Numéro CAS]],Tableau2[#All],4,FALSE),\"\")","v":""},null,null,null,null,null,{"$f":"IF('Liste nominative CMR'!B185='Fiche individuelle CMR'!$C$8,MAX($P$8:P184)+1,\"\")","v":177}]
[{"$f":"IF(COUNTIF(B$8:B185,B186)>0,\"\",MAX(A$8:A185)+1)","v":178},null,null,null,{"$f":"IF(COUNTIF(F$8:F185,F186)>0,\"\",MAX(E$8:E185)+1)","v":178},null,null,{"$f":"IFERROR(VLOOKUP(bd_expos[[#This Row],[Numéro CAS]],Tableau2[#All],2,FALSE),\"\")","v":""},{"$f":"IFERROR(VLOOKUP(bd_expos[[#This Row],[Numéro CAS]],Tableau2[#All],3,FALSE),\"\")","v":""},{"$f":"IFERROR(VLOOKUP(bd_expos[[#This Row],[Numéro CAS]],Tableau2[#All],4,FALSE),\"\")","v":""},null,null,null,null,null,{"$f":"IF('Liste nominative CMR'!B186='Fiche individuelle CMR'!$C$8,MAX($P$8:P185)+1,\"\")","v":178}]
[{"$f":"IF(COUNTIF(B$8:B186,B187)>0,\"\",MAX(A$8:A186)+1)","v":179},null,null,null,{"$f":"IF(COUNTIF(F$8:F186,F187)>0,\"\",MAX(E$8:E186)+1)","v":179},null,null,{"$f":"IFERROR(VLOOKUP(bd_expos[[#This Row],[Numéro CAS]],Tableau2[#All],2,FALSE),\"\")","v":""},{"$f":"IFERROR(VLOOKUP(bd_expos[[#This Row],[Numéro CAS]],Tableau2[#All],3,FALSE),\"\")","v":""},{"$f":"IFERROR(VLOOKUP(bd_expos[[#This Row],[Numéro CAS]],Tableau2[#All],4,FALSE),\"\")","v":""},null,null,null,null,null,{"$f":"IF('Liste nominative CMR'!B187='Fiche individuelle CMR'!$C$8,MAX($P$8:P186)+1,\"\")","v":179}]
[{"$f":"IF(COUNTIF(B$8:B187,B188)>0,\"\",MAX(A$8:A187)+1)","v":180},null,null,null,{"$f":"IF(COUNTIF(F$8:F187,F188)>0,\"\",MAX(E$8:E187)+1)","v":180},null,null,{"$f":"IFERROR(VLOOKUP(bd_expos[[#This Row],[Numéro CAS]],Tableau2[#All],2,FALSE),\"\")","v":""},{"$f":"IFERROR(VLOOKUP(bd_expos[[#This Row],[Numéro CAS]],Tableau2[#All],3,FALSE),\"\")","v":""},{"$f":"IFERROR(VLOOKUP(bd_expos[[#This Row],[Numéro CAS]],Tableau2[#All],4,FALSE),\"\")","v":""},null,null,null,null,null,{"$f":"IF('Liste nominative CMR'!B188='Fiche individuelle CMR'!$C$8,MAX($P$8:P187)+1,\"\")","v":180}]
[{"$f":"IF(COUNTIF(B$8:B188,B189)>0,\"\",MAX(A$8:A188)+1)","v":181},null,null,null,{"$f":"IF(COUNTIF(F$8:F188,F189)>0,\"\",MAX(E$8:E188)+1)","v":181},null,null,{"$f":"IFERROR(VLOOKUP(bd_expos[[#This Row],[Numéro CAS]],Tableau2[#All],2,FALSE),\"\")","v":""},{"$f":"IFERROR(VLOOKUP(bd_expos[[#This Row],[Numéro CAS]],Tableau2[#All],3,FALSE),\"\")","v":""},{"$f":"IFERROR(VLOOKUP(bd_expos[[#This Row],[Numéro CAS]],Tableau2[#All],4,FALSE),\"\")","v":""},null,null,null,null,null,{"$f":"IF('Liste nominative CMR'!B189='Fiche individuelle CMR'!$C$8,MAX($P$8:P188)+1,\"\")","v":181}]
[{"$f":"IF(COUNTIF(B$8:B189,B190)>0,\"\",MAX(A$8:A189)+1)","v":182},null,null,null,{"$f":"IF(COUNTIF(F$8:F189,F190)>0,\"\",MAX(E$8:E189)+1)","v":182},null,null,{"$f":"IFERROR(VLOOKUP(bd_expos[[#This Row],[Numéro CAS]],Tableau2[#All],2,FALSE),\"\")","v":""},{"$f":"IFERROR(VLOOKUP(bd_expos[[#This Row],[Numéro CAS]],Tableau2[#All],3,FALSE),\"\")","v":""},{"$f":"IFERROR(VLOOKUP(bd_expos[[#This Row],[Numéro CAS]],Tableau2[#All],4,FALSE),\"\")","v":""},null,null,null,null,null,{"$f":"IF('Liste nominative CMR'!B190='Fiche individuelle CMR'!$C$8,MAX($P$8:P189)+1,\"\")","v":182}]
[{"$f":"IF(COUNTIF(B$8:B190,B191)>0,\"\",MAX(A$8:A190)+1)","v":183},null,null,null,{"$f":"IF(COUNTIF(F$8:F190,F191)>0,\"\",MAX(E$8:E190)+1)","v":183},null,null,{"$f":"IFERROR(VLOOKUP(bd_expos[[#This Row],[Numéro CAS]],Tableau2[#All],2,FALSE),\"\")","v":""},{"$f":"IFERROR(VLOOKUP(bd_expos[[#This Row],[Numéro CAS]],Tableau2[#All],3,FALSE),\"\")","v":""},{"$f":"IFERROR(VLOOKUP(bd_expos[[#This Row],[Numéro CAS]],Tableau2[#All],4,FALSE),\"\")","v":""},null,null,null,null,null,{"$f":"IF('Liste nominative CMR'!B191='Fiche individuelle CMR'!$C$8,MAX($P$8:P190)+1,\"\")","v":183}]
[{"$f":"IF(COUNTIF(B$8:B191,B192)>0,\"\",MAX(A$8:A191)+1)","v":184},null,null,null,{"$f":"IF(COUNTIF(F$8:F191,F192)>0,\"\",MAX(E$8:E191)+1)","v":184},null,null,{"$f":"IFERROR(VLOOKUP(bd_expos[[#This Row],[Numéro CAS]],Tableau2[#All],2,FALSE),\"\")","v":""},{"$f":"IFERROR(VLOOKUP(bd_expos[[#This Row],[Numéro CAS]],Tableau2[#All],3,FALSE),\"\")","v":""},{"$f":"IFERROR(VLOOKUP(bd_expos[[#This Row],[Numéro CAS]],Tableau2[#All],4,FALSE),\"\")","v":""},null,null,null,null,null,{"$f":"IF('Liste nominative CMR'!B192='Fiche individuelle CMR'!$C$8,MAX($P$8:P191)+1,\"\")","v":184}]
[{"$f":"IF(COUNTIF(B$8:B192,B193)>0,\"\",MAX(A$8:A192)+1)","v":185},null,null,null,{"$f":"IF(COUNTIF(F$8:F192,F193)>0,\"\",MAX(E$8:E192)+1)","v":185},null,null,{"$f":"IFERROR(VLOOKUP(bd_expos[[#This Row],[Numéro CAS]],Tableau2[#All],2,FALSE),\"\")","v":""},{"$f":"IFERROR(VLOOKUP(bd_expos[[#This Row],[Numéro CAS]],Tableau2[#All],3,FALSE),\"\")","v":""},{"$f":"IFERROR(VLOOKUP(bd_expos[[#This Row],[Numéro CAS]],Tableau2[#All],4,FALSE),\"\")","v":""},null,null,null,null,null,{"$f":"IF('Liste nominative CMR'!B193='Fiche individuelle CMR'!$C$8,MAX($P$8:P192)+1,\"\")","v":185}]
[{"$f":"IF(COUNTIF(B$8:B193,B194)>0,\"\",MAX(A$8:A193)+1)","v":186},null,null,null,{"$f":"IF(COUNTIF(F$8:F193,F194)>0,\"\",MAX(E$8:E193)+1)","v":186},null,null,{"$f":"IFERROR(VLOOKUP(bd_expos[[#This Row],[Numéro CAS]],Tableau2[#All],2,FALSE),\"\")","v":""},{"$f":"IFERROR(VLOOKUP(bd_expos[[#This Row],[Numéro CAS]],Tableau2[#All],3,FALSE),\"\")","v":""},{"$f":"IFERROR(VLOOKUP(bd_expos[[#This Row],[Numéro CAS]],Tableau2[#All],4,FALSE),\"\")","v":""},null,null,null,null,null,{"$f":"IF('Liste nominative CMR'!B194='Fiche individuelle CMR'!$C$8,MAX($P$8:P193)+1,\"\")","v":186}]
[{"$f":"IF(COUNTIF(B$8:B194,B195)>0,\"\",MAX(A$8:A194)+1)","v":187},null,null,null,{"$f":"IF(COUNTIF(F$8:F194,F195)>0,\"\",MAX(E$8:E194)+1)","v":187},null,null,{"$f":"IFERROR(VLOOKUP(bd_expos[[#This Row],[Numéro CAS]],Tableau2[#All],2,FALSE),\"\")","v":""},{"$f":"IFERROR(VLOOKUP(bd_expos[[#This Row],[Numéro CAS]],Tableau2[#All],3,FALSE),\"\")","v":""},{"$f":"IFERROR(VLOOKUP(bd_expos[[#This Row],[Numéro CAS]],Tableau2[#All],4,FALSE),\"\")","v":""},null,null,null,null,null,{"$f":"IF('Liste nominative CMR'!B195='Fiche individuelle CMR'!$C$8,MAX($P$8:P194)+1,\"\")","v":187}]
[{"$f":"IF(COUNTIF(B$8:B195,B196)>0,\"\",MAX(A$8:A195)+1)","v":188},null,null,null,{"$f":"IF(COUNTIF(F$8:F195,F196)>0,\"\",MAX(E$8:E195)+1)","v":188},null,null,{"$f":"IFERROR(VLOOKUP(bd_expos[[#This Row],[Numéro CAS]],Tableau2[#All],2,FALSE),\"\")","v":""},{"$f":"IFERROR(VLOOKUP(bd_expos[[#This Row],[Numéro CAS]],Tableau2[#All],3,FALSE),\"\")","v":""},{"$f":"IFERROR(VLOOKUP(bd_expos[[#This Row],[Numéro CAS]],Tableau2[#All],4,FALSE),\"\")","v":""},null,null,null,null,null,{"$f":"IF('Liste nominative CMR'!B196='Fiche individuelle CMR'!$C$8,MAX($P$8:P195)+1,\"\")","v":188}]
[{"$f":"IF(COUNTIF(B$8:B196,B197)>0,\"\",MAX(A$8:A196)+1)","v":189},null,null,null,{"$f":"IF(COUNTIF(F$8:F196,F197)>0,\"\",MAX(E$8:E196)+1)","v":189},null,null,{"$f":"IFERROR(VLOOKUP(bd_expos[[#This Row],[Numéro CAS]],Tableau2[#All],2,FALSE),\"\")","v":""},{"$f":"IFERROR(VLOOKUP(bd_expos[[#This Row],[Numéro CAS]],Tableau2[#All],3,FALSE),\"\")","v":""},{"$f":"IFERROR(VLOOKUP(bd_expos[[#This Row],[Numéro CAS]],Tableau2[#All],4,FALSE),\"\")","v":""},null,null,null,null,null,{"$f":"IF('Liste nominative CMR'!B197='Fiche individuelle CMR'!$C$8,MAX($P$8:P196)+1,\"\")","v":189}]
[{"$f":"IF(COUNTIF(B$8:B197,B198)>0,\"\",MAX(A$8:A197)+1)","v":190},null,null,null,{"$f":"IF(COUNTIF(F$8:F197,F198)>0,\"\",MAX(E$8:E197)+1)","v":190},null,null,{"$f":"IFERROR(VLOOKUP(bd_expos[[#This Row],[Numéro CAS]],Tableau2[#All],2,FALSE),\"\")","v":""},{"$f":"IFERROR(VLOOKUP(bd_expos[[#This Row],[Numéro CAS]],Tableau2[#All],3,FALSE),\"\")","v":""},{"$f":"IFERROR(VLOOKUP(bd_expos[[#This Row],[Numéro CAS]],Tableau2[#All],4,FALSE),\"\")","v":""},null,null,null,null,null,{"$f":"IF('Liste nominative CMR'!B198='Fiche individuelle CMR'!$C$8,MAX($P$8:P197)+1,\"\")","v":190}]
[{"$f":"IF(COUNTIF(B$8:B198,B199)>0,\"\",MAX(A$8:A198)+1)","v":191},null,null,null,{"$f":"IF(COUNTIF(F$8:F198,F199)>0,\"\",MAX(E$8:E198)+1)","v":191},null,null,{"$f":"IFERROR(VLOOKUP(bd_expos[[#This Row],[Numéro CAS]],Tableau2[#All],2,FALSE),\"\")","v":""},{"$f":"IFERROR(VLOOKUP(bd_expos[[#This Row],[Numéro CAS]],Tableau2[#All],3,FALSE),\"\")","v":""},{"$f":"IFERROR(VLOOKUP(bd_expos[[#This Row],[Numéro CAS]],Tableau2[#All],4,FALSE),\"\")","v":""},null,null,null,null,null,{"$f":"IF('Liste nominative CMR'!B199='Fiche individuelle CMR'!$C$8,MAX($P$8:P198)+1,\"\")","v":191}]
[{"$f":"IF(COUNTIF(B$8:B199,B200)>0,\"\",MAX(A$8:A199)+1)","v":192},null,null,null,{"$f":"IF(COUNTIF(F$8:F199,F200)>0,\"\",MAX(E$8:E199)+1)","v":192},null,null,{"$f":"IFERROR(VLOOKUP(bd_expos[[#This Row],[Numéro CAS]],Tableau2[#All],2,FALSE),\"\")","v":""},{"$f":"IFERROR(VLOOKUP(bd_expos[[#This Row],[Numéro CAS]],Tableau2[#All],3,FALSE),\"\")","v":""},{"$f":"IFERROR(VLOOKUP(bd_expos[[#This Row],[Numéro CAS]],Tableau2[#All],4,FALSE),\"\")","v":""},null,null,null,null,null,{"$f":"IF('Liste nominative CMR'!B200='Fiche individuelle CMR'!$C$8,MAX($P$8:P199)+1,\"\")","v":192}]
[{"$f":"IF(COUNTIF(B$8:B200,B201)>0,\"\",MAX(A$8:A200)+1)","v":193},null,null,null,{"$f":"IF(COUNTIF(F$8:F200,F201)>0,\"\",MAX(E$8:E200)+1)","v":193},null,null,{"$f":"IFERROR(VLOOKUP(bd_expos[[#This Row],[Numéro CAS]],Tableau2[#All],2,FALSE),\"\")","v":""},{"$f":"IFERROR(VLOOKUP(bd_expos[[#This Row],[Numéro CAS]],Tableau2[#All],3,FALSE),\"\")","v":""},{"$f":"IFERROR(VLOOKUP(bd_expos[[#This Row],[Numéro CAS]],Tableau2[#All],4,FALSE),\"\")","v":""},null,null,null,null,null,{"$f":"IF('Liste nominative CMR'!B201='Fiche individuelle CMR'!$C$8,MAX($P$8:P200)+1,\"\")","v":193}]
[{"$f":"IF(COUNTIF(B$8:B201,B202)>0,\"\",MAX(A$8:A201)+1)","v":194},null,null,null,{"$f":"IF(COUNTIF(F$8:F201,F202)>0,\"\",MAX(E$8:E201)+1)","v":194},null,null,{"$f":"IFERROR(VLOOKUP(bd_expos[[#This Row],[Numéro CAS]],Tableau2[#All],2,FALSE),\"\")","v":""},{"$f":"IFERROR(VLOOKUP(bd_expos[[#This Row],[Numéro CAS]],Tableau2[#All],3,FALSE),\"\")","v":""},{"$f":"IFERROR(VLOOKUP(bd_expos[[#This Row],[Numéro CAS]],Tableau2[#All],4,FALSE),\"\")","v":""},null,null,null,null,null,{"$f":"IF('Liste nominative CMR'!B202='Fiche individuelle CMR'!$C$8,MAX($P$8:P201)+1,\"\")","v":194}]
[{"$f":"IF(COUNTIF(B$8:B202,B203)>0,\"\",MAX(A$8:A202)+1)","v":195},null,null,null,{"$f":"IF(COUNTIF(F$8:F202,F203)>0,\"\",MAX(E$8:E202)+1)","v":195},null,null,{"$f":"IFERROR(VLOOKUP(bd_expos[[#This Row],[Numéro CAS]],Tableau2[#All],2,FALSE),\"\")","v":""},{"$f":"IFERROR(VLOOKUP(bd_expos[[#This Row],[Numéro CAS]],Tableau2[#All],3,FALSE),\"\")","v":""},{"$f":"IFERROR(VLOOKUP(bd_expos[[#This Row],[Numéro CAS]],Tableau2[#All],4,FALSE),\"\")","v":""},null,null,null,null,null,{"$f":"IF('Liste nominative CMR'!B203='Fiche individuelle CMR'!$C$8,MAX($P$8:P202)+1,\"\")","v":195}]
[{"$f":"IF(COUNTIF(B$8:B203,B204)>0,\"\",MAX(A$8:A203)+1)","v":196},null,null,null,{"$f":"IF(COUNTIF(F$8:F203,F204)>0,\"\",MAX(E$8:E203)+1)","v":196},null,null,{"$f":"IFERROR(VLOOKUP(bd_expos[[#This Row],[Numéro CAS]],Tableau2[#All],2,FALSE),\"\")","v":""},{"$f":"IFERROR(VLOOKUP(bd_expos[[#This Row],[Numéro CAS]],Tableau2[#All],3,FALSE),\"\")","v":""},{"$f":"IFERROR(VLOOKUP(bd_expos[[#This Row],[Numéro CAS]],Tableau2[#All],4,FALSE),\"\")","v":""},null,null,null,null,null,{"$f":"IF('Liste nominative CMR'!B204='Fiche individuelle CMR'!$C$8,MAX($P$8:P203)+1,\"\")","v":196}]
[{"$f":"IF(COUNTIF(B$8:B204,B205)>0,\"\",MAX(A$8:A204)+1)","v":197},null,null,null,{"$f":"IF(COUNTIF(F$8:F204,F205)>0,\"\",MAX(E$8:E204)+1)","v":197},null,null,{"$f":"IFERROR(VLOOKUP(bd_expos[[#This Row],[Numéro CAS]],Tableau2[#All],2,FALSE),\"\")","v":""},{"$f":"IFERROR(VLOOKUP(bd_expos[[#This Row],[Numéro CAS]],Tableau2[#All],3,FALSE),\"\")","v":""},{"$f":"IFERROR(VLOOKUP(bd_expos[[#This Row],[Numéro CAS]],Tableau2[#All],4,FALSE),\"\")","v":""},null,null,null,null,null,{"$f":"IF('Liste nominative CMR'!B205='Fiche individuelle CMR'!$C$8,MAX($P$8:P204)+1,\"\")","v":197}]
[{"$f":"IF(COUNTIF(B$8:B205,B206)>0,\"\",MAX(A$8:A205)+1)","v":198},null,null,null,{"$f":"IF(COUNTIF(F$8:F205,F206)>0,\"\",MAX(E$8:E205)+1)","v":198},null,null,{"$f":"IFERROR(VLOOKUP(bd_expos[[#This Row],[Numéro CAS]],Tableau2[#All],2,FALSE),\"\")","v":""},{"$f":"IFERROR(VLOOKUP(bd_expos[[#This Row],[Numéro CAS]],Tableau2[#All],3,FALSE),\"\")","v":""},{"$f":"IFERROR(VLOOKUP(bd_expos[[#This Row],[Numéro CAS]],Tableau2[#All],4,FALSE),\"\")","v":""},null,null,null,null,null,{"$f":"IF('Liste nominative CMR'!B206='Fiche individuelle CMR'!$C$8,MAX($P$8:P205)+1,\"\")","v":198}]
[{"$f":"IF(COUNTIF(B$8:B206,B207)>0,\"\",MAX(A$8:A206)+1)","v":199},null,null,null,{"$f":"IF(COUNTIF(F$8:F206,F207)>0,\"\",MAX(E$8:E206)+1)","v":199},null,null,{"$f":"IFERROR(VLOOKUP(bd_expos[[#This Row],[Numéro CAS]],Tableau2[#All],2,FALSE),\"\")","v":""},{"$f":"IFERROR(VLOOKUP(bd_expos[[#This Row],[Numéro CAS]],Tableau2[#All],3,FALSE),\"\")","v":""},{"$f":"IFERROR(VLOOKUP(bd_expos[[#This Row],[Numéro CAS]],Tableau2[#All],4,FALSE),\"\")","v":""},null,null,null,null,null,{"$f":"IF('Liste nominative CMR'!B207='Fiche individuelle CMR'!$C$8,MAX($P$8:P206)+1,\"\")","v":199}]
[{"$f":"IF(COUNTIF(B$8:B207,B208)>0,\"\",MAX(A$8:A207)+1)","v":200},null,null,null,{"$f":"IF(COUNTIF(F$8:F207,F208)>0,\"\",MAX(E$8:E207)+1)","v":200},null,null,{"$f":"IFERROR(VLOOKUP(bd_expos[[#This Row],[Numéro CAS]],Tableau2[#All],2,FALSE),\"\")","v":""},{"$f":"IFERROR(VLOOKUP(bd_expos[[#This Row],[Numéro CAS]],Tableau2[#All],3,FALSE),\"\")","v":""},{"$f":"IFERROR(VLOOKUP(bd_expos[[#This Row],[Numéro CAS]],Tableau2[#All],4,FALSE),\"\")","v":""},null,null,null,null,null,{"$f":"IF('Liste nominative CMR'!B208='Fiche individuelle CMR'!$C$8,MAX($P$8:P207)+1,\"\")","v":200}]
[{"$f":"IF(COUNTIF(B$8:B208,B209)>0,\"\",MAX(A$8:A208)+1)","v":201},null,null,null,{"$f":"IF(COUNTIF(F$8:F208,F209)>0,\"\",MAX(E$8:E208)+1)","v":201},null,null,{"$f":"IFERROR(VLOOKUP(bd_expos[[#This Row],[Numéro CAS]],Tableau2[#All],2,FALSE),\"\")","v":""},{"$f":"IFERROR(VLOOKUP(bd_expos[[#This Row],[Numéro CAS]],Tableau2[#All],3,FALSE),\"\")","v":""},{"$f":"IFERROR(VLOOKUP(bd_expos[[#This Row],[Numéro CAS]],Tableau2[#All],4,FALSE),\"\")","v":""},null,null,null,null,null,{"$f":"IF('Liste nominative CMR'!B209='Fiche individuelle CMR'!$C$8,MAX($P$8:P208)+1,\"\")","v":201}]
[{"$f":"IF(COUNTIF(B$8:B209,B210)>0,\"\",MAX(A$8:A209)+1)","v":202},null,null,null,{"$f":"IF(COUNTIF(F$8:F209,F210)>0,\"\",MAX(E$8:E209)+1)","v":202},null,null,{"$f":"IFERROR(VLOOKUP(bd_expos[[#This Row],[Numéro CAS]],Tableau2[#All],2,FALSE),\"\")","v":""},{"$f":"IFERROR(VLOOKUP(bd_expos[[#This Row],[Numéro CAS]],Tableau2[#All],3,FALSE),\"\")","v":""},{"$f":"IFERROR(VLOOKUP(bd_expos[[#This Row],[Numéro CAS]],Tableau2[#All],4,FALSE),\"\")","v":""},null,null,null,null,null,{"$f":"IF('Liste nominative CMR'!B210='Fiche individuelle CMR'!$C$8,MAX($P$8:P209)+1,\"\")","v":202}]
[{"$f":"IF(COUNTIF(B$8:B210,B211)>0,\"\",MAX(A$8:A210)+1)","v":203},null,null,null,{"$f":"IF(COUNTIF(F$8:F210,F211)>0,\"\",MAX(E$8:E210)+1)","v":203},null,null,{"$f":"IFERROR(VLOOKUP(bd_expos[[#This Row],[Numéro CAS]],Tableau2[#All],2,FALSE),\"\")","v":""},{"$f":"IFERROR(VLOOKUP(bd_expos[[#This Row],[Numéro CAS]],Tableau2[#All],3,FALSE),\"\")","v":""},{"$f":"IFERROR(VLOOKUP(bd_expos[[#This Row],[Numéro CAS]],Tableau2[#All],4,FALSE),\"\")","v":""},null,null,null,null,null,{"$f":"IF('Liste nominative CMR'!B211='Fiche individuelle CMR'!$C$8,MAX($P$8:P210)+1,\"\")","v":203}]
[{"$f":"IF(COUNTIF(B$8:B211,B212)>0,\"\",MAX(A$8:A211)+1)","v":204},null,null,null,{"$f":"IF(COUNTIF(F$8:F211,F212)>0,\"\",MAX(E$8:E211)+1)","v":204},null,null,{"$f":"IFERROR(VLOOKUP(bd_expos[[#This Row],[Numéro CAS]],Tableau2[#All],2,FALSE),\"\")","v":""},{"$f":"IFERROR(VLOOKUP(bd_expos[[#This Row],[Numéro CAS]],Tableau2[#All],3,FALSE),\"\")","v":""},{"$f":"IFERROR(VLOOKUP(bd_expos[[#This Row],[Numéro CAS]],Tableau2[#All],4,FALSE),\"\")","v":""},null,null,null,null,null,{"$f":"IF('Liste nominative CMR'!B212='Fiche individuelle CMR'!$C$8,MAX($P$8:P211)+1,\"\")","v":204}]
[{"$f":"IF(COUNTIF(B$8:B212,B213)>0,\"\",MAX(A$8:A212)+1)","v":205},null,null,null,{"$f":"IF(COUNTIF(F$8:F212,F213)>0,\"\",MAX(E$8:E212)+1)","v":205},null,null,{"$f":"IFERROR(VLOOKUP(bd_expos[[#This Row],[Numéro CAS]],Tableau2[#All],2,FALSE),\"\")","v":""},{"$f":"IFERROR(VLOOKUP(bd_expos[[#This Row],[Numéro CAS]],Tableau2[#All],3,FALSE),\"\")","v":""},{"$f":"IFERROR(VLOOKUP(bd_expos[[#This Row],[Numéro CAS]],Tableau2[#All],4,FALSE),\"\")","v":""},null,null,null,null,null,{"$f":"IF('Liste nominative CMR'!B213='Fiche individuelle CMR'!$C$8,MAX($P$8:P212)+1,\"\")","v":205}]
[{"$f":"IF(COUNTIF(B$8:B213,B214)>0,\"\",MAX(A$8:A213)+1)","v":206},null,null,null,{"$f":"IF(COUNTIF(F$8:F213,F214)>0,\"\",MAX(E$8:E213)+1)","v":206},null,null,{"$f":"IFERROR(VLOOKUP(bd_expos[[#This Row],[Numéro CAS]],Tableau2[#All],2,FALSE),\"\")","v":""},{"$f":"IFERROR(VLOOKUP(bd_expos[[#This Row],[Numéro CAS]],Tableau2[#All],3,FALSE),\"\")","v":""},{"$f":"IFERROR(VLOOKUP(bd_expos[[#This Row],[Numéro CAS]],Tableau2[#All],4,FALSE),\"\")","v":""},null,null,null,null,null,{"$f":"IF('Liste nominative CMR'!B214='Fiche individuelle CMR'!$C$8,MAX($P$8:P213)+1,\"\")","v":206}]
[{"$f":"IF(COUNTIF(B$8:B214,B215)>0,\"\",MAX(A$8:A214)+1)","v":207},null,null,null,{"$f":"IF(COUNTIF(F$8:F214,F215)>0,\"\",MAX(E$8:E214)+1)","v":207},null,null,{"$f":"IFERROR(VLOOKUP(bd_expos[[#This Row],[Numéro CAS]],Tableau2[#All],2,FALSE),\"\")","v":""},{"$f":"IFERROR(VLOOKUP(bd_expos[[#This Row],[Numéro CAS]],Tableau2[#All],3,FALSE),\"\")","v":""},{"$f":"IFERROR(VLOOKUP(bd_expos[[#This Row],[Numéro CAS]],Tableau2[#All],4,FALSE),\"\")","v":""},null,null,null,null,null,{"$f":"IF('Liste nominative CMR'!B215='Fiche individuelle CMR'!$C$8,MAX($P$8:P214)+1,\"\")","v":207}]
[{"$f":"IF(COUNTIF(B$8:B215,B216)>0,\"\",MAX(A$8:A215)+1)","v":208},null,null,null,{"$f":"IF(COUNTIF(F$8:F215,F216)>0,\"\",MAX(E$8:E215)+1)","v":208},null,null,{"$f":"IFERROR(VLOOKUP(bd_expos[[#This Row],[Numéro CAS]],Tableau2[#All],2,FALSE),\"\")","v":""},{"$f":"IFERROR(VLOOKUP(bd_expos[[#This Row],[Numéro CAS]],Tableau2[#All],3,FALSE),\"\")","v":""},{"$f":"IFERROR(VLOOKUP(bd_expos[[#This Row],[Numéro CAS]],Tableau2[#All],4,FALSE),\"\")","v":""},null,null,null,null,null,{"$f":"IF('Liste nominative CMR'!B216='Fiche individuelle CMR'!$C$8,MAX($P$8:P215)+1,\"\")","v":208}]
[{"$f":"IF(COUNTIF(B$8:B216,B217)>0,\"\",MAX(A$8:A216)+1)","v":209},null,null,null,{"$f":"IF(COUNTIF(F$8:F216,F217)>0,\"\",MAX(E$8:E216)+1)","v":209},null,null,{"$f":"IFERROR(VLOOKUP(bd_expos[[#This Row],[Numéro CAS]],Tableau2[#All],2,FALSE),\"\")","v":""},{"$f":"IFERROR(VLOOKUP(bd_expos[[#This Row],[Numéro CAS]],Tableau2[#All],3,FALSE),\"\")","v":""},{"$f":"IFERROR(VLOOKUP(bd_expos[[#This Row],[Numéro CAS]],Tableau2[#All],4,FALSE),\"\")","v":""},null,null,null,null,null,{"$f":"IF('Liste nominative CMR'!B217='Fiche individuelle CMR'!$C$8,MAX($P$8:P216)+1,\"\")","v":209}]
[{"$f":"IF(COUNTIF(B$8:B217,B218)>0,\"\",MAX(A$8:A217)+1)","v":210},null,null,null,{"$f":"IF(COUNTIF(F$8:F217,F218)>0,\"\",MAX(E$8:E217)+1)","v":210},null,null,{"$f":"IFERROR(VLOOKUP(bd_expos[[#This Row],[Numéro CAS]],Tableau2[#All],2,FALSE),\"\")","v":""},{"$f":"IFERROR(VLOOKUP(bd_expos[[#This Row],[Numéro CAS]],Tableau2[#All],3,FALSE),\"\")","v":""},{"$f":"IFERROR(VLOOKUP(bd_expos[[#This Row],[Numéro CAS]],Tableau2[#All],4,FALSE),\"\")","v":""},null,null,null,null,null,{"$f":"IF('Liste nominative CMR'!B218='Fiche individuelle CMR'!$C$8,MAX($P$8:P217)+1,\"\")","v":210}]
[{"$f":"IF(COUNTIF(B$8:B218,B219)>0,\"\",MAX(A$8:A218)+1)","v":211},null,null,null,{"$f":"IF(COUNTIF(F$8:F218,F219)>0,\"\",MAX(E$8:E218)+1)","v":211},null,null,{"$f":"IFERROR(VLOOKUP(bd_expos[[#This Row],[Numéro CAS]],Tableau2[#All],2,FALSE),\"\")","v":""},{"$f":"IFERROR(VLOOKUP(bd_expos[[#This Row],[Numéro CAS]],Tableau2[#All],3,FALSE),\"\")","v":""},{"$f":"IFERROR(VLOOKUP(bd_expos[[#This Row],[Numéro CAS]],Tableau2[#All],4,FALSE),\"\")","v":""},null,null,null,null,null,{"$f":"IF('Liste nominative CMR'!B219='Fiche individuelle CMR'!$C$8,MAX($P$8:P218)+1,\"\")","v":211}]
[{"$f":"IF(COUNTIF(B$8:B219,B220)>0,\"\",MAX(A$8:A219)+1)","v":212},null,null,null,{"$f":"IF(COUNTIF(F$8:F219,F220)>0,\"\",MAX(E$8:E219)+1)","v":212},null,null,{"$f":"IFERROR(VLOOKUP(bd_expos[[#This Row],[Numéro CAS]],Tableau2[#All],2,FALSE),\"\")","v":""},{"$f":"IFERROR(VLOOKUP(bd_expos[[#This Row],[Numéro CAS]],Tableau2[#All],3,FALSE),\"\")","v":""},{"$f":"IFERROR(VLOOKUP(bd_expos[[#This Row],[Numéro CAS]],Tableau2[#All],4,FALSE),\"\")","v":""},null,null,null,null,null,{"$f":"IF('Liste nominative CMR'!B220='Fiche individuelle CMR'!$C$8,MAX($P$8:P219)+1,\"\")","v":212}]
[{"$f":"IF(COUNTIF(B$8:B220,B221)>0,\"\",MAX(A$8:A220)+1)","v":213},null,null,null,{"$f":"IF(COUNTIF(F$8:F220,F221)>0,\"\",MAX(E$8:E220)+1)","v":213},null,null,{"$f":"IFERROR(VLOOKUP(bd_expos[[#This Row],[Numéro CAS]],Tableau2[#All],2,FALSE),\"\")","v":""},{"$f":"IFERROR(VLOOKUP(bd_expos[[#This Row],[Numéro CAS]],Tableau2[#All],3,FALSE),\"\")","v":""},{"$f":"IFERROR(VLOOKUP(bd_expos[[#This Row],[Numéro CAS]],Tableau2[#All],4,FALSE),\"\")","v":""},null,null,null,null,null,{"$f":"IF('Liste nominative CMR'!B221='Fiche individuelle CMR'!$C$8,MAX($P$8:P220)+1,\"\")","v":213}]
[{"$f":"IF(COUNTIF(B$8:B221,B222)>0,\"\",MAX(A$8:A221)+1)","v":214},null,null,null,{"$f":"IF(COUNTIF(F$8:F221,F222)>0,\"\",MAX(E$8:E221)+1)","v":214},null,null,{"$f":"IFERROR(VLOOKUP(bd_expos[[#This Row],[Numéro CAS]],Tableau2[#All],2,FALSE),\"\")","v":""},{"$f":"IFERROR(VLOOKUP(bd_expos[[#This Row],[Numéro CAS]],Tableau2[#All],3,FALSE),\"\")","v":""},{"$f":"IFERROR(VLOOKUP(bd_expos[[#This Row],[Numéro CAS]],Tableau2[#All],4,FALSE),\"\")","v":""},null,null,null,null,null,{"$f":"IF('Liste nominative CMR'!B222='Fiche individuelle CMR'!$C$8,MAX($P$8:P221)+1,\"\")","v":214}]
[{"$f":"IF(COUNTIF(B$8:B222,B223)>0,\"\",MAX(A$8:A222)+1)","v":215},null,null,null,{"$f":"IF(COUNTIF(F$8:F222,F223)>0,\"\",MAX(E$8:E222)+1)","v":215},null,null,{"$f":"IFERROR(VLOOKUP(bd_expos[[#This Row],[Numéro CAS]],Tableau2[#All],2,FALSE),\"\")","v":""},{"$f":"IFERROR(VLOOKUP(bd_expos[[#This Row],[Numéro CAS]],Tableau2[#All],3,FALSE),\"\")","v":""},{"$f":"IFERROR(VLOOKUP(bd_expos[[#This Row],[Numéro CAS]],Tableau2[#All],4,FALSE),\"\")","v":""},null,null,null,null,null,{"$f":"IF('Liste nominative CMR'!B223='Fiche individuelle CMR'!$C$8,MAX($P$8:P222)+1,\"\")","v":215}]
[{"$f":"IF(COUNTIF(B$8:B223,B224)>0,\"\",MAX(A$8:A223)+1)","v":216},null,null,null,{"$f":"IF(COUNTIF(F$8:F223,F224)>0,\"\",MAX(E$8:E223)+1)","v":216},null,null,{"$f":"IFERROR(VLOOKUP(bd_expos[[#This Row],[Numéro CAS]],Tableau2[#All],2,FALSE),\"\")","v":""},{"$f":"IFERROR(VLOOKUP(bd_expos[[#This Row],[Numéro CAS]],Tableau2[#All],3,FALSE),\"\")","v":""},{"$f":"IFERROR(VLOOKUP(bd_expos[[#This Row],[Numéro CAS]],Tableau2[#All],4,FALSE),\"\")","v":""},null,null,null,null,null,{"$f":"IF('Liste nominative CMR'!B224='Fiche individuelle CMR'!$C$8,MAX($P$8:P223)+1,\"\")","v":216}]
[{"$f":"IF(COUNTIF(B$8:B224,B225)>0,\"\",MAX(A$8:A224)+1)","v":217},null,null,null,{"$f":"IF(COUNTIF(F$8:F224,F225)>0,\"\",MAX(E$8:E224)+1)","v":217},null,null,{"$f":"IFERROR(VLOOKUP(bd_expos[[#This Row],[Numéro CAS]],Tableau2[#All],2,FALSE),\"\")","v":""},{"$f":"IFERROR(VLOOKUP(bd_expos[[#This Row],[Numéro CAS]],Tableau2[#All],3,FALSE),\"\")","v":""},{"$f":"IFERROR(VLOOKUP(bd_expos[[#This Row],[Numéro CAS]],Tableau2[#All],4,FALSE),\"\")","v":""},null,null,null,null,null,{"$f":"IF('Liste nominative CMR'!B225='Fiche individuelle CMR'!$C$8,MAX($P$8:P224)+1,\"\")","v":217}]
[{"$f":"IF(COUNTIF(B$8:B225,B226)>0,\"\",MAX(A$8:A225)+1)","v":218},null,null,null,{"$f":"IF(COUNTIF(F$8:F225,F226)>0,\"\",MAX(E$8:E225)+1)","v":218},null,null,{"$f":"IFERROR(VLOOKUP(bd_expos[[#This Row],[Numéro CAS]],Tableau2[#All],2,FALSE),\"\")","v":""},{"$f":"IFERROR(VLOOKUP(bd_expos[[#This Row],[Numéro CAS]],Tableau2[#All],3,FALSE),\"\")","v":""},{"$f":"IFERROR(VLOOKUP(bd_expos[[#This Row],[Numéro CAS]],Tableau2[#All],4,FALSE),\"\")","v":""},null,null,null,null,null,{"$f":"IF('Liste nominative CMR'!B226='Fiche individuelle CMR'!$C$8,MAX($P$8:P225)+1,\"\")","v":218}]
[{"$f":"IF(COUNTIF(B$8:B226,B227)>0,\"\",MAX(A$8:A226)+1)","v":219},null,null,null,{"$f":"IF(COUNTIF(F$8:F226,F227)>0,\"\",MAX(E$8:E226)+1)","v":219},null,null,{"$f":"IFERROR(VLOOKUP(bd_expos[[#This Row],[Numéro CAS]],Tableau2[#All],2,FALSE),\"\")","v":""},{"$f":"IFERROR(VLOOKUP(bd_expos[[#This Row],[Numéro CAS]],Tableau2[#All],3,FALSE),\"\")","v":""},{"$f":"IFERROR(VLOOKUP(bd_expos[[#This Row],[Numéro CAS]],Tableau2[#All],4,FALSE),\"\")","v":""},null,null,null,null,null,{"$f":"IF('Liste nominative CMR'!B227='Fiche individuelle CMR'!$C$8,MAX($P$8:P226)+1,\"\")","v":219}]
[{"$f":"IF(COUNTIF(B$8:B227,B228)>0,\"\",MAX(A$8:A227)+1)","v":220},null,null,null,{"$f":"IF(COUNTIF(F$8:F227,F228)>0,\"\",MAX(E$8:E227)+1)","v":220},null,null,{"$f":"IFERROR(VLOOKUP(bd_expos[[#This Row],[Numéro CAS]],Tableau2[#All],2,FALSE),\"\")","v":""},{"$f":"IFERROR(VLOOKUP(bd_expos[[#This Row],[Numéro CAS]],Tableau2[#All],3,FALSE),\"\")","v":""},{"$f":"IFERROR(VLOOKUP(bd_expos[[#This Row],[Numéro CAS]],Tableau2[#All],4,FALSE),\"\")","v":""},null,null,null,null,null,{"$f":"IF('Liste nominative CMR'!B228='Fiche individuelle CMR'!$C$8,MAX($P$8:P227)+1,\"\")","v":220}]
[{"$f":"IF(COUNTIF(B$8:B228,B229)>0,\"\",MAX(A$8:A228)+1)","v":221},null,null,null,{"$f":"IF(COUNTIF(F$8:F228,F229)>0,\"\",MAX(E$8:E228)+1)","v":221},null,null,{"$f":"IFERROR(VLOOKUP(bd_expos[[#This Row],[Numéro CAS]],Tableau2[#All],2,FALSE),\"\")","v":""},{"$f":"IFERROR(VLOOKUP(bd_expos[[#This Row],[Numéro CAS]],Tableau2[#All],3,FALSE),\"\")","v":""},{"$f":"IFERROR(VLOOKUP(bd_expos[[#This Row],[Numéro CAS]],Tableau2[#All],4,FALSE),\"\")","v":""},null,null,null,null,null,{"$f":"IF('Liste nominative CMR'!B229='Fiche individuelle CMR'!$C$8,MAX($P$8:P228)+1,\"\")","v":221}]
[{"$f":"IF(COUNTIF(B$8:B229,B230)>0,\"\",MAX(A$8:A229)+1)","v":222},null,null,null,{"$f":"IF(COUNTIF(F$8:F229,F230)>0,\"\",MAX(E$8:E229)+1)","v":222},null,null,{"$f":"IFERROR(VLOOKUP(bd_expos[[#This Row],[Numéro CAS]],Tableau2[#All],2,FALSE),\"\")","v":""},{"$f":"IFERROR(VLOOKUP(bd_expos[[#This Row],[Numéro CAS]],Tableau2[#All],3,FALSE),\"\")","v":""},{"$f":"IFERROR(VLOOKUP(bd_expos[[#This Row],[Numéro CAS]],Tableau2[#All],4,FALSE),\"\")","v":""},null,null,null,null,null,{"$f":"IF('Liste nominative CMR'!B230='Fiche individuelle CMR'!$C$8,MAX($P$8:P229)+1,\"\")","v":222}]
[{"$f":"IF(COUNTIF(B$8:B230,B231)>0,\"\",MAX(A$8:A230)+1)","v":223},null,null,null,{"$f":"IF(COUNTIF(F$8:F230,F231)>0,\"\",MAX(E$8:E230)+1)","v":223},null,null,{"$f":"IFERROR(VLOOKUP(bd_expos[[#This Row],[Numéro CAS]],Tableau2[#All],2,FALSE),\"\")","v":""},{"$f":"IFERROR(VLOOKUP(bd_expos[[#This Row],[Numéro CAS]],Tableau2[#All],3,FALSE),\"\")","v":""},{"$f":"IFERROR(VLOOKUP(bd_expos[[#This Row],[Numéro CAS]],Tableau2[#All],4,FALSE),\"\")","v":""},null,null,null,null,null,{"$f":"IF('Liste nominative CMR'!B231='Fiche individuelle CMR'!$C$8,MAX($P$8:P230)+1,\"\")","v":223}]
[{"$f":"IF(COUNTIF(B$8:B231,B232)>0,\"\",MAX(A$8:A231)+1)","v":224},null,null,null,{"$f":"IF(COUNTIF(F$8:F231,F232)>0,\"\",MAX(E$8:E231)+1)","v":224},null,null,{"$f":"IFERROR(VLOOKUP(bd_expos[[#This Row],[Numéro CAS]],Tableau2[#All],2,FALSE),\"\")","v":""},{"$f":"IFERROR(VLOOKUP(bd_expos[[#This Row],[Numéro CAS]],Tableau2[#All],3,FALSE),\"\")","v":""},{"$f":"IFERROR(VLOOKUP(bd_expos[[#This Row],[Numéro CAS]],Tableau2[#All],4,FALSE),\"\")","v":""},null,null,null,null,null,{"$f":"IF('Liste nominative CMR'!B232='Fiche individuelle CMR'!$C$8,MAX($P$8:P231)+1,\"\")","v":224}]
[{"$f":"IF(COUNTIF(B$8:B232,B233)>0,\"\",MAX(A$8:A232)+1)","v":225},null,null,null,{"$f":"IF(COUNTIF(F$8:F232,F233)>0,\"\",MAX(E$8:E232)+1)","v":225},null,null,{"$f":"IFERROR(VLOOKUP(bd_expos[[#This Row],[Numéro CAS]],Tableau2[#All],2,FALSE),\"\")","v":""},{"$f":"IFERROR(VLOOKUP(bd_expos[[#This Row],[Numéro CAS]],Tableau2[#All],3,FALSE),\"\")","v":""},{"$f":"IFERROR(VLOOKUP(bd_expos[[#This Row],[Numéro CAS]],Tableau2[#All],4,FALSE),\"\")","v":""},null,null,null,null,null,{"$f":"IF('Liste nominative CMR'!B233='Fiche individuelle CMR'!$C$8,MAX($P$8:P232)+1,\"\")","v":225}]
[{"$f":"IF(COUNTIF(B$8:B233,B234)>0,\"\",MAX(A$8:A233)+1)","v":226},null,null,null,{"$f":"IF(COUNTIF(F$8:F233,F234)>0,\"\",MAX(E$8:E233)+1)","v":226},null,null,{"$f":"IFERROR(VLOOKUP(bd_expos[[#This Row],[Numéro CAS]],Tableau2[#All],2,FALSE),\"\")","v":""},{"$f":"IFERROR(VLOOKUP(bd_expos[[#This Row],[Numéro CAS]],Tableau2[#All],3,FALSE),\"\")","v":""},{"$f":"IFERROR(VLOOKUP(bd_expos[[#This Row],[Numéro CAS]],Tableau2[#All],4,FALSE),\"\")","v":""},null,null,null,null,null,{"$f":"IF('Liste nominative CMR'!B234='Fiche individuelle CMR'!$C$8,MAX($P$8:P233)+1,\"\")","v":226}]
[{"$f":"IF(COUNTIF(B$8:B234,B235)>0,\"\",MAX(A$8:A234)+1)","v":227},null,null,null,{"$f":"IF(COUNTIF(F$8:F234,F235)>0,\"\",MAX(E$8:E234)+1)","v":227},null,null,{"$f":"IFERROR(VLOOKUP(bd_expos[[#This Row],[Numéro CAS]],Tableau2[#All],2,FALSE),\"\")","v":""},{"$f":"IFERROR(VLOOKUP(bd_expos[[#This Row],[Numéro CAS]],Tableau2[#All],3,FALSE),\"\")","v":""},{"$f":"IFERROR(VLOOKUP(bd_expos[[#This Row],[Numéro CAS]],Tableau2[#All],4,FALSE),\"\")","v":""},null,null,null,null,null,{"$f":"IF('Liste nominative CMR'!B235='Fiche individuelle CMR'!$C$8,MAX($P$8:P234)+1,\"\")","v":227}]
[{"$f":"IF(COUNTIF(B$8:B235,B236)>0,\"\",MAX(A$8:A235)+1)","v":228},null,null,null,{"$f":"IF(COUNTIF(F$8:F235,F236)>0,\"\",MAX(E$8:E235)+1)","v":228},null,null,{"$f":"IFERROR(VLOOKUP(bd_expos[[#This Row],[Numéro CAS]],Tableau2[#All],2,FALSE),\"\")","v":""},{"$f":"IFERROR(VLOOKUP(bd_expos[[#This Row],[Numéro CAS]],Tableau2[#All],3,FALSE),\"\")","v":""},{"$f":"IFERROR(VLOOKUP(bd_expos[[#This Row],[Numéro CAS]],Tableau2[#All],4,FALSE),\"\")","v":""},null,null,null,null,null,{"$f":"IF('Liste nominative CMR'!B236='Fiche individuelle CMR'!$C$8,MAX($P$8:P235)+1,\"\")","v":228}]
[{"$f":"IF(COUNTIF(B$8:B236,B237)>0,\"\",MAX(A$8:A236)+1)","v":229},null,null,null,{"$f":"IF(COUNTIF(F$8:F236,F237)>0,\"\",MAX(E$8:E236)+1)","v":229},null,null,{"$f":"IFERROR(VLOOKUP(bd_expos[[#This Row],[Numéro CAS]],Tableau2[#All],2,FALSE),\"\")","v":""},{"$f":"IFERROR(VLOOKUP(bd_expos[[#This Row],[Numéro CAS]],Tableau2[#All],3,FALSE),\"\")","v":""},{"$f":"IFERROR(VLOOKUP(bd_expos[[#This Row],[Numéro CAS]],Tableau2[#All],4,FALSE),\"\")","v":""},null,null,null,null,null,{"$f":"IF('Liste nominative CMR'!B237='Fiche individuelle CMR'!$C$8,MAX($P$8:P236)+1,\"\")","v":229}]
[{"$f":"IF(COUNTIF(B$8:B237,B238)>0,\"\",MAX(A$8:A237)+1)","v":230},null,null,null,{"$f":"IF(COUNTIF(F$8:F237,F238)>0,\"\",MAX(E$8:E237)+1)","v":230},null,null,{"$f":"IFERROR(VLOOKUP(bd_expos[[#This Row],[Numéro CAS]],Tableau2[#All],2,FALSE),\"\")","v":""},{"$f":"IFERROR(VLOOKUP(bd_expos[[#This Row],[Numéro CAS]],Tableau2[#All],3,FALSE),\"\")","v":""},{"$f":"IFERROR(VLOOKUP(bd_expos[[#This Row],[Numéro CAS]],Tableau2[#All],4,FALSE),\"\")","v":""},null,null,null,null,null,{"$f":"IF('Liste nominative CMR'!B238='Fiche individuelle CMR'!$C$8,MAX($P$8:P237)+1,\"\")","v":230}]
[{"$f":"IF(COUNTIF(B$8:B238,B239)>0,\"\",MAX(A$8:A238)+1)","v":231},null,null,null,{"$f":"IF(COUNTIF(F$8:F238,F239)>0,\"\",MAX(E$8:E238)+1)","v":231},null,null,{"$f":"IFERROR(VLOOKUP(bd_expos[[#This Row],[Numéro CAS]],Tableau2[#All],2,FALSE),\"\")","v":""},{"$f":"IFERROR(VLOOKUP(bd_expos[[#This Row],[Numéro CAS]],Tableau2[#All],3,FALSE),\"\")","v":""},{"$f":"IFERROR(VLOOKUP(bd_expos[[#This Row],[Numéro CAS]],Tableau2[#All],4,FALSE),\"\")","v":""},null,null,null,null,null,{"$f":"IF('Liste nominative CMR'!B239='Fiche individuelle CMR'!$C$8,MAX($P$8:P238)+1,\"\")","v":231}]
[{"$f":"IF(COUNTIF(B$8:B239,B240)>0,\"\",MAX(A$8:A239)+1)","v":232},null,null,null,{"$f":"IF(COUNTIF(F$8:F239,F240)>0,\"\",MAX(E$8:E239)+1)","v":232},null,null,{"$f":"IFERROR(VLOOKUP(bd_expos[[#This Row],[Numéro CAS]],Tableau2[#All],2,FALSE),\"\")","v":""},{"$f":"IFERROR(VLOOKUP(bd_expos[[#This Row],[Numéro CAS]],Tableau2[#All],3,FALSE),\"\")","v":""},{"$f":"IFERROR(VLOOKUP(bd_expos[[#This Row],[Numéro CAS]],Tableau2[#All],4,FALSE),\"\")","v":""},null,null,null,null,null,{"$f":"IF('Liste nominative CMR'!B240='Fiche individuelle CMR'!$C$8,MAX($P$8:P239)+1,\"\")","v":232}]
[{"$f":"IF(COUNTIF(B$8:B240,B241)>0,\"\",MAX(A$8:A240)+1)","v":233},null,null,null,{"$f":"IF(COUNTIF(F$8:F240,F241)>0,\"\",MAX(E$8:E240)+1)","v":233},null,null,{"$f":"IFERROR(VLOOKUP(bd_expos[[#This Row],[Numéro CAS]],Tableau2[#All],2,FALSE),\"\")","v":""},{"$f":"IFERROR(VLOOKUP(bd_expos[[#This Row],[Numéro CAS]],Tableau2[#All],3,FALSE),\"\")","v":""},{"$f":"IFERROR(VLOOKUP(bd_expos[[#This Row],[Numéro CAS]],Tableau2[#All],4,FALSE),\"\")","v":""},null,null,null,null,null,{"$f":"IF('Liste nominative CMR'!B241='Fiche individuelle CMR'!$C$8,MAX($P$8:P240)+1,\"\")","v":233}]
[{"$f":"IF(COUNTIF(B$8:B241,B242)>0,\"\",MAX(A$8:A241)+1)","v":234},null,null,null,{"$f":"IF(COUNTIF(F$8:F241,F242)>0,\"\",MAX(E$8:E241)+1)","v":234},null,null,{"$f":"IFERROR(VLOOKUP(bd_expos[[#This Row],[Numéro CAS]],Tableau2[#All],2,FALSE),\"\")","v":""},{"$f":"IFERROR(VLOOKUP(bd_expos[[#This Row],[Numéro CAS]],Tableau2[#All],3,FALSE),\"\")","v":""},{"$f":"IFERROR(VLOOKUP(bd_expos[[#This Row],[Numéro CAS]],Tableau2[#All],4,FALSE),\"\")","v":""},null,null,null,null,null,{"$f":"IF('Liste nominative CMR'!B242='Fiche individuelle CMR'!$C$8,MAX($P$8:P241)+1,\"\")","v":234}]
[{"$f":"IF(COUNTIF(B$8:B242,B243)>0,\"\",MAX(A$8:A242)+1)","v":235},null,null,null,{"$f":"IF(COUNTIF(F$8:F242,F243)>0,\"\",MAX(E$8:E242)+1)","v":235},null,null,{"$f":"IFERROR(VLOOKUP(bd_expos[[#This Row],[Numéro CAS]],Tableau2[#All],2,FALSE),\"\")","v":""},{"$f":"IFERROR(VLOOKUP(bd_expos[[#This Row],[Numéro CAS]],Tableau2[#All],3,FALSE),\"\")","v":""},{"$f":"IFERROR(VLOOKUP(bd_expos[[#This Row],[Numéro CAS]],Tableau2[#All],4,FALSE),\"\")","v":""},null,null,null,null,null,{"$f":"IF('Liste nominative CMR'!B243='Fiche individuelle CMR'!$C$8,MAX($P$8:P242)+1,\"\")","v":235}]
[{"$f":"IF(COUNTIF(B$8:B243,B244)>0,\"\",MAX(A$8:A243)+1)","v":236},null,null,null,{"$f":"IF(COUNTIF(F$8:F243,F244)>0,\"\",MAX(E$8:E243)+1)","v":236},null,null,{"$f":"IFERROR(VLOOKUP(bd_expos[[#This Row],[Numéro CAS]],Tableau2[#All],2,FALSE),\"\")","v":""},{"$f":"IFERROR(VLOOKUP(bd_expos[[#This Row],[Numéro CAS]],Tableau2[#All],3,FALSE),\"\")","v":""},{"$f":"IFERROR(VLOOKUP(bd_expos[[#This Row],[Numéro CAS]],Tableau2[#All],4,FALSE),\"\")","v":""},null,null,null,null,null,{"$f":"IF('Liste nominative CMR'!B244='Fiche individuelle CMR'!$C$8,MAX($P$8:P243)+1,\"\")","v":236}]
[{"$f":"IF(COUNTIF(B$8:B244,B245)>0,\"\",MAX(A$8:A244)+1)","v":237},null,null,null,{"$f":"IF(COUNTIF(F$8:F244,F245)>0,\"\",MAX(E$8:E244)+1)","v":237},null,null,{"$f":"IFERROR(VLOOKUP(bd_expos[[#This Row],[Numéro CAS]],Tableau2[#All],2,FALSE),\"\")","v":""},{"$f":"IFERROR(VLOOKUP(bd_expos[[#This Row],[Numéro CAS]],Tableau2[#All],3,FALSE),\"\")","v":""},{"$f":"IFERROR(VLOOKUP(bd_expos[[#This Row],[Numéro CAS]],Tableau2[#All],4,FALSE),\"\")","v":""},null,null,null,null,null,{"$f":"IF('Liste nominative CMR'!B245='Fiche individuelle CMR'!$C$8,MAX($P$8:P244)+1,\"\")","v":237}]
[{"$f":"IF(COUNTIF(B$8:B245,B246)>0,\"\",MAX(A$8:A245)+1)","v":238},null,null,null,{"$f":"IF(COUNTIF(F$8:F245,F246)>0,\"\",MAX(E$8:E245)+1)","v":238},null,null,{"$f":"IFERROR(VLOOKUP(bd_expos[[#This Row],[Numéro CAS]],Tableau2[#All],2,FALSE),\"\")","v":""},{"$f":"IFERROR(VLOOKUP(bd_expos[[#This Row],[Numéro CAS]],Tableau2[#All],3,FALSE),\"\")","v":""},{"$f":"IFERROR(VLOOKUP(bd_expos[[#This Row],[Numéro CAS]],Tableau2[#All],4,FALSE),\"\")","v":""},null,null,null,null,null,{"$f":"IF('Liste nominative CMR'!B246='Fiche individuelle CMR'!$C$8,MAX($P$8:P245)+1,\"\")","v":238}]
[{"$f":"IF(COUNTIF(B$8:B246,B247)>0,\"\",MAX(A$8:A246)+1)","v":239},null,null,null,{"$f":"IF(COUNTIF(F$8:F246,F247)>0,\"\",MAX(E$8:E246)+1)","v":239},null,null,{"$f":"IFERROR(VLOOKUP(bd_expos[[#This Row],[Numéro CAS]],Tableau2[#All],2,FALSE),\"\")","v":""},{"$f":"IFERROR(VLOOKUP(bd_expos[[#This Row],[Numéro CAS]],Tableau2[#All],3,FALSE),\"\")","v":""},{"$f":"IFERROR(VLOOKUP(bd_expos[[#This Row],[Numéro CAS]],Tableau2[#All],4,FALSE),\"\")","v":""},null,null,null,null,null,{"$f":"IF('Liste nominative CMR'!B247='Fiche individuelle CMR'!$C$8,MAX($P$8:P246)+1,\"\")","v":239}]
[{"$f":"IF(COUNTIF(B$8:B247,B248)>0,\"\",MAX(A$8:A247)+1)","v":240},null,null,null,{"$f":"IF(COUNTIF(F$8:F247,F248)>0,\"\",MAX(E$8:E247)+1)","v":240},null,null,{"$f":"IFERROR(VLOOKUP(bd_expos[[#This Row],[Numéro CAS]],Tableau2[#All],2,FALSE),\"\")","v":""},{"$f":"IFERROR(VLOOKUP(bd_expos[[#This Row],[Numéro CAS]],Tableau2[#All],3,FALSE),\"\")","v":""},{"$f":"IFERROR(VLOOKUP(bd_expos[[#This Row],[Numéro CAS]],Tableau2[#All],4,FALSE),\"\")","v":""},null,null,null,null,null,{"$f":"IF('Liste nominative CMR'!B248='Fiche individuelle CMR'!$C$8,MAX($P$8:P247)+1,\"\")","v":240}]
[{"$f":"IF(COUNTIF(B$8:B248,B249)>0,\"\",MAX(A$8:A248)+1)","v":241},null,null,null,{"$f":"IF(COUNTIF(F$8:F248,F249)>0,\"\",MAX(E$8:E248)+1)","v":241},null,null,{"$f":"IFERROR(VLOOKUP(bd_expos[[#This Row],[Numéro CAS]],Tableau2[#All],2,FALSE),\"\")","v":""},{"$f":"IFERROR(VLOOKUP(bd_expos[[#This Row],[Numéro CAS]],Tableau2[#All],3,FALSE),\"\")","v":""},{"$f":"IFERROR(VLOOKUP(bd_expos[[#This Row],[Numéro CAS]],Tableau2[#All],4,FALSE),\"\")","v":""},null,null,null,null,null,{"$f":"IF('Liste nominative CMR'!B249='Fiche individuelle CMR'!$C$8,MAX($P$8:P248)+1,\"\")","v":241}]
[{"$f":"IF(COUNTIF(B$8:B249,B250)>0,\"\",MAX(A$8:A249)+1)","v":242},null,null,null,{"$f":"IF(COUNTIF(F$8:F249,F250)>0,\"\",MAX(E$8:E249)+1)","v":242},null,null,{"$f":"IFERROR(VLOOKUP(bd_expos[[#This Row],[Numéro CAS]],Tableau2[#All],2,FALSE),\"\")","v":""},{"$f":"IFERROR(VLOOKUP(bd_expos[[#This Row],[Numéro CAS]],Tableau2[#All],3,FALSE),\"\")","v":""},{"$f":"IFERROR(VLOOKUP(bd_expos[[#This Row],[Numéro CAS]],Tableau2[#All],4,FALSE),\"\")","v":""},null,null,null,null,null,{"$f":"IF('Liste nominative CMR'!B250='Fiche individuelle CMR'!$C$8,MAX($P$8:P249)+1,\"\")","v":242}]
[{"$f":"IF(COUNTIF(B$8:B250,B251)>0,\"\",MAX(A$8:A250)+1)","v":""},{"$f":"IFERROR(VLOOKUP(#REF!,#REF!,3,FALSE),\"\")","v":""},null,null,{"$f":"IF(COUNTIF(F$8:F250,F251)>0,\"\",MAX(E$8:E250)+1)","v":243},null,null,{"$f":"IFERROR(VLOOKUP(bd_expos[[#This Row],[Numéro CAS]],Tableau2[#All],2,FALSE),\"\")","v":""},{"$f":"IFERROR(VLOOKUP(bd_expos[[#This Row],[Numéro CAS]],Tableau2[#All],3,FALSE),\"\")","v":""},{"$f":"IFERROR(VLOOKUP(bd_expos[[#This Row],[Numéro CAS]],Tableau2[#All],4,FALSE),\"\")","v":""},null,null,null,null,null,{"$f":"IF('Liste nominative CMR'!B251='Fiche individuelle CMR'!$C$8,MAX($P$8:P250)+1,\"\")","v":243}]

{"sheet":"Liste anonymisée CMR","index":1,"n_rows":253,"n_cols":7,"rows_kept":253,"cut":false,"hidden":false,"merged":[[0,0,2,6]]}
["Expositions aux Cancérogènes, Mutagènes et Reprotoxiques anonymisées"]
[]
[]
[]
[null,"Raison sociale : ",{"$f":"'Liste nominative CMR'!D5","v":0},"Numéro Adhérent : ",{"$f":"'Liste nominative CMR'!K5","v":0},"Date de création : ",{"$f":"'Liste nominative CMR'!N5","v":"00:00:00"}]
[null,null,null,null,null,"Date de mise à jour : ",{"$f":"'Liste nominative CMR'!N6","v":"00:00:00"}]
[]
[]
[]
[null,{"$f":"bd_expos[[#Headers],[Numéro CAS]]","v":"Numéro CAS"},{"$f":"bd_expos[[#Headers],[Nom du CMR]]","v":"Nom du CMR"},{"$f":"bd_expos[[#Headers],[Procédés]]","v":"Procédés"},"Nature d'exposition (si connu)",{"$f":"bd_expos[[#Headers],[Durée d''exposition (si connu)]]","v":"Durée d'exposition (si connu)"},{"$f":"bd_expos[[#Headers],[Degré d''exposition ( si connue) ]]","v":"Degré d'exposition ( si connue) "}]
[null,{"$f":"bd_expos[Numéro CAS]","v":0},{"$f":"bd_expos[Nom du CMR]","v":""},{"$f":"bd_expos[Procédés]","v":0},{"$f":"bd_expos[Nature d''exposition (si connu)]","v":0},{"$f":"bd_expos[Durée d''exposition (si connu)]","v":0},{"$f":"bd_expos[Degré d''exposition ( si connue) ]","v":0}]
[null,0,"",0,0,0,0]
[null,0,"",0,0,0,0]
[null,0,"",0,0,0,0]
[null,0,"",0,0,0,0]
[null,0,"",0,0,0,0]
[null,0,"",0,0,0,0]
[null,0,"",0,0,0,0]
[null,0,"",0,0,0,0]
[null,0,"",0,0,0,0]
[null,0,"",0,0,0,0]
[null,0,"",0,0,0,0]
[null,0,"",0,0,0,0]
[null,0,"",0,0,0,0]
[null,0,"",0,0,0,0]
[null,0,"",0,0,0,0]
[null,0,"",0,0,0,0]
[null,0,"",0,0,0,0]
[null,0,"",0,0,0,0]
[null,0,"",0,0,0,0]
[null,0,"",0,0,0,0]
[null,0,"",0,0,0,0]
[null,0,"",0,0,0,0]
[null,0,"",0,0,0,0]
[null,0,"",0,0,0,0]
[null,0,"",0,0,0,0]
[null,0,"",0,0,0,0]
[null,0,"",0,0,0,0]
[null,0,"",0,0,0,0]
[null,0,"",0,0,0,0]
[null,0,"",0,0,0,0]
[null,0,"",0,0,0,0]
[null,0,"",0,0,0,0]
[null,0,"",0,0,0,0]
[null,0,"",0,0,0,0]
[null,0,"",0,0,0,0]
[null,0,"",0,0,0,0]
[null,0,"",0,0,0,0]
[null,0,"",0,0,0,0]
[null,0,"",0,0,0,0]
[null,0,"",0,0,0,0]
[null,0,"",0,0,0,0]
[null,0,"",0,0,0,0]
[null,0,"",0,0,0,0]
[null,0,"",0,0,0,0]
[null,0,"",0,0,0,0]
[null,0,"",0,0,0,0]
[null,0,"",0,0,0,0]
[null,0,"",0,0,0,0]
[null,0,"",0,0,0,0]
[null,0,"",0,0,0,0]
[null,0,"",0,0,0,0]
[null,0,"",0,0,0,0]
[null,0,"",0,0,0,0]
[null,0,"",0,0,0,0]
[null,0,"",0,0,0,0]
[null,0,"",0,0,0,0]
[null,0,"",0,0,0,0]
[null,0,"",0,0,0,0]
[null,0,"",0,0,0,0]
[null,0,"",0,0,0,0]
[null,0,"",0,0,0,0]
[null,0,"",0,0,0,0]
[null,0,"",0,0,0,0]
[null,0,"",0,0,0,0]
[null,0,"",0,0,0,0]
[null,0,"",0,0,0,0]
[null,0,"",0,0,0,0]
[null,0,"",0,0,0,0]
[null,0,"",0,0,0,0]
[null,0,"",0,0,0,0]
[null,0,"",0,0,0,0]
[null,0,"",0,0,0,0]
[null,0,"",0,0,0,0]
[null,0,"",0,0,0,0]
[null,0,"",0,0,0,0]
[null,0,"",0,0,0,0]
[null,0,"",0,0,0,0]
[null,0,"",0,0,0,0]
[null,0,"",0,0,0,0]
[null,0,"",0,0,0,0]
[null,0,"",0,0,0,0]
[null,0,"",0,0,0,0]
[null,0,"",0,0,0,0]
[null,0,"",0,0,0,0]
[null,0,"",0,0,0,0]
[null,0,"",0,0,0,0]
[null,0,"",0,0,0,0]
[null,0,"",0,0,0,0]
[null,0,"",0,0,0,0]
[null,0,"",0,0,0,0]
[null,0,"",0,0,0,0]
[null,0,"",0,0,0,0]
[null,0,"",0,0,0,0]
[null,0,"",0,0,0,0]
[null,0,"",0,0,0,0]
[null,0,"",0,0,0,0]
[null,0,"",0,0,0,0]
[null,0,"",0,0,0,0]
[null,0,"",0,0,0,0]
[null,0,"",0,0,0,0]
[null,0,"",0,0,0,0]
[null,0,"",0,0,0,0]
[null,0,"",0,0,0,0]
[null,0,"",0,0,0,0]
[null,0,"",0,0,0,0]
[null,0,"",0,0,0,0]
[null,0,"",0,0,0,0]
[null,0,"",0,0,0,0]
[null,0,"",0,0,0,0]
[null,0,"",0,0,0,0]
[null,0,"",0,0,0,0]
[null,0,"",0,0,0,0]
[null,0,"",0,0,0,0]
[null,0,"",0,0,0,0]
[null,0,"",0,0,0,0]
[null,0,"",0,0,0,0]
[null,0,"",0,0,0,0]
[null,0,"",0,0,0,0]
[null,0,"",0,0,0,0]
[null,0,"",0,0,0,0]
[null,0,"",0,0,0,0]
[null,0,"",0,0,0,0]
[null,0,"",0,0,0,0]
[null,0,"",0,0,0,0]
[null,0,"",0,0,0,0]
[null,0,"",0,0,0,0]
[null,0,"",0,0,0,0]
[null,0,"",0,0,0,0]
[null,0,"",0,0,0,0]
[null,0,"",0,0,0,0]
[null,0,"",0,0,0,0]
[null,0,"",0,0,0,0]
[null,0,"",0,0,0,0]
[null,0,"",0,0,0,0]
[null,0,"",0,0,0,0]
[null,0,"",0,0,0,0]
[null,0,"",0,0,0,0]
[null,0,"",0,0,0,0]
[null,0,"",0,0,0,0]
[null,0,"",0,0,0,0]
[null,0,"",0,0,0,0]
[null,0,"",0,0,0,0]
[null,0,"",0,0,0,0]
[null,0,"",0,0,0,0]
[null,0,"",0,0,0,0]
[null,0,"",0,0,0,0]
[null,0,"",0,0,0,0]
[null,0,"",0,0,0,0]
[null,0,"",0,0,0,0]
[null,0,"",0,0,0,0]
[null,0,"",0,0,0,0]
[null,0,"",0,0,0,0]
[null,0,"",0,0,0,0]
[null,0,"",0,0,0,0]
[null,0,"",0,0,0,0]
[null,0,"",0,0,0,0]
[null,0,"",0,0,0,0]
[null,0,"",0,0,0,0]
[null,0,"",0,0,0,0]
[null,0,"",0,0,0,0]
[null,0,"",0,0,0,0]
[null,0,"",0,0,0,0]
[null,0,"",0,0,0,0]
[null,0,"",0,0,0,0]
[null,0,"",0,0,0,0]
[null,0,"",0,0,0,0]
[null,0,"",0,0,0,0]
[null,0,"",0,0,0,0]
[null,0,"",0,0,0,0]
[null,0,"",0,0,0,0]
[null,0,"",0,0,0,0]
[null,0,"",0,0,0,0]
[null,0,"",0,0,0,0]
[null,0,"",0,0,0,0]
[null,0,"",0,0,0,0]
[null,0,"",0,0,0,0]
[null,0,"",0,0,0,0]
[null,0,"",0,0,0,0]
[null,0,"",0,0,0,0]
[null,0,"",0,0,0,0]
[null,0,"",0,0,0,0]
[null,0,"",0,0,0,0]
[null,0,"",0,0,0,0]
[null,0,"",0,0,0,0]
[null,0,"",0,0,0,0]
[null,0,"",0,0,0,0]
[null,0,"",0,0,0,0]
[null,0,"",0,0,0,0]
[null,0,"",0,0,0,0]
[null,0,"",0,0,0,0]
[null,0,"",0,0,0,0]
[null,0,"",0,0,0,0]
[null,0,"",0,0,0,0]
[null,0,"",0,0,0,0]
[null,0,"",0,0,0,0]
[null,0,"",0,0,0,0]
[null,0,"",0,0,0,0]
[null,0,"",0,0,0,0]
[null,0,"",0,0,0,0]
[null,0,"",0,0,0,0]
[null,0,"",0,0,0,0]
[null,0,"",0,0,0,0]
[null,0,"",0,0,0,0]
[null,0,"",0,0,0,0]
[null,0,"",0,0,0,0]
[null,0,"",0,0,0,0]
[null,0,"",0,0,0,0]
[null,0,"",0,0,0,0]
[null,0,"",0,0,0,0]
[null,0,"",0,0,0,0]
[null,0,"",0,0,0,0]
[null,0,"",0,0,0,0]
[null,0,"",0,0,0,0]
[null,0,"",0,0,0,0]
[null,0,"",0,0,0,0]
[null,0,"",0,0,0,0]
[null,0,"",0,0,0,0]
[null,0,"",0,0,0,0]
[null,0,"",0,0,0,0]
[null,0,"",0,0,0,0]
[null,0,"",0,0,0,0]
[null,0,"",0,0,0,0]
[null,0,"",0,0,0,0]
[null,0,"",0,0,0,0]
[null,0,"",0,0,0,0]
[null,0,"",0,0,0,0]
[null,0,"",0,0,0,0]
[null,0,"",0,0,0,0]
[null,0,"",0,0,0,0]
[null,0,"",0,0,0,0]
[null,0,"",0,0,0,0]
[null,0,"",0,0,0,0]
[null,0,"",0,0,0,0]
[null,0,"",0,0,0,0]
[null,0,"",0,0,0,0]
[null,0,"",0,0,0,0]
[null,0,"",0,0,0,0]
[null,0,"",0,0,0,0]
[null,0,"",0,0,0,0]
[null,0,"",0,0,0,0]
[null,0,"",0,0,0,0]
[null,0,"",0,0,0,0]

{"sheet":"Fiche individuelle CMR","index":2,"n_rows":254,"n_cols":7,"rows_kept":254,"cut":false,"hidden":false,"merged":[[0,0,2,6]]}
["Fiche individuelle d'expositions aux CMR "]
[]
[]
[]
["Raison sociale : ",{"$f":"'Liste nominative CMR'!D5","v":0},"Numéro Adhérent : ",{"$f":"'Liste nominative CMR'!K5","v":0},null,"Date de création : ",{"$f":"'Liste nominative CMR'!N5","v":"00:00:00"}]
[null,null,null,null,null,"Date de mise à jour : ",{"$f":"'Liste nominative CMR'!N6","v":"00:00:00"}]
[null,null,"Travailleur :"]
[]
[]
[]
["Numéro CAS","Nom du CMR","Procédés","Nature d'exposition (si connu)","Durée d'exposition (si connu)","Degré d'exposition ( si connue) "]
[{"$f":"_xlfn.CHOOSECOLS(_xlfn._xlws.FILTER(bd_expos[],bd_expos[NOM et Prénom du travailleur]=$C$8,\"\"),7,10,11,12,13,14)","v":0},"",0,0,0,0]
[0,"",0,0,0,0]
[0,"",0,0,0,0]
[0,"",0,0,0,0]
[0,"",0,0,0,0]
[0,"",0,0,0,0]
[0,"",0,0,0,0]
[0,"",0,0,0,0]
[0,"",0,0,0,0]
[0,"",0,0,0,0]
[0,"",0,0,0,0]
[0,"",0,0,0,0]
[0,"",0,0,0,0]
[0,"",0,0,0,0]
[0,"",0,0,0,0]
[0,"",0,0,0,0]
[0,"",0,0,0,0]
[0,"",0,0,0,0]
[0,"",0,0,0,0]
[0,"",0,0,0,0]
[0,"",0,0,0,0]
[0,"",0,0,0,0]
[0,"",0,0,0,0]
[0,"",0,0,0,0]
[0,"",0,0,0,0]
[0,"",0,0,0,0]
[0,"",0,0,0,0]
[0,"",0,0,0,0]
[0,"",0,0,0,0]
[0,"",0,0,0,0]
[0,"",0,0,0,0]
[0,"",0,0,0,0]
[0,"",0,0,0,0]
[0,"",0,0,0,0]
[0,"",0,0,0,0]
[0,"",0,0,0,0]
[0,"",0,0,0,0]
[0,"",0,0,0,0]
[0,"",0,0,0,0]
[0,"",0,0,0,0]
[0,"",0,0,0,0]
[0,"",0,0,0,0]
[0,"",0,0,0,0]
[0,"",0,0,0,0]
[0,"",0,0,0,0]
[0,"",0,0,0,0]
[0,"",0,0,0,0]
[0,"",0,0,0,0]
[0,"",0,0,0,0]
[0,"",0,0,0,0]
[0,"",0,0,0,0]
[0,"",0,0,0,0]
[0,"",0,0,0,0]
[0,"",0,0,0,0]
[0,"",0,0,0,0]
[0,"",0,0,0,0]
[0,"",0,0,0,0]
[0,"",0,0,0,0]
[0,"",0,0,0,0]
[0,"",0,0,0,0]
[0,"",0,0,0,0]
[0,"",0,0,0,0]
[0,"",0,0,0,0]
[0,"",0,0,0,0]
[0,"",0,0,0,0]
[0,"",0,0,0,0]
[0,"",0,0,0,0]
[0,"",0,0,0,0]
[0,"",0,0,0,0]
[0,"",0,0,0,0]
[0,"",0,0,0,0]
[0,"",0,0,0,0]
[0,"",0,0,0,0]
[0,"",0,0,0,0]
[0,"",0,0,0,0]
[0,"",0,0,0,0]
[0,"",0,0,0,0]
[0,"",0,0,0,0]
[0,"",0,0,0,0]
[0,"",0,0,0,0]
[0,"",0,0,0,0]
[0,"",0,0,0,0]
[0,"",0,0,0,0]
[0,"",0,0,0,0]
[0,"",0,0,0,0]
[0,"",0,0,0,0]
[0,"",0,0,0,0]
[0,"",0,0,0,0]
[0,"",0,0,0,0]
[0,"",0,0,0,0]
[0,"",0,0,0,0]
[0,"",0,0,0,0]
[0,"",0,0,0,0]
[0,"",0,0,0,0]
[0,"",0,0,0,0]
[0,"",0,0,0,0]
[0,"",0,0,0,0]
[0,"",0,0,0,0]
[0,"",0,0,0,0]
[0,"",0,0,0,0]
[0,"",0,0,0,0]
[0,"",0,0,0,0]
[0,"",0,0,0,0]
[0,"",0,0,0,0]
[0,"",0,0,0,0]
[0,"",0,0,0,0]
[0,"",0,0,0,0]
[0,"",0,0,0,0]
[0,"",0,0,0,0]
[0,"",0,0,0,0]
[0,"",0,0,0,0]
[0,"",0,0,0,0]
[0,"",0,0,0,0]
[0,"",0,0,0,0]
[0,"",0,0,0,0]
[0,"",0,0,0,0]
[0,"",0,0,0,0]
[0,"",0,0,0,0]
[0,"",0,0,0,0]
[0,"",0,0,0,0]
[0,"",0,0,0,0]
[0,"",0,0,0,0]
[0,"",0,0,0,0]
[0,"",0,0,0,0]
[0,"",0,0,0,0]
[0,"",0,0,0,0]
[0,"",0,0,0,0]
[0,"",0,0,0,0]
[0,"",0,0,0,0]
[0,"",0,0,0,0]
[0,"",0,0,0,0]
[0,"",0,0,0,0]
[0,"",0,0,0,0]
[0,"",0,0,0,0]
[0,"",0,0,0,0]
[0,"",0,0,0,0]
[0,"",0,0,0,0]
[0,"",0,0,0,0]
[0,"",0,0,0,0]
[0,"",0,0,0,0]
[0,"",0,0,0,0]
[0,"",0,0,0,0]
[0,"",0,0,0,0]
[0,"",0,0,0,0]
[0,"",0,0,0,0]
[0,"",0,0,0,0]
[0,"",0,0,0,0]
[0,"",0,0,0,0]
[0,"",0,0,0,0]
[0,"",0,0,0,0]
[0,"",0,0,0,0]
[0,"",0,0,0,0]
[0,"",0,0,0,0]
[0,"",0,0,0,0]
[0,"",0,0,0,0]
[0,"",0,0,0,0]
[0,"",0,0,0,0]
[0,"",0,0,0,0]
[0,"",0,0,0,0]
[0,"",0,0,0,0]
[0,"",0,0,0,0]
[0,"",0,0,0,0]
[0,"",0,0,0,0]
[0,"",0,0,0,0]
[0,"",0,0,0,0]
[0,"",0,0,0,0]
[0,"",0,0,0,0]
[0,"",0,0,0,0]
[0,"",0,0,0,0]
[0,"",0,0,0,0]
[0,"",0,0,0,0]
[0,"",0,0,0,0]
[0,"",0,0,0,0]
[0,"",0,0,0,0]
[0,"",0,0,0,0]
[0,"",0,0,0,0]
[0,"",0,0,0,0]
[0,"",0,0,0,0]
[0,"",0,0,0,0]
[0,"",0,0,0,0]
[0,"",0,0,0,0]
[0,"",0,0,0,0]
[0,"",0,0,0,0]
[0,"",0,0,0,0]
[0,"",0,0,0,0]
[0,"",0,0,0,0]
[0,"",0,0,0,0]
[0,"",0,0,0,0]
[0,"",0,0,0,0]
[0,"",0,0,0,0]
[0,"",0,0,0,0]
[0,"",0,0,0,0]
[0,"",0,0,0,0]
[0,"",0,0,0,0]
[0,"",0,0,0,0]
[0,"",0,0,0,0]
[0,"",0,0,0,0]
[0,"",0,0,0,0]
[0,"",0,0,0,0]
[0,"",0,0,0,0]
[0,"",0,0,0,0]
[0,"",0,0,0,0]
[0,"",0,0,0,0]
[0,"",0,0,0,0]
[0,"",0,0,0,0]
[0,"",0,0,0,0]
[0,"",0,0,0,0]
[0,"",0,0,0,0]
[0,"",0,0,0,0]
[0,"",0,0,0,0]
[0,"",0,0,0,0]
[0,"",0,0,0,0]
[0,"",0,0,0,0]
[0,"",0,0,0,0]
[0,"",0,0,0,0]
[0,"",0,0,0,0]
[0,"",0,0,0,0]
[0,"",0,0,0,0]
[0,"",0,0,0,0]
[0,"",0,0,0,0]
[0,"",0,0,0,0]
[0,"",0,0,0,0]
[0,"",0,0,0,0]
[0,"",0,0,0,0]
[0,"",0,0,0,0]
[0,"",0,0,0,0]
[0,"",0,0,0,0]
[0,"",0,0,0,0]
[0,"",0,0,0,0]
[0,"",0,0,0,0]
[0,"",0,0,0,0]
[0,"",0,0,0,0]
[0,"",0,0,0,0]
[0,"",0,0,0,0]
[0,"",0,0,0,0]
[0,"",0,0,0,0]
[0,"",0,0,0,0]
[0,"",0,0,0,0]
[0,"",0,0,0,0]
[0,"",0,0,0,0]
[0,"",0,0,0,0]
[0,"",0,0,0,0]
[0,"",0,0,0,0]

{"sheet":"Fiche intérimaires CMR ","index":3,"n_rows":254,"n_cols":9,"rows_kept":254,"cut":false,"hidden":false,"merged":[[0,2,2,8]]}
[null,null,"Fiche individuelle d'expositions aux CMR  - intérimaires"]
[]
[]
[]
[null,"Raison sociale : ",{"$f":"'Liste nominative CMR'!D5","v":0},null,null,null,null,"Date de création : ",{"$f":"'Liste nominative CMR'!N5","v":"00:00:00"}]
[null,null,null,null,null,null,null,"Date de mise à jour : ",{"$f":"'Liste nominative CMR'!N6","v":"00:00:00"}]
[null,null,null,null,"Agence d'interim :"]
[]
[]
[]
[null,"NOM et Prénom du travailleur","Numéro CAS","Nom du CMR","Procédés","Nature d'exposition (si connu)","Durée d'exposition (si connue)","Degré d'exposition (si connu) "]
[null,{"$f":"_xlfn.CHOOSECOLS(_xlfn._xlws.FILTER(bd_expos[],bd_expos[Nom de l''agence d''interim]=$E$8,\"\"),2,7,10,11,12,13,14)","v":0},0,"",0,0,0,0]
[null,0,0,"",0,0,0,0]
[null,0,0,"",0,0,0,0]
[null,0,0,"",0,0,0,0]
[null,0,0,"",0,0,0,0]
[null,0,0,"",0,0,0,0]
[null,0,0,"",0,0,0,0]
[null,0,0,"",0,0,0,0]
[null,0,0,"",0,0,0,0]
[null,0,0,"",0,0,0,0]
[null,0,0,"",0,0,0,0]
[null,0,0,"",0,0,0,0]
[null,0,0,"",0,0,0,0]
[null,0,0,"",0,0,0,0]
[null,0,0,"",0,0,0,0]
[null,0,0,"",0,0,0,0]
[null,0,0,"",0,0,0,0]
[null,0,0,"",0,0,0,0]
[null,0,0,"",0,0,0,0]
[null,0,0,"",0,0,0,0]
[null,0,0,"",0,0,0,0]
[null,0,0,"",0,0,0,0]
[null,0,0,"",0,0,0,0]
[null,0,0,"",0,0,0,0]
[null,0,0,"",0,0,0,0]
[null,0,0,"",0,0,0,0]
[null,0,0,"",0,0,0,0]
[null,0,0,"",0,0,0,0]
[null,0,0,"",0,0,0,0]
[null,0,0,"",0,0,0,0]
[null,0,0,"",0,0,0,0]
[null,0,0,"",0,0,0,0]
[null,0,0,"",0,0,0,0]
[null,0,0,"",0,0,0,0]
[null,0,0,"",0,0,0,0]
[null,0,0,"",0,0,0,0]
[null,0,0,"",0,0,0,0]
[null,0,0,"",0,0,0,0]
[null,0,0,"",0,0,0,0]
[null,0,0,"",0,0,0,0]
[null,0,0,"",0,0,0,0]
[null,0,0,"",0,0,0,0]
[null,0,0,"",0,0,0,0]
[null,0,0,"",0,0,0,0]
[null,0,0,"",0,0,0,0]
[null,0,0,"",0,0,0,0]
[null,0,0,"",0,0,0,0]
[null,0,0,"",0,0,0,0]
[null,0,0,"",0,0,0,0]
[null,0,0,"",0,0,0,0]
[null,0,0,"",0,0,0,0]
[null,0,0,"",0,0,0,0]
[null,0,0,"",0,0,0,0]
[null,0,0,"",0,0,0,0]
[null,0,0,"",0,0,0,0]
[null,0,0,"",0,0,0,0]
[null,0,0,"",0,0,0,0]
[null,0,0,"",0,0,0,0]
[null,0,0,"",0,0,0,0]
[null,0,0,"",0,0,0,0]
[null,0,0,"",0,0,0,0]
[null,0,0,"",0,0,0,0]
[null,0,0,"",0,0,0,0]
[null,0,0,"",0,0,0,0]
[null,0,0,"",0,0,0,0]
[null,0,0,"",0,0,0,0]
[null,0,0,"",0,0,0,0]
[null,0,0,"",0,0,0,0]
[null,0,0,"",0,0,0,0]
[null,0,0,"",0,0,0,0]
[null,0,0,"",0,0,0,0]
[null,0,0,"",0,0,0,0]
[null,0,0,"",0,0,0,0]
[null,0,0,"",0,0,0,0]
[null,0,0,"",0,0,0,0]
[null,0,0,"",0,0,0,0]
[null,0,0,"",0,0,0,0]
[null,0,0,"",0,0,0,0]
[null,0,0,"",0,0,0,0]
[null,0,0,"",0,0,0,0]
[null,0,0,"",0,0,0,0]
[null,0,0,"",0,0,0,0]
[null,0,0,"",0,0,0,0]
[null,0,0,"",0,0,0,0]
[null,0,0,"",0,0,0,0]
[null,0,0,"",0,0,0,0]
[null,0,0,"",0,0,0,0]
[null,0,0,"",0,0,0,0]
[null,0,0,"",0,0,0,0]
[null,0,0,"",0,0,0,0]
[null,0,0,"",0,0,0,0]
[null,0,0,"",0,0,0,0]
[null,0,0,"",0,0,0,0]
[null,0,0,"",0,0,0,0]
[null,0,0,"",0,0,0,0]
[null,0,0,"",0,0,0,0]
[null,0,0,"",0,0,0,0]
[null,0,0,"",0,0,0,0]
[null,0,0,"",0,0,0,0]
[null,0,0,"",0,0,0,0]
[null,0,0,"",0,0,0,0]
[null,0,0,"",0,0,0,0]
[null,0,0,"",0,0,0,0]
[null,0,0,"",0,0,0,0]
[null,0,0,"",0,0,0,0]
[null,0,0,"",0,0,0,0]
[null,0,0,"",0,0,0,0]
[null,0,0,"",0,0,0,0]
[null,0,0,"",0,0,0,0]
[null,0,0,"",0,0,0,0]
[null,0,0,"",0,0,0,0]
[null,0,0,"",0,0,0,0]
[null,0,0,"",0,0,0,0]
[null,0,0,"",0,0,0,0]
[null,0,0,"",0,0,0,0]
[null,0,0,"",0,0,0,0]
[null,0,0,"",0,0,0,0]
[null,0,0,"",0,0,0,0]
[null,0,0,"",0,0,0,0]
[null,0,0,"",0,0,0,0]
[null,0,0,"",0,0,0,0]
[null,0,0,"",0,0,0,0]
[null,0,0,"",0,0,0,0]
[null,0,0,"",0,0,0,0]
[null,0,0,"",0,0,0,0]
[null,0,0,"",0,0,0,0]
[null,0,0,"",0,0,0,0]
[null,0,0,"",0,0,0,0]
[null,0,0,"",0,0,0,0]
[null,0,0,"",0,0,0,0]
[null,0,0,"",0,0,0,0]
[null,0,0,"",0,0,0,0]
[null,0,0,"",0,0,0,0]
[null,0,0,"",0,0,0,0]
[null,0,0,"",0,0,0,0]
[null,0,0,"",0,0,0,0]
[null,0,0,"",0,0,0,0]
[null,0,0,"",0,0,0,0]
[null,0,0,"",0,0,0,0]
[null,0,0,"",0,0,0,0]
[null,0,0,"",0,0,0,0]
[null,0,0,"",0,0,0,0]
[null,0,0,"",0,0,0,0]
[null,0,0,"",0,0,0,0]
[null,0,0,"",0,0,0,0]
[null,0,0,"",0,0,0,0]
[null,0,0,"",0,0,0,0]
[null,0,0,"",0,0,0,0]
[null,0,0,"",0,0,0,0]
[null,0,0,"",0,0,0,0]
[null,0,0,"",0,0,0,0]
[null,0,0,"",0,0,0,0]
[null,0,0,"",0,0,0,0]
[null,0,0,"",0,0,0,0]
[null,0,0,"",0,0,0,0]
[null,0,0,"",0,0,0,0]
[null,0,0,"",0,0,0,0]
[null,0,0,"",0,0,0,0]
[null,0,0,"",0,0,0,0]
[null,0,0,"",0,0,0,0]
[null,0,0,"",0,0,0,0]
[null,0,0,"",0,0,0,0]
[null,0,0,"",0,0,0,0]
[null,0,0,"",0,0,0,0]
[null,0,0,"",0,0,0,0]
[null,0,0,"",0,0,0,0]
[null,0,0,"",0,0,0,0]
[null,0,0,"",0,0,0,0]
[null,0,0,"",0,0,0,0]
[null,0,0,"",0,0,0,0]
[null,0,0,"",0,0,0,0]
[null,0,0,"",0,0,0,0]
[null,0,0,"",0,0,0,0]
[null,0,0,"",0,0,0,0]
[null,0,0,"",0,0,0,0]
[null,0,0,"",0,0,0,0]
[null,0,0,"",0,0,0,0]
[null,0,0,"",0,0,0,0]
[null,0,0,"",0,0,0,0]
[null,0,0,"",0,0,0,0]
[null,0,0,"",0,0,0,0]
[null,0,0,"",0,0,0,0]
[null,0,0,"",0,0,0,0]
[null,0,0,"",0,0,0,0]
[null,0,0,"",0,0,0,0]
[null,0,0,"",0,0,0,0]
[null,0,0,"",0,0,0,0]
[null,0,0,"",0,0,0,0]
[null,0,0,"",0,0,0,0]
[null,0,0,"",0,0,0,0]
[null,0,0,"",0,0,0,0]
[null,0,0,"",0,0,0,0]
[null,0,0,"",0,0,0,0]
[null,0,0,"",0,0,0,0]
[null,0,0,"",0,0,0,0]
[null,0,0,"",0,0,0,0]
[null,0,0,"",0,0,0,0]
[null,0,0,"",0,0,0,0]
[null,0,0,"",0,0,0,0]
[null,0,0,"",0,0,0,0]
[null,0,0,"",0,0,0,0]
[null,0,0,"",0,0,0,0]
[null,0,0,"",0,0,0,0]
[null,0,0,"",0,0,0,0]
[null,0,0,"",0,0,0,0]
[null,0,0,"",0,0,0,0]
[null,0,0,"",0,0,0,0]
[null,0,0,"",0,0,0,0]
[null,0,0,"",0,0,0,0]
[null,0,0,"",0,0,0,0]
[null,0,0,"",0,0,0,0]
[null,0,0,"",0,0,0,0]
[null,0,0,"",0,0,0,0]
[null,0,0,"",0,0,0,0]
[null,0,0,"",0,0,0,0]
[null,0,0,"",0,0,0,0]
[null,0,0,"",0,0,0,0]
[null,0,0,"",0,0,0,0]
[null,0,0,"",0,0,0,0]
[null,0,0,"",0,0,0,0]
[null,0,0,"",0,0,0,0]
[null,0,0,"",0,0,0,0]
[null,0,0,"",0,0,0,0]
[null,0,0,"",0,0,0,0]
[null,0,0,"",0,0,0,0]
[null,0,0,"",0,0,0,0]
[null,0,0,"",0,0,0,0]
[null,0,0,"",0,0,0,0]
[null,0,0,"",0,0,0,0]
[null,0,0,"",0,0,0,0]
[null,0,0,"",0,0,0,0]
[null,0,0,"",0,0,0,0]
[null,0,0,"",0,0,0,0]
[null,0,0,"",0,0,0,0]
[null,0,0,"",0,0,0,0]
[null,0,0,"",0,0,0,0]
[null,0,0,"",0,0,0,0]
[null,0,0,"",0,0,0,0]
[null,0,0,"",0,0,0,0]
[null,0,0,"",0,0,0,0]
[null,0,0,"",0,0,0,0]
[null,0,0,"",0,0,0,0]
[null,"",0,"",0,0,0,0]

{"sheet":"Références","index":4,"n_rows":1259,"n_cols":15,"rows_kept":1259,"cut":false,"hidden":true,"merged":[[1,10,1,11],[11,10,11,11]]}
[]
[null,null,null,"Référence Substances ",null,null,null,null,null,null,"Référence Durée d'exposition"]
[]
[null,"CAS No","EC No","Index No","International Chemical Identification","Mention(s) de danger CMR1A/1B",null,"Salarié Unique","Colonne1",null,"DUREE","Libellé",null,"Agence unique ","Colonne1"]
[null,"7440-41-7","231-150-7","004-001-00-7","beryllium"," H350i",null,{"$f":"IFERROR(VLOOKUP(ROW(H1),'Liste nominative CMR'!A:B,2,FALSE),\"\")","v":0},{"$f":"IF(H5<>\"\",ROW(H5),\"\")","v":5},null,"Très souvent ou régulièrement / permanente ",">70% ou >6 heures par jour ou >3 jours par semaine ou >15 jours par mois ou >5 mois par an ",null,{"$f":"IFERROR(VLOOKUP(ROW(N1),'Liste nominative CMR'!E:F,2,FALSE),\"\")","v":0},{"$f":"IF(N5<>\"\",ROW(N5),\"\")","v":5}]
[null,"-","-","004-002-00-2","beryllium compounds with the exception of aluminium beryllium silicates, and with those specified elsewhere in this Annex"," H350i",null,{"$f":"IFERROR(VLOOKUP(ROW(H2),'Liste nominative CMR'!A:B,2,FALSE),\"\")","v":0},{"$f":"IF(H6<>\"\",ROW(H6),\"\")","v":6},null,"Souvent / fréquente",">30% ou >2heures par jour ou >1 jours par semaine ou >6 jours par mois ou >2 mois par an",null,{"$f":"IFERROR(VLOOKUP(ROW(N2),'Liste nominative CMR'!E:F,2,FALSE),\"\")","v":0},6]
[null,"1304-56-9","215-133-1","004-003-00-8","beryllium oxide"," H350i",null,{"$f":"IFERROR(VLOOKUP(ROW(H3),'Liste nominative CMR'!A:B,2,FALSE),\"\")","v":0},7,null,"Peu souvent / intermittente",">5% ou >30 minutes par jour ou >2 heures par semaine ou >1 jour par mois ou >15 jours par an",null,{"$f":"IFERROR(VLOOKUP(ROW(N3),'Liste nominative CMR'!E:F,2,FALSE),\"\")","v":0},7]
[null,"75113-37-0","401-040-5","005-006-00-7","dibutyltin hydrogen borate"," H360FD",null,{"$f":"IFERROR(VLOOKUP(ROW(H4),'Liste nominative CMR'!A:B,2,FALSE),\"\")","v":0},8,null,"Rare / occasionelle","<5% ou <30 minutes par jour ou <2heures par semaine ou <1 jour par mois  ou <15 jours par an",null,{"$f":"IFERROR(VLOOKUP(ROW(N4),'Liste nominative CMR'!E:F,2,FALSE),\"\")","v":0},8]
[null,"10043-35-3\n","233-139-2\n","005-007-00-2","boric acid\n"," H360FD",null,{"$f":"IFERROR(VLOOKUP(ROW(H5),'Liste nominative CMR'!A:B,2,FALSE),\"\")","v":0},9,null,null,null,null,{"$f":"IFERROR(VLOOKUP(ROW(N5),'Liste nominative CMR'!E:F,2,FALSE),\"\")","v":0},9]
[null,"11113-50-1\n","234-343-4\n","005-007-00-2","boric acid\n"," H360FD",null,{"$f":"IFERROR(VLOOKUP(ROW(H6),'Liste nominative CMR'!A:B,2,FALSE),\"\")","v":0},10,null,null,null,null,{"$f":"IFERROR(VLOOKUP(ROW(N6),'Liste nominative CMR'!E:F,2,FALSE),\"\")","v":0},10]
[null,"1303-86-2","215-125-8","005-008-00-8","diboron trioxide"," H360FD",null,{"$f":"IFERROR(VLOOKUP(ROW(H7),'Liste nominative CMR'!A:B,2,FALSE),\"\")","v":0},11,null,null,null,null,{"$f":"IFERROR(VLOOKUP(ROW(N7),'Liste nominative CMR'!E:F,2,FALSE),\"\")","v":0},11]
[null,"12267-73-1","235-541-3","005-011-00-4","tetraboron disodium heptaoxide, hydrate"," H360FD",null,{"$f":"IFERROR(VLOOKUP(ROW(H8),'Liste nominative CMR'!A:B,2,FALSE),\"\")","v":0},12,null,"Liste des procédés",null,null,{"$f":"IFERROR(VLOOKUP(ROW(N8),'Liste nominative CMR'!E:F,2,FALSE),\"\")","v":0},12]
[null,"1330-43-4","215-540-4","005-011-00-4","disodium tetraborate, anhydrous"," H360FD",null,{"$f":"IFERROR(VLOOKUP(ROW(H9),'Liste nominative CMR'!A:B,2,FALSE),\"\")","v":0},13,null,null,null,null,{"$f":"IFERROR(VLOOKUP(ROW(N9),'Liste nominative CMR'!E:F,2,FALSE),\"\")","v":0},13]
[null,"13840-56-7","237-560-2","005-011-00-4","orthoboric acid, sodium salt"," H360FD",null,{"$f":"IFERROR(VLOOKUP(ROW(H10),'Liste nominative CMR'!A:B,2,FALSE),\"\")","v":0},14,null,"fabrication d'auramine",null,null,{"$f":"IFERROR(VLOOKUP(ROW(N10),'Liste nominative CMR'!E:F,2,FALSE),\"\")","v":0},14]
[null,"1303-96-4","215-540-4","005-011-00-4","disodium tetraborate decahydrate"," H360FD",null,{"$f":"IFERROR(VLOOKUP(ROW(H11),'Liste nominative CMR'!A:B,2,FALSE),\"\")","v":0},15,null,"travaux exposant aux hydrocarbures polycycliques aromatiques présents dans la suie, le goudron, la poix, la fumée ou les poussières de la houille",null,null,{"$f":"IFERROR(VLOOKUP(ROW(N11),'Liste nominative CMR'!E:F,2,FALSE),\"\")","v":0},15]
[null,"12179-04-3\n","215-540-4\n","005-011-00-4","disodium tetraborate pentahydrate\n"," H360FD",null,{"$f":"IFERROR(VLOOKUP(ROW(H12),'Liste nominative CMR'!A:B,2,FALSE),\"\")","v":0},16,null,"travaux exposant aux poussières, fumées ou brouillards produits lors du grillage et de l'électroraffinage des mattes de nickel ",null,null,{"$f":"IFERROR(VLOOKUP(ROW(N12),'Liste nominative CMR'!E:F,2,FALSE),\"\")","v":0},16]
[null,"15120-21-5\n","239-172-9\n","005-017-00-7","sodium perborate; [containing = 0,1 % (w/w) of particles with an aerodynamic diameter of below 50 µm]"," H360Df",null,{"$f":"IFERROR(VLOOKUP(ROW(H13),'Liste nominative CMR'!A:B,2,FALSE),\"\")","v":0},17,null,"procédé à l'acide fort dans la fabrication d'alcool isopropylique",null,null,{"$f":"IFERROR(VLOOKUP(ROW(N13),'Liste nominative CMR'!E:F,2,FALSE),\"\")","v":0},17]
[null,"7632-04-4\n","231-556-4\n","005-017-00-7","sodium peroxometaborate; sodium peroxoborate; [containing = 0,1 % (w/w) of particles with an aerodynamic diameter of below 50 µm]\n"," H360Df",null,{"$f":"IFERROR(VLOOKUP(ROW(H14),'Liste nominative CMR'!A:B,2,FALSE),\"\")","v":0},18,null,"travaux exposant aux poussières de bois inhalables",null,null,{"$f":"IFERROR(VLOOKUP(ROW(N14),'Liste nominative CMR'!E:F,2,FALSE),\"\")","v":0},18]
[null,"15120-21-5","239-172-9","005-017-01-4","sodium perborate; [containing = 0,1 % (w/w) of particles with an aerodynamic diameter of below 50 µm]"," H360Df",null,{"$f":"IFERROR(VLOOKUP(ROW(H15),'Liste nominative CMR'!A:B,2,FALSE),\"\")","v":0},19,null,"travaux exposant au formaldéhyde",null,null,{"$f":"IFERROR(VLOOKUP(ROW(N15),'Liste nominative CMR'!E:F,2,FALSE),\"\")","v":0},19]
[null,"7632-04-4\n","231-556-4\n","005-017-01-4","sodium peroxometaborate; sodium peroxoborate; [containing < 0,1 % (w/w) of particles with an aerodynamic diameter of below 50 µm]\n"," H360Df",null,{"$f":"IFERROR(VLOOKUP(ROW(H16),'Liste nominative CMR'!A:B,2,FALSE),\"\")","v":0},20,null,"travaux exposant à la poussière de silice cristalline alvéolaire issue de procédés de travail",null,null,{"$f":"IFERROR(VLOOKUP(ROW(N16),'Liste nominative CMR'!E:F,2,FALSE),\"\")","v":0},20]
[null,"13517-20-9\n","239-172-9","005-018-00-2","perboric acid (H3BO2(O2)), monosodium salt trihydrate; [containing < 0,1 % (w/w) of particles with an aerodynamic diameter of below 50 µm]"," H360Df",null,{"$f":"IFERROR(VLOOKUP(ROW(H17),'Liste nominative CMR'!A:B,2,FALSE),\"\")","v":0},21,null,"travaux entraînant une exposition cutanée à des huiles minérales qui ont été auparavant utilisées dans des moteurs à combustion interne pour lubrifier et refroidir les pièces mobiles du moteur",null,null,{"$f":"IFERROR(VLOOKUP(ROW(N17),'Liste nominative CMR'!E:F,2,FALSE),\"\")","v":0},21]
[null,"37244-98-7\n","234-390-0\n","005-018-00-2","perboric acid, sodium salt, tetrahydrate; [containing < 0,1 % (w/w) of particles with an aerodynamic diameter of below 50 µm]"," H360Df",null,{"$f":"IFERROR(VLOOKUP(ROW(H18),'Liste nominative CMR'!A:B,2,FALSE),\"\")","v":0},22,null,"travaux exposant aux émissions d'échappement de moteurs Diesel",null,null,{"$f":"IFERROR(VLOOKUP(ROW(N18),'Liste nominative CMR'!E:F,2,FALSE),\"\")","v":0},22]
[null,"10486-00-7\n","231-556-4\n","005-018-00-2","perboric acid (HBO(O2)), sodium salt, tetrahydrate sodium peroxoborate hexahydrate; [containing < 0,1 % (w/w) of particles with an aerodynamic diameter of below 50 µm]\n"," H360Df",null,{"$f":"IFERROR(VLOOKUP(ROW(H19),'Liste nominative CMR'!A:B,2,FALSE),\"\")","v":0},23,null,null,null,null,{"$f":"IFERROR(VLOOKUP(ROW(N19),'Liste nominative CMR'!E:F,2,FALSE),\"\")","v":0},23]
[null,"13517-20-9","239-172-9","005-018-01-X","perboric acid (H3BO2(O2)), monosodium salt, trihydrate"," H360Df",null,{"$f":"IFERROR(VLOOKUP(ROW(H20),'Liste nominative CMR'!A:B,2,FALSE),\"\")","v":0},24,null,null,null,null,{"$f":"IFERROR(VLOOKUP(ROW(N20),'Liste nominative CMR'!E:F,2,FALSE),\"\")","v":0},24]
[null,"37244-98-7","234-390-0","005-018-01-X","perboric acid, sodium salt, tetrahydrate"," H360Df",null,{"$f":"IFERROR(VLOOKUP(ROW(H21),'Liste nominative CMR'!A:B,2,FALSE),\"\")","v":0},25,null,null,null,null,{"$f":"IFERROR(VLOOKUP(ROW(N21),'Liste nominative CMR'!E:F,2,FALSE),\"\")","v":0},25]
[null,"10486-00-7\n","231-556-4\n","005-018-01-X","perboric acid (HBO(O2)), sodium salt, tetrahydrate\n"," H360Df",null,{"$f":"IFERROR(VLOOKUP(ROW(H22),'Liste nominative CMR'!A:B,2,FALSE),\"\")","v":0},26,null,null,null,null,{"$f":"IFERROR(VLOOKUP(ROW(N22),'Liste nominative CMR'!E:F,2,FALSE),\"\")","v":0},26]
[null,"11138-47-9","234-390-0","005-019-00-8","perboric acid, sodium salt; [containing < 0,1 % (w/w) of particles with an aerodynamic diameter of below 50 µm]"," H360Df",null,{"$f":"IFERROR(VLOOKUP(ROW(H23),'Liste nominative CMR'!A:B,2,FALSE),\"\")","v":0},27,null,null,null,null,{"$f":"IFERROR(VLOOKUP(ROW(N23),'Liste nominative CMR'!E:F,2,FALSE),\"\")","v":0},27]
[null,"12040-72-1\n","234-390-0\n","005-019-00-8","perboric acid, sodium salt, monohydrate; [containing < 0,1 % (w/w) of particles with an aerodynamic diameter of below 50 µm]"," H360Df",null,{"$f":"IFERROR(VLOOKUP(ROW(H24),'Liste nominative CMR'!A:B,2,FALSE),\"\")","v":0},28,null,"Salariés Unique",null,null,{"$f":"IFERROR(VLOOKUP(ROW(N24),'Liste nominative CMR'!E:F,2,FALSE),\"\")","v":0},28]
[null,"10332-33-9\n","231-556-4\n","005-019-00-8","perboric acid (HBO(O2)), sodium salt, monohydrate; sodium peroxoborate; [containing < 0,1 % (w/w) of particles with an aerodynamic diameter of below 50 µm]\n"," H360Df",null,{"$f":"IFERROR(VLOOKUP(ROW(H25),'Liste nominative CMR'!A:B,2,FALSE),\"\")","v":0},29,null,{"$f":"H","v":{"$error":"#NAME?"}},null,null,{"$f":"IFERROR(VLOOKUP(ROW(N25),'Liste nominative CMR'!E:F,2,FALSE),\"\")","v":0},29]
[null,"11138-47-9","234-390-0","005-019-01-5","perboric acid, sodium salt"," H360Df",null,{"$f":"IFERROR(VLOOKUP(ROW(H26),'Liste nominative CMR'!A:B,2,FALSE),\"\")","v":0},30,null,{"$f":"IFERROR(VLOOKUP(ROW(K2),'Liste nominative CMR'!A:B,2,FALSE),\"\")","v":0},null,null,{"$f":"IFERROR(VLOOKUP(ROW(N26),'Liste nominative CMR'!E:F,2,FALSE),\"\")","v":0},30]
[null,"12040-72-1","234-390-0","005-019-01-5","perboric acid, sodium salt, monohydrate; [containing = 0,1 % (w/w) of particles with an aerodynamic diameter of below 50 µm]"," H360Df",null,{"$f":"IFERROR(VLOOKUP(ROW(H27),'Liste nominative CMR'!A:B,2,FALSE),\"\")","v":0},31,null,{"$f":"IFERROR(VLOOKUP(ROW(K3),'Liste nominative CMR'!A:B,2,FALSE),\"\")","v":0},null,null,{"$f":"IFERROR(VLOOKUP(ROW(N27),'Liste nominative CMR'!E:F,2,FALSE),\"\")","v":0},31]
[null,"10332-33-9\n","231-556-4\n","005-019-01-5","perboric acid (HBO(O2)), sodium salt, monohydrate; sodium peroxoborate; [containing = 0,1 % (w/w) of particles with an aerodynamic diameter of below 50 µm]\n"," H360Df",null,{"$f":"IFERROR(VLOOKUP(ROW(H28),'Liste nominative CMR'!A:B,2,FALSE),\"\")","v":0},32,null,null,null,null,{"$f":"IFERROR(VLOOKUP(ROW(N28),'Liste nominative CMR'!E:F,2,FALSE),\"\")","v":0},32]
[null,"12008-41-2","234-541-0","005-020-00-3","disodium octaborate anhydrous"," H360FD",null,{"$f":"IFERROR(VLOOKUP(ROW(H29),'Liste nominative CMR'!A:B,2,FALSE),\"\")","v":0},33,null,null,null,null,{"$f":"IFERROR(VLOOKUP(ROW(N29),'Liste nominative CMR'!E:F,2,FALSE),\"\")","v":0},33]
[null,"12280-03-4\n","234-541-0\n","005-020-00-3","disodium octaborate tetrahydrate\n"," H360FD",null,{"$f":"IFERROR(VLOOKUP(ROW(H30),'Liste nominative CMR'!A:B,2,FALSE),\"\")","v":0},34,null,null,null,null,{"$f":"IFERROR(VLOOKUP(ROW(N30),'Liste nominative CMR'!E:F,2,FALSE),\"\")","v":0},34]
[null,"630-08-0","211-128-3","006-001-00-2","carbon monoxide"," H360D",null,{"$f":"IFERROR(VLOOKUP(ROW(H31),'Liste nominative CMR'!A:B,2,FALSE),\"\")","v":0},35,null,null,null,null,{"$f":"IFERROR(VLOOKUP(ROW(N31),'Liste nominative CMR'!E:F,2,FALSE),\"\")","v":0},35]
[null,"330-55-2","206-356-5","006-021-00-1","linuron (ISO); 3-(3,4-dichlorophenyl)-1-methoxy-1-methylurea"," H360Df",null,{"$f":"IFERROR(VLOOKUP(ROW(H32),'Liste nominative CMR'!A:B,2,FALSE),\"\")","v":0},36,null,null,null,null,{"$f":"IFERROR(VLOOKUP(ROW(N32),'Liste nominative CMR'!E:F,2,FALSE),\"\")","v":0},36]
[null,"95-06-7","202-388-9","006-038-00-4","sulfallate (ISO); 2-chloroallyl N,N-dimethyldithiocarbamate","H350",null,{"$f":"IFERROR(VLOOKUP(ROW(H33),'Liste nominative CMR'!A:B,2,FALSE),\"\")","v":0},{"$f":"IF(H37<>\"\",ROW(H37),\"\")","v":37},null,null,null,null,{"$f":"IFERROR(VLOOKUP(ROW(N33),'Liste nominative CMR'!E:F,2,FALSE),\"\")","v":0},37]
[null,"79-44-7","201-208-6","006-041-00-0","dimethylcarbamoyl chloride","H350",null,{"$f":"IFERROR(VLOOKUP(ROW(H34),'Liste nominative CMR'!A:B,2,FALSE),\"\")","v":0},38,null,null,null,null,{"$f":"IFERROR(VLOOKUP(ROW(N34),'Liste nominative CMR'!E:F,2,FALSE),\"\")","v":0},38]
[null,"334-88-3","206-382-7","006-068-00-8","diazomethane","H350",null,{"$f":"IFERROR(VLOOKUP(ROW(H35),'Liste nominative CMR'!A:B,2,FALSE),\"\")","v":0},39,null,null,null,null,{"$f":"IFERROR(VLOOKUP(ROW(N35),'Liste nominative CMR'!E:F,2,FALSE),\"\")","v":0},39]
[null,"8018-01-7","-","006-076-00-1","mancozeb (ISO);\nmanganese ethylenebis(dithiocarbamate) (polymeric) complex with zinc salt"," H360D",null,{"$f":"IFERROR(VLOOKUP(ROW(H36),'Liste nominative CMR'!A:B,2,FALSE),\"\")","v":0},40,null,null,null,null,{"$f":"IFERROR(VLOOKUP(ROW(N36),'Liste nominative CMR'!E:F,2,FALSE),\"\")","v":0},40]
[null,"103122-66-3","434-350-4","006-094-00-X","O-isobutyl-N-ethoxy carbonylthiocarbamate","H350 H340",null,{"$f":"IFERROR(VLOOKUP(ROW(H37),'Liste nominative CMR'!A:B,2,FALSE),\"\")","v":0},41,null,null,null,null,{"$f":"IFERROR(VLOOKUP(ROW(N37),'Liste nominative CMR'!E:F,2,FALSE),\"\")","v":0},41]
[null,"-","432-750-3","006-102-00-1","O-hexyl-N-ethoxycarbonylthiocarbamate","H350 H340",null,{"$f":"IFERROR(VLOOKUP(ROW(H38),'Liste nominative CMR'!A:B,2,FALSE),\"\")","v":0},42,null,null,null,null,{"$f":"IFERROR(VLOOKUP(ROW(N38),'Liste nominative CMR'!E:F,2,FALSE),\"\")","v":0},42]
[null,"302-01-2","206-114-9","007-008-00-3","hydrazine","H350",null,{"$f":"IFERROR(VLOOKUP(ROW(H39),'Liste nominative CMR'!A:B,2,FALSE),\"\")","v":0},43,null,null,null,null,{"$f":"IFERROR(VLOOKUP(ROW(N39),'Liste nominative CMR'!E:F,2,FALSE),\"\")","v":0},43]
[null,"57-14-7","200-316-0","007-012-00-5","N,N-dimethylhydrazine","H350",null,{"$f":"IFERROR(VLOOKUP(ROW(H40),'Liste nominative CMR'!A:B,2,FALSE),\"\")","v":0},44,null,null,null,null,{"$f":"IFERROR(VLOOKUP(ROW(N40),'Liste nominative CMR'!E:F,2,FALSE),\"\")","v":0},44]
[null,"540-73-8","-","007-013-00-0","1,2-dimethylhydrazine","H350",null,{"$f":"IFERROR(VLOOKUP(ROW(H41),'Liste nominative CMR'!A:B,2,FALSE),\"\")","v":0},45,null,null,null,null,{"$f":"IFERROR(VLOOKUP(ROW(N41),'Liste nominative CMR'!E:F,2,FALSE),\"\")","v":0},45]
[null,"-","-","007-014-00-6","salts of hydrazine","H350",null,{"$f":"IFERROR(VLOOKUP(ROW(H42),'Liste nominative CMR'!A:B,2,FALSE),\"\")","v":0},46,null,null,null,null,{"$f":"IFERROR(VLOOKUP(ROW(N42),'Liste nominative CMR'!E:F,2,FALSE),\"\")","v":0},46]
[null,"542-56-3","208-819-7","007-017-00-2","isobutyl nitrite","H350",null,{"$f":"IFERROR(VLOOKUP(ROW(H43),'Liste nominative CMR'!A:B,2,FALSE),\"\")","v":0},47,null,null,null,null,{"$f":"IFERROR(VLOOKUP(ROW(N43),'Liste nominative CMR'!E:F,2,FALSE),\"\")","v":0},47]
[null,"122-66-7","204-563-5","007-021-00-4","hydrazobenzene; 1,2-diphenylhydrazine","H350",null,{"$f":"IFERROR(VLOOKUP(ROW(H44),'Liste nominative CMR'!A:B,2,FALSE),\"\")","v":0},48,null,null,null,null,{"$f":"IFERROR(VLOOKUP(ROW(N44),'Liste nominative CMR'!E:F,2,FALSE),\"\")","v":0},48]
[null,"-","405-030-1","007-022-00-X","hydrazine bis(3-carboxy-4-hydroxybenzensulfonate)","H350",null,{"$f":"IFERROR(VLOOKUP(ROW(H45),'Liste nominative CMR'!A:B,2,FALSE),\"\")","v":0},49,null,null,null,null,{"$f":"IFERROR(VLOOKUP(ROW(N45),'Liste nominative CMR'!E:F,2,FALSE),\"\")","v":0},49]
[null,"25808-74-6","247-278-1","009-014-00-1","lead hexafluorosilicate"," H360Df",null,{"$f":"IFERROR(VLOOKUP(ROW(H46),'Liste nominative CMR'!A:B,2,FALSE),\"\")","v":0},50,null,null,null,null,{"$f":"IFERROR(VLOOKUP(ROW(N46),'Liste nominative CMR'!E:F,2,FALSE),\"\")","v":0},50]
[null,"37894-46-5","253-704-7","014-014-00-X","etacelasil (ISO); 6-(2-chloroethyl)-6-(2-methoxyethoxy)-2,5,7,10-tetraoxa-6-silaundecane"," H360D",null,{"$f":"IFERROR(VLOOKUP(ROW(H47),'Liste nominative CMR'!A:B,2,FALSE),\"\")","v":0},51,null,null,null,null,{"$f":"IFERROR(VLOOKUP(ROW(N47),'Liste nominative CMR'!E:F,2,FALSE),\"\")","v":0},51]
[null,"85509-19-9","-","014-017-00-6","flusilazole (ISO); bis(4-fluorophenyl)(methyl)(1H-1,2,4-triazol-1-ylmethyl)silane"," H360D",null,{"$f":"IFERROR(VLOOKUP(ROW(H48),'Liste nominative CMR'!A:B,2,FALSE),\"\")","v":0},52,null,null,null,null,{"$f":"IFERROR(VLOOKUP(ROW(N48),'Liste nominative CMR'!E:F,2,FALSE),\"\")","v":0},52]
[null,"-","403-250-2","014-019-00-7","reaction mass of: 4-[[bis-(4-fluorophenyl)methylsilyl]methyl]-4H-1,2,4-triazole; 1-[[bis-(4-fluorophenyl)methylsilyl]methyl]-1H-1,2,4-triazole"," H360D",null,{"$f":"IFERROR(VLOOKUP(ROW(H49),'Liste nominative CMR'!A:B,2,FALSE),\"\")","v":0},53,null,null,null,null,{"$f":"IFERROR(VLOOKUP(ROW(N49),'Liste nominative CMR'!E:F,2,FALSE),\"\")","v":0},53]
[null,"105024-66-6","405-020-7","014-036-00-X","(4-ethoxyphenyl)(3-(4-fluoro-3-phenoxyphenyl)propyl)dimethylsilane"," H360F",null,{"$f":"IFERROR(VLOOKUP(ROW(H50),'Liste nominative CMR'!A:B,2,FALSE),\"\")","v":0},54,null,null,null,null,{"$f":"IFERROR(VLOOKUP(ROW(N50),'Liste nominative CMR'!E:F,2,FALSE),\"\")","v":0},54]
[null,"-","-","014-046-00-4","e-glass microfibres of representative composition; [Calcium-aluminium-silicate fibres with random orientation with the following representative composition (% given by weight): SiO2 50,0-56,0 %, Al2O3 13,0-16,0 %, B2O3 5,8-10,0 %, Na2O < 0,6 %, K2O < 0,4 %, CaO 15,0-24,0 %, MgO < 5,5 %, Fe2O3 < 0,5 %, F2 < 1,0 %. Process: typically produced by flame attenuation and rotary process. (Additional individual elements may be present at low levels; the process list does not preclude innovation).]"," H350i",null,{"$f":"IFERROR(VLOOKUP(ROW(H51),'Liste nominative CMR'!A:B,2,FALSE),\"\")","v":0},55,null,null,null,null,{"$f":"IFERROR(VLOOKUP(ROW(N51),'Liste nominative CMR'!E:F,2,FALSE),\"\")","v":0},55]
[null,"409-21-2","206-991-8","014-048-00-5","silicon carbide fibres (with diameter < 3 μm, length > 5 μm and as­pect ratio ≥ 3:1)"," H350i",null,{"$f":"IFERROR(VLOOKUP(ROW(H52),'Liste nominative CMR'!A:B,2,FALSE),\"\")","v":0},56,null,null,null,null,{"$f":"IFERROR(VLOOKUP(ROW(N52),'Liste nominative CMR'!E:F,2,FALSE),\"\")","v":0},56]
[null,"1067-53-4","213-934-0","014-050-00-6","tris(2-methoxyethoxy) vinylsilane; 6-(2-methoxyethoxy)- 6-vinyl-2,5,7,10-tetra­oxa-6-silaundecane"," H360FD",null,{"$f":"IFERROR(VLOOKUP(ROW(H53),'Liste nominative CMR'!A:B,2,FALSE),\"\")","v":0},57,null,null,null,null,{"$f":"IFERROR(VLOOKUP(ROW(N53),'Liste nominative CMR'!E:F,2,FALSE),\"\")","v":0},57]
[null,"115-96-8","204-118-5","015-102-00-0","tris(2-chloroethyl)phosphate"," H360F",null,{"$f":"IFERROR(VLOOKUP(ROW(H54),'Liste nominative CMR'!A:B,2,FALSE),\"\")","v":0},58,null,null,null,null,{"$f":"IFERROR(VLOOKUP(ROW(N54),'Liste nominative CMR'!E:F,2,FALSE),\"\")","v":0},58]
[null,"680-31-9","211-653-8","015-106-00-2","hexamethylphosphoric triamide; hexamethylphosphoramide","H350 H340",null,{"$f":"IFERROR(VLOOKUP(ROW(H55),'Liste nominative CMR'!A:B,2,FALSE),\"\")","v":0},59,null,null,null,null,{"$f":"IFERROR(VLOOKUP(ROW(N55),'Liste nominative CMR'!E:F,2,FALSE),\"\")","v":0},59]
[null,"77182-82-2","278-636-5","015-155-00-X","glufosinate ammonium (ISO); ammonium 2-amino-4-(hydroxymethylphosphinyl)butyrate"," H360Fd",null,{"$f":"IFERROR(VLOOKUP(ROW(H56),'Liste nominative CMR'!A:B,2,FALSE),\"\")","v":0},60,null,null,null,null,{"$f":"IFERROR(VLOOKUP(ROW(N56),'Liste nominative CMR'!E:F,2,FALSE),\"\")","v":0},60]
[null,"-","435-960-3","015-196-00-3","reaction mass of: dimethyl (2-(hydroxymethylcarbamoyl)ethyl)phosphonate; diethyl (2-(hydroxymethylcarbamoyl)ethyl)phosphonate; methyl ethyl (2-(hydroxymethylcarbamoyl)ethyl)phosphonate","H350 H340",null,{"$f":"IFERROR(VLOOKUP(ROW(H57),'Liste nominative CMR'!A:B,2,FALSE),\"\")","v":0},61,null,null,null,null,{"$f":"IFERROR(VLOOKUP(ROW(N57),'Liste nominative CMR'!E:F,2,FALSE),\"\")","v":0},61]
[null,"22398-80-7","244-959-5","015-200-00-3","indium phosphide","H350",null,{"$f":"IFERROR(VLOOKUP(ROW(H58),'Liste nominative CMR'!A:B,2,FALSE),\"\")","v":0},62,null,null,null,null,{"$f":"IFERROR(VLOOKUP(ROW(N58),'Liste nominative CMR'!E:F,2,FALSE),\"\")","v":0},62]
[null,"25155-23-1","246-677-8","015-201-00-9","trixylyl phosphate"," H360F",null,{"$f":"IFERROR(VLOOKUP(ROW(H59),'Liste nominative CMR'!A:B,2,FALSE),\"\")","v":0},63,null,null,null,null,{"$f":"IFERROR(VLOOKUP(ROW(N59),'Liste nominative CMR'!E:F,2,FALSE),\"\")","v":0},63]
[null,"77-78-1","201-058-1","016-023-00-4","dimethyl sulphate","H350",null,{"$f":"IFERROR(VLOOKUP(ROW(H60),'Liste nominative CMR'!A:B,2,FALSE),\"\")","v":0},64,null,null,null,null,{"$f":"IFERROR(VLOOKUP(ROW(N60),'Liste nominative CMR'!E:F,2,FALSE),\"\")","v":0},64]
[null,"64-67-5","200-589-6","016-027-00-6","diethyl sulphate","H350 H340",null,{"$f":"IFERROR(VLOOKUP(ROW(H61),'Liste nominative CMR'!A:B,2,FALSE),\"\")","v":0},65,null,null,null,null,{"$f":"IFERROR(VLOOKUP(ROW(N61),'Liste nominative CMR'!E:F,2,FALSE),\"\")","v":0},65]
[null,"1120-71-4","214-317-9","016-032-00-3","1,3-propanesultone; 1,2-oxathiolane 2,2-dioxide","H350",null,{"$f":"IFERROR(VLOOKUP(ROW(H62),'Liste nominative CMR'!A:B,2,FALSE),\"\")","v":0},66,null,null,null,null,{"$f":"IFERROR(VLOOKUP(ROW(N62),'Liste nominative CMR'!E:F,2,FALSE),\"\")","v":0},66]
[null,"13360-57-1","236-412-4","016-033-00-9","dimethylsulfamoylchloride","H350",null,{"$f":"IFERROR(VLOOKUP(ROW(H63),'Liste nominative CMR'!A:B,2,FALSE),\"\")","v":0},67,null,null,null,null,{"$f":"IFERROR(VLOOKUP(ROW(N63),'Liste nominative CMR'!E:F,2,FALSE),\"\")","v":0},67]
[null,"1314-62-1","215-239-8","023-001-00-8","divanadium pentaoxide; vanadium pentoxide","H350",null,{"$f":"IFERROR(VLOOKUP(ROW(H64),'Liste nominative CMR'!A:B,2,FALSE),\"\")","v":0},68,null,null,null,null,{"$f":"IFERROR(VLOOKUP(ROW(N64),'Liste nominative CMR'!E:F,2,FALSE),\"\")","v":0},68]
[null,"1333-82-0","215-607-8","024-001-00-0","chromium (VI) trioxide","H350 H340",null,{"$f":"IFERROR(VLOOKUP(ROW(H65),'Liste nominative CMR'!A:B,2,FALSE),\"\")","v":0},{"$f":"IF(H69<>\"\",ROW(H69),\"\")","v":69},null,null,null,null,{"$f":"IFERROR(VLOOKUP(ROW(N65),'Liste nominative CMR'!E:F,2,FALSE),\"\")","v":0},{"$f":"IF(N69<>\"\",ROW(N69),\"\")","v":69}]
[null,"7778-50-9","231-906-6","024-002-00-6","potassium dichromate","H350 H340 H360FD",null,{"$f":"IFERROR(VLOOKUP(ROW(H66),'Liste nominative CMR'!A:B,2,FALSE),\"\")","v":0},70,null,null,null,null,{"$f":"IFERROR(VLOOKUP(ROW(N66),'Liste nominative CMR'!E:F,2,FALSE),\"\")","v":0},70]
[null,"7789-09-5","232-143-1","024-003-00-1","ammonium dichromate","H350 H340 H360FD",null,{"$f":"IFERROR(VLOOKUP(ROW(H67),'Liste nominative CMR'!A:B,2,FALSE),\"\")","v":0},71,null,null,null,null,{"$f":"IFERROR(VLOOKUP(ROW(N67),'Liste nominative CMR'!E:F,2,FALSE),\"\")","v":0},71]
[null,"10588-01-9","234-190-3","024-004-00-7","sodium dichromate","H350 H340 H360FD",null,{"$f":"IFERROR(VLOOKUP(ROW(H68),'Liste nominative CMR'!A:B,2,FALSE),\"\")","v":0},72,null,null,null,null,{"$f":"IFERROR(VLOOKUP(ROW(N68),'Liste nominative CMR'!E:F,2,FALSE),\"\")","v":0},72]
[null,"14977-61-8","239-056-8","024-005-00-2","chromyl dichloride; chromic oxychloride"," H350i H340",null,{"$f":"IFERROR(VLOOKUP(ROW(H69),'Liste nominative CMR'!A:B,2,FALSE),\"\")","v":0},73,null,null,null,null,{"$f":"IFERROR(VLOOKUP(ROW(N69),'Liste nominative CMR'!E:F,2,FALSE),\"\")","v":0},73]
[null,"7789-00-6","232-140-5","024-006-00-8","potassium chromate"," H350i H340",null,{"$f":"IFERROR(VLOOKUP(ROW(H70),'Liste nominative CMR'!A:B,2,FALSE),\"\")","v":0},74,null,null,null,null,{"$f":"IFERROR(VLOOKUP(ROW(N70),'Liste nominative CMR'!E:F,2,FALSE),\"\")","v":0},74]
[null,"-","-","024-007-00-3","zinc chromates including zinc potassium chromate","H350",null,{"$f":"IFERROR(VLOOKUP(ROW(H71),'Liste nominative CMR'!A:B,2,FALSE),\"\")","v":0},75,null,null,null,null,{"$f":"IFERROR(VLOOKUP(ROW(N71),'Liste nominative CMR'!E:F,2,FALSE),\"\")","v":0},75]
[null,"13765-19-0","237-366-8","024-008-00-9","calcium chromate","H350",null,{"$f":"IFERROR(VLOOKUP(ROW(H72),'Liste nominative CMR'!A:B,2,FALSE),\"\")","v":0},76,null,null,null,null,{"$f":"IFERROR(VLOOKUP(ROW(N72),'Liste nominative CMR'!E:F,2,FALSE),\"\")","v":0},76]
[null,"7789-06-2","232-142-6","024-009-00-4","strontium chromate","H350",null,{"$f":"IFERROR(VLOOKUP(ROW(H73),'Liste nominative CMR'!A:B,2,FALSE),\"\")","v":0},77,null,null,null,null,{"$f":"IFERROR(VLOOKUP(ROW(N73),'Liste nominative CMR'!E:F,2,FALSE),\"\")","v":0},77]
[null,"24613-89-6","246-356-2","024-010-00-X","dichromium tris(chromate); chromium III chromate; chromic chromate","H350",null,{"$f":"IFERROR(VLOOKUP(ROW(H74),'Liste nominative CMR'!A:B,2,FALSE),\"\")","v":0},78,null,null,null,null,{"$f":"IFERROR(VLOOKUP(ROW(N74),'Liste nominative CMR'!E:F,2,FALSE),\"\")","v":0},78]
[null,"-","-","024-017-00-8","Chromium (VI) compounds, with the exception of barium chromate and of compounds specified elsewhere in this Annex"," H350i",null,{"$f":"IFERROR(VLOOKUP(ROW(H75),'Liste nominative CMR'!A:B,2,FALSE),\"\")","v":0},79,null,null,null,null,{"$f":"IFERROR(VLOOKUP(ROW(N75),'Liste nominative CMR'!E:F,2,FALSE),\"\")","v":0},79]
[null,"7775-11-3","231-889-5","024-018-00-3","sodium chromate","H350 H340 H360FD",null,{"$f":"IFERROR(VLOOKUP(ROW(H76),'Liste nominative CMR'!A:B,2,FALSE),\"\")","v":0},80,null,null,null,null,{"$f":"IFERROR(VLOOKUP(ROW(N76),'Liste nominative CMR'!E:F,2,FALSE),\"\")","v":0},80]
[null,"7440-48-4","231-158-0","027-001-00-9","cobalt","H350 H360F",null,{"$f":"IFERROR(VLOOKUP(ROW(H77),'Liste nominative CMR'!A:B,2,FALSE),\"\")","v":0},81,null,null,null,null,{"$f":"IFERROR(VLOOKUP(ROW(N77),'Liste nominative CMR'!E:F,2,FALSE),\"\")","v":0},81]
[null,"7646-79-9","231-589-4","027-004-00-5","cobalt dichloride"," H350i H360F",null,{"$f":"IFERROR(VLOOKUP(ROW(H78),'Liste nominative CMR'!A:B,2,FALSE),\"\")","v":0},82,null,null,null,null,{"$f":"IFERROR(VLOOKUP(ROW(N78),'Liste nominative CMR'!E:F,2,FALSE),\"\")","v":0},82]
[null,"10124-43-3","233-334-2","027-005-00-0","cobalt sulfate"," H350i H360F",null,{"$f":"IFERROR(VLOOKUP(ROW(H79),'Liste nominative CMR'!A:B,2,FALSE),\"\")","v":0},83,null,null,null,null,{"$f":"IFERROR(VLOOKUP(ROW(N79),'Liste nominative CMR'!E:F,2,FALSE),\"\")","v":0},83]
[null,"71-48-7","200-755-8","027-006-00-6","cobalt di(acetate)"," H350i H360F",null,{"$f":"IFERROR(VLOOKUP(ROW(H80),'Liste nominative CMR'!A:B,2,FALSE),\"\")","v":0},84,null,null,null,null,{"$f":"IFERROR(VLOOKUP(ROW(N80),'Liste nominative CMR'!E:F,2,FALSE),\"\")","v":0},84]
[null,"10141-05-6","233-402-1","027-009-00-2","cobalt dinitrate"," H350i H360F",null,{"$f":"IFERROR(VLOOKUP(ROW(H81),'Liste nominative CMR'!A:B,2,FALSE),\"\")","v":0},85,null,null,null,null,{"$f":"IFERROR(VLOOKUP(ROW(N81),'Liste nominative CMR'!E:F,2,FALSE),\"\")","v":0},85]
[null,"513-79-1","208-169-4","027-010-00-8","cobalt carbonate"," H350i H360F",null,{"$f":"IFERROR(VLOOKUP(ROW(H82),'Liste nominative CMR'!A:B,2,FALSE),\"\")","v":0},86,null,null,null,null,{"$f":"IFERROR(VLOOKUP(ROW(N82),'Liste nominative CMR'!E:F,2,FALSE),\"\")","v":0},86]
[null,"13463-39-3","236-669-2","028-001-00-1","tetracarbonylnickel; nickel tetracarbonyl"," H360D",null,{"$f":"IFERROR(VLOOKUP(ROW(H83),'Liste nominative CMR'!A:B,2,FALSE),\"\")","v":0},87,null,null,null,null,{"$f":"IFERROR(VLOOKUP(ROW(N83),'Liste nominative CMR'!E:F,2,FALSE),\"\")","v":0},87]
[null,"1313-99-1","215-215-7","028-003-00-2","nickel monoxide"," H350i",null,{"$f":"IFERROR(VLOOKUP(ROW(H84),'Liste nominative CMR'!A:B,2,FALSE),\"\")","v":0},88,null,null,null,null,{"$f":"IFERROR(VLOOKUP(ROW(N84),'Liste nominative CMR'!E:F,2,FALSE),\"\")","v":0},88]
[null,"11099-02-8","234-323-5\n","028-003-00-2","nickel oxide\n"," H350i",null,{"$f":"IFERROR(VLOOKUP(ROW(H85),'Liste nominative CMR'!A:B,2,FALSE),\"\")","v":0},89,null,null,null,null,{"$f":"IFERROR(VLOOKUP(ROW(N85),'Liste nominative CMR'!E:F,2,FALSE),\"\")","v":0},89]
[null,"34492-97-2\n","-","028-003-00-2","bunsenite \n"," H350i",null,{"$f":"IFERROR(VLOOKUP(ROW(H86),'Liste nominative CMR'!A:B,2,FALSE),\"\")","v":0},90,null,null,null,null,{"$f":"IFERROR(VLOOKUP(ROW(N86),'Liste nominative CMR'!E:F,2,FALSE),\"\")","v":0},90]
[null,"12035-36-8","234-823-3","028-004-00-8","nickel dioxide"," H350i",null,{"$f":"IFERROR(VLOOKUP(ROW(H87),'Liste nominative CMR'!A:B,2,FALSE),\"\")","v":0},91,null,null,null,null,{"$f":"IFERROR(VLOOKUP(ROW(N87),'Liste nominative CMR'!E:F,2,FALSE),\"\")","v":0},91]
[null,"1314-06-3","215-217-8","028-005-00-3","dinickel trioxide"," H350i",null,{"$f":"IFERROR(VLOOKUP(ROW(H88),'Liste nominative CMR'!A:B,2,FALSE),\"\")","v":0},92,null,null,null,null,{"$f":"IFERROR(VLOOKUP(ROW(N88),'Liste nominative CMR'!E:F,2,FALSE),\"\")","v":0},92]
[null,"16812-54-7","240-841-2\n","028-006-00-9","nickel (II) sulfide"," H350i",null,{"$f":"IFERROR(VLOOKUP(ROW(H89),'Liste nominative CMR'!A:B,2,FALSE),\"\")","v":0},93,null,null,null,null,{"$f":"IFERROR(VLOOKUP(ROW(N89),'Liste nominative CMR'!E:F,2,FALSE),\"\")","v":0},93]
[null,"11113-75-0","234-349-7\n","028-006-00-9","nickel sulfide"," H350i",null,{"$f":"IFERROR(VLOOKUP(ROW(H90),'Liste nominative CMR'!A:B,2,FALSE),\"\")","v":0},94,null,null,null,null,{"$f":"IFERROR(VLOOKUP(ROW(N90),'Liste nominative CMR'!E:F,2,FALSE),\"\")","v":0},94]
[null,"1314-04-1\n","-","028-006-00-9","millerite\n"," H350i",null,{"$f":"IFERROR(VLOOKUP(ROW(H91),'Liste nominative CMR'!A:B,2,FALSE),\"\")","v":0},95,null,null,null,null,{"$f":"IFERROR(VLOOKUP(ROW(N91),'Liste nominative CMR'!E:F,2,FALSE),\"\")","v":0},95]
[null,"12035-72-2","234-829-6\n","028-007-00-4","trinickel disulphide;\nnickel subsulfide"," H350i",null,{"$f":"IFERROR(VLOOKUP(ROW(H92),'Liste nominative CMR'!A:B,2,FALSE),\"\")","v":0},96,null,null,null,null,{"$f":"IFERROR(VLOOKUP(ROW(N92),'Liste nominative CMR'!E:F,2,FALSE),\"\")","v":0},96]
[null,"12035-71-1\n","-","028-007-00-4","heazlewoodite\n"," H350i",null,{"$f":"IFERROR(VLOOKUP(ROW(H93),'Liste nominative CMR'!A:B,2,FALSE),\"\")","v":0},97,null,null,null,null,{"$f":"IFERROR(VLOOKUP(ROW(N93),'Liste nominative CMR'!E:F,2,FALSE),\"\")","v":0},97]
[null,"12054-48-7","235-008-5","028-008-00-X","nickel dihydroxide"," H350i H360D",null,{"$f":"IFERROR(VLOOKUP(ROW(H94),'Liste nominative CMR'!A:B,2,FALSE),\"\")","v":0},98,null,null,null,null,{"$f":"IFERROR(VLOOKUP(ROW(N94),'Liste nominative CMR'!E:F,2,FALSE),\"\")","v":0},98]
[null,"11113-74-9\n","234-348-1\n","028-008-00-X","nickel hydroxide \n"," H350i H360D",null,{"$f":"IFERROR(VLOOKUP(ROW(H95),'Liste nominative CMR'!A:B,2,FALSE),\"\")","v":0},99,null,null,null,null,{"$f":"IFERROR(VLOOKUP(ROW(N95),'Liste nominative CMR'!E:F,2,FALSE),\"\")","v":0},99]
[null,"7786-81-4","232-104-9","028-009-00-5","nickel sulfate"," H350i H360D",null,{"$f":"IFERROR(VLOOKUP(ROW(H96),'Liste nominative CMR'!A:B,2,FALSE),\"\")","v":0},100,null,null,null,null,{"$f":"IFERROR(VLOOKUP(ROW(N96),'Liste nominative CMR'!E:F,2,FALSE),\"\")","v":0},100]
[null,"3333-67-3","222-068-2","028-010-00-0","nickel carbonate; basic nickel carbonate; carbonic acid, nickel (2+) salt"," H350i H360D",null,{"$f":"IFERROR(VLOOKUP(ROW(H97),'Liste nominative CMR'!A:B,2,FALSE),\"\")","v":0},{"$f":"IF(H101<>\"\",ROW(H101),\"\")","v":101},null,null,null,null,{"$f":"IFERROR(VLOOKUP(ROW(N97),'Liste nominative CMR'!E:F,2,FALSE),\"\")","v":0},101]
[null,"16337-84-1\n","240-408-8","028-010-00-0","carbonic acid, nickel salt"," H350i H360D",null,{"$f":"IFERROR(VLOOKUP(ROW(H98),'Liste nominative CMR'!A:B,2,FALSE),\"\")","v":0},102,null,null,null,null,{"$f":"IFERROR(VLOOKUP(ROW(N98),'Liste nominative CMR'!E:F,2,FALSE),\"\")","v":0},102]
[null,"65405-96-1","265-748-4","028-010-00-0","[µ-[carbonato(2-)-O:O’]] dihydroxy trinickel"," H350i H360D",null,{"$f":"IFERROR(VLOOKUP(ROW(H99),'Liste nominative CMR'!A:B,2,FALSE),\"\")","v":0},103,null,null,null,null,{"$f":"IFERROR(VLOOKUP(ROW(N99),'Liste nominative CMR'!E:F,2,FALSE),\"\")","v":0},103]
[null,"12607-70-4\n","235-715-9\n","028-010-00-0","[carbonato(2-)] tetrahydroxytrinickel\n"," H350i H360D",null,{"$f":"IFERROR(VLOOKUP(ROW(H100),'Liste nominative CMR'!A:B,2,FALSE),\"\")","v":0},104,null,null,null,null,{"$f":"IFERROR(VLOOKUP(ROW(N100),'Liste nominative CMR'!E:F,2,FALSE),\"\")","v":0},104]
[null,"7718-54-9","231-743-0","028-011-00-6","nickel dichloride"," H350i H360D",null,{"$f":"IFERROR(VLOOKUP(ROW(H101),'Liste nominative CMR'!A:B,2,FALSE),\"\")","v":0},105,null,null,null,null,{"$f":"IFERROR(VLOOKUP(ROW(N101),'Liste nominative CMR'!E:F,2,FALSE),\"\")","v":0},105]
[null,"13138-45-9","236-068-5","028-012-00-1","nickel dinitrate"," H350i H360D",null,{"$f":"IFERROR(VLOOKUP(ROW(H102),'Liste nominative CMR'!A:B,2,FALSE),\"\")","v":0},106,null,null,null,null,{"$f":"IFERROR(VLOOKUP(ROW(N102),'Liste nominative CMR'!E:F,2,FALSE),\"\")","v":0},106]
[null,"14216-75-2\n","238-076-4\n","028-012-00-1","nitric acid, nickel salt\n"," H350i H360D",null,{"$f":"IFERROR(VLOOKUP(ROW(H103),'Liste nominative CMR'!A:B,2,FALSE),\"\")","v":0},107,null,null,null,null,{"$f":"IFERROR(VLOOKUP(ROW(N103),'Liste nominative CMR'!E:F,2,FALSE),\"\")","v":0},107]
[null,"69012-50-6","273-749-6","028-013-00-7","nickel matte"," H350i",null,{"$f":"IFERROR(VLOOKUP(ROW(H104),'Liste nominative CMR'!A:B,2,FALSE),\"\")","v":0},108,null,null,null,null,{"$f":"IFERROR(VLOOKUP(ROW(N104),'Liste nominative CMR'!E:F,2,FALSE),\"\")","v":0},108]
[null,"92129-57-2","295-859-3","028-014-00-2","slimes and sludges, copper electrolytic refining, decopperised, nickel sulfate"," H350i H360D",null,{"$f":"IFERROR(VLOOKUP(ROW(H105),'Liste nominative CMR'!A:B,2,FALSE),\"\")","v":0},109,null,null,null,null,{"$f":"IFERROR(VLOOKUP(ROW(N105),'Liste nominative CMR'!E:F,2,FALSE),\"\")","v":0},109]
[null,"94551-87-8","305-433-1","028-015-00-8","slimes and sludges, copper electrolyte refining, decopperised"," H350i H360D",null,{"$f":"IFERROR(VLOOKUP(ROW(H106),'Liste nominative CMR'!A:B,2,FALSE),\"\")","v":0},110,null,null,null,null,{"$f":"IFERROR(VLOOKUP(ROW(N106),'Liste nominative CMR'!E:F,2,FALSE),\"\")","v":0},110]
[null,"13637-71-3","237-124-1","028-016-00-3","nickel diperchlorate; perchloric acid, nickel(II) salt"," H350i H360D",null,{"$f":"IFERROR(VLOOKUP(ROW(H107),'Liste nominative CMR'!A:B,2,FALSE),\"\")","v":0},111,null,null,null,null,{"$f":"IFERROR(VLOOKUP(ROW(N107),'Liste nominative CMR'!E:F,2,FALSE),\"\")","v":0},111]
[null,"13842-46-1\n","237-563-9","028-017-00-9","nickel dipotassium bis(sulfate)"," H350i H360D",null,{"$f":"IFERROR(VLOOKUP(ROW(H108),'Liste nominative CMR'!A:B,2,FALSE),\"\")","v":0},112,null,null,null,null,{"$f":"IFERROR(VLOOKUP(ROW(N108),'Liste nominative CMR'!E:F,2,FALSE),\"\")","v":0},112]
[null,"15699-18-0\n","239-793-5\n","028-017-00-9","diammonium nickel bis(sulfate)\n"," H350i H360D",null,{"$f":"IFERROR(VLOOKUP(ROW(H109),'Liste nominative CMR'!A:B,2,FALSE),\"\")","v":0},113,null,null,null,null,{"$f":"IFERROR(VLOOKUP(ROW(N109),'Liste nominative CMR'!E:F,2,FALSE),\"\")","v":0},113]
[null,"13770-89-3","237-396-1","028-018-00-4","nickel bis(sulfamidate);\nnickel sulfamate"," H350i H360D",null,{"$f":"IFERROR(VLOOKUP(ROW(H110),'Liste nominative CMR'!A:B,2,FALSE),\"\")","v":0},114,null,null,null,null,{"$f":"IFERROR(VLOOKUP(ROW(N110),'Liste nominative CMR'!E:F,2,FALSE),\"\")","v":0},114]
[null,"14708-14-6","238-753-4","028-019-00-X","nickel bis(tetrafluoroborate)"," H350i H360D",null,{"$f":"IFERROR(VLOOKUP(ROW(H111),'Liste nominative CMR'!A:B,2,FALSE),\"\")","v":0},115,null,null,null,null,{"$f":"IFERROR(VLOOKUP(ROW(N111),'Liste nominative CMR'!E:F,2,FALSE),\"\")","v":0},115]
[null,"3349-06-2","222-101-0","028-021-00-0","nickel diformate"," H350i H360D",null,{"$f":"IFERROR(VLOOKUP(ROW(H112),'Liste nominative CMR'!A:B,2,FALSE),\"\")","v":0},116,null,null,null,null,{"$f":"IFERROR(VLOOKUP(ROW(N112),'Liste nominative CMR'!E:F,2,FALSE),\"\")","v":0},116]
[null,"15843-02-4","239-946-6","028-021-00-0","formic acid, nickel salt"," H350i H360D",null,{"$f":"IFERROR(VLOOKUP(ROW(H113),'Liste nominative CMR'!A:B,2,FALSE),\"\")","v":0},117,null,null,null,null,{"$f":"IFERROR(VLOOKUP(ROW(N113),'Liste nominative CMR'!E:F,2,FALSE),\"\")","v":0},117]
[null,"68134-59-8\n","268-755-0\n","028-021-00-0","formic acid, copper nickel salt\n"," H350i H360D",null,{"$f":"IFERROR(VLOOKUP(ROW(H114),'Liste nominative CMR'!A:B,2,FALSE),\"\")","v":0},118,null,null,null,null,{"$f":"IFERROR(VLOOKUP(ROW(N114),'Liste nominative CMR'!E:F,2,FALSE),\"\")","v":0},118]
[null,"373-02-4","206-761-7","028-022-00-6","nickel di(acetate)"," H350i H360D",null,{"$f":"IFERROR(VLOOKUP(ROW(H115),'Liste nominative CMR'!A:B,2,FALSE),\"\")","v":0},119,null,null,null,null,{"$f":"IFERROR(VLOOKUP(ROW(N115),'Liste nominative CMR'!E:F,2,FALSE),\"\")","v":0},119]
[null,"14998-37-9\n","239-086-1\n","028-022-00-6","nickel acetate\n"," H350i H360D",null,{"$f":"IFERROR(VLOOKUP(ROW(H116),'Liste nominative CMR'!A:B,2,FALSE),\"\")","v":0},120,null,null,null,null,{"$f":"IFERROR(VLOOKUP(ROW(N116),'Liste nominative CMR'!E:F,2,FALSE),\"\")","v":0},120]
[null,"553-71-9","209-046-8","028-024-00-7","nickel dibenzoate"," H350i H360D",null,{"$f":"IFERROR(VLOOKUP(ROW(H117),'Liste nominative CMR'!A:B,2,FALSE),\"\")","v":0},121,null,null,null,null,{"$f":"IFERROR(VLOOKUP(ROW(N117),'Liste nominative CMR'!E:F,2,FALSE),\"\")","v":0},121]
[null,"3906-55-6","223-463-2","028-025-00-2","nickel bis(4-cyclohexylbutyrate)"," H350i H360D",null,{"$f":"IFERROR(VLOOKUP(ROW(H118),'Liste nominative CMR'!A:B,2,FALSE),\"\")","v":0},122,null,null,null,null,{"$f":"IFERROR(VLOOKUP(ROW(N118),'Liste nominative CMR'!E:F,2,FALSE),\"\")","v":0},122]
[null,"2223-95-2","218-744-1","028-026-00-8","nickel(II) stearate; nickel(II) octadecanoate"," H350i H360D",null,{"$f":"IFERROR(VLOOKUP(ROW(H119),'Liste nominative CMR'!A:B,2,FALSE),\"\")","v":0},123,null,null,null,null,{"$f":"IFERROR(VLOOKUP(ROW(N119),'Liste nominative CMR'!E:F,2,FALSE),\"\")","v":0},123]
[null,"16039-61-5","-","028-027-00-3","nickel dilactate"," H350i H360D",null,{"$f":"IFERROR(VLOOKUP(ROW(H120),'Liste nominative CMR'!A:B,2,FALSE),\"\")","v":0},124,null,null,null,null,{"$f":"IFERROR(VLOOKUP(ROW(N120),'Liste nominative CMR'!E:F,2,FALSE),\"\")","v":0},124]
[null,"4995-91-9","225-656-7","028-028-00-9","nickel(II) octanoate"," H350i H360D",null,{"$f":"IFERROR(VLOOKUP(ROW(H121),'Liste nominative CMR'!A:B,2,FALSE),\"\")","v":0},125,null,null,null,null,{"$f":"IFERROR(VLOOKUP(ROW(N121),'Liste nominative CMR'!E:F,2,FALSE),\"\")","v":0},125]
[null,"10028-18-9","233-071-3","028-029-00-4","nickel difluoride"," H350i H360D",null,{"$f":"IFERROR(VLOOKUP(ROW(H122),'Liste nominative CMR'!A:B,2,FALSE),\"\")","v":0},126,null,null,null,null,{"$f":"IFERROR(VLOOKUP(ROW(N122),'Liste nominative CMR'!E:F,2,FALSE),\"\")","v":0},126]
[null,"13462-88-9","236-665-0","028-029-00-4","nickel dibromide"," H350i H360D",null,{"$f":"IFERROR(VLOOKUP(ROW(H123),'Liste nominative CMR'!A:B,2,FALSE),\"\")","v":0},127,null,null,null,null,{"$f":"IFERROR(VLOOKUP(ROW(N123),'Liste nominative CMR'!E:F,2,FALSE),\"\")","v":0},127]
[null,"13462-90-3","236-666-6\n","028-029-00-4","nickel diiodide"," H350i H360D",null,{"$f":"IFERROR(VLOOKUP(ROW(H124),'Liste nominative CMR'!A:B,2,FALSE),\"\")","v":0},128,null,null,null,null,{"$f":"IFERROR(VLOOKUP(ROW(N124),'Liste nominative CMR'!E:F,2,FALSE),\"\")","v":0},128]
[null,"11132-10-8\n","-","028-029-00-4","nickel potassium fluoride\n"," H350i H360D",null,{"$f":"IFERROR(VLOOKUP(ROW(H125),'Liste nominative CMR'!A:B,2,FALSE),\"\")","v":0},129,null,null,null,null,{"$f":"IFERROR(VLOOKUP(ROW(N125),'Liste nominative CMR'!E:F,2,FALSE),\"\")","v":0},129]
[null,"26043-11-8","247-430-7","028-030-00-X","nickel hexafluorosilicate"," H350i H360D",null,{"$f":"IFERROR(VLOOKUP(ROW(H126),'Liste nominative CMR'!A:B,2,FALSE),\"\")","v":0},130,null,null,null,null,{"$f":"IFERROR(VLOOKUP(ROW(N126),'Liste nominative CMR'!E:F,2,FALSE),\"\")","v":0},130]
[null,"15060-62-5","239-125-2","028-031-00-5","nickel selenate"," H350i H360D",null,{"$f":"IFERROR(VLOOKUP(ROW(H127),'Liste nominative CMR'!A:B,2,FALSE),\"\")","v":0},131,null,null,null,null,{"$f":"IFERROR(VLOOKUP(ROW(N127),'Liste nominative CMR'!E:F,2,FALSE),\"\")","v":0},131]
[null,"14332-34-4","238-278-2","028-032-00-0","nickel hydrogen phosphate"," H350i",null,{"$f":"IFERROR(VLOOKUP(ROW(H128),'Liste nominative CMR'!A:B,2,FALSE),\"\")","v":0},132,null,null,null,null,{"$f":"IFERROR(VLOOKUP(ROW(N128),'Liste nominative CMR'!E:F,2,FALSE),\"\")","v":0},132]
[null,"18718-11-1","242-522-3","028-032-00-0","nickel bis(dihydrogen phosphate)"," H350i",null,{"$f":"IFERROR(VLOOKUP(ROW(H129),'Liste nominative CMR'!A:B,2,FALSE),\"\")","v":0},{"$f":"IF(H133<>\"\",ROW(H133),\"\")","v":133},null,null,null,null,{"$f":"IFERROR(VLOOKUP(ROW(N129),'Liste nominative CMR'!E:F,2,FALSE),\"\")","v":0},{"$f":"IF(N133<>\"\",ROW(N133),\"\")","v":133}]
[null,"10381-36-9","233-844-5","028-032-00-0","trinickel bis(orthophosphate)"," H350i",null,{"$f":"IFERROR(VLOOKUP(ROW(H130),'Liste nominative CMR'!A:B,2,FALSE),\"\")","v":0},134,null,null,null,null,{"$f":"IFERROR(VLOOKUP(ROW(N130),'Liste nominative CMR'!E:F,2,FALSE),\"\")","v":0},134]
[null,"14448-18-1","238-426-6","028-032-00-0","dinickel diphosphate"," H350i",null,{"$f":"IFERROR(VLOOKUP(ROW(H131),'Liste nominative CMR'!A:B,2,FALSE),\"\")","v":0},135,null,null,null,null,{"$f":"IFERROR(VLOOKUP(ROW(N131),'Liste nominative CMR'!E:F,2,FALSE),\"\")","v":0},135]
[null,"14507-36-9","238-511-8","028-032-00-0","nickel bis(phosphinate)"," H350i",null,{"$f":"IFERROR(VLOOKUP(ROW(H132),'Liste nominative CMR'!A:B,2,FALSE),\"\")","v":0},136,null,null,null,null,{"$f":"IFERROR(VLOOKUP(ROW(N132),'Liste nominative CMR'!E:F,2,FALSE),\"\")","v":0},136]
[null,"36026-88-7","252-840-4\n","028-032-00-0","nickel phosphinate"," H350i",null,{"$f":"IFERROR(VLOOKUP(ROW(H133),'Liste nominative CMR'!A:B,2,FALSE),\"\")","v":0},137,null,null,null,null,{"$f":"IFERROR(VLOOKUP(ROW(N133),'Liste nominative CMR'!E:F,2,FALSE),\"\")","v":0},137]
[null,"17169-61-8","-","028-032-00-0","phosphoric acid, calcium nickel salt"," H350i",null,{"$f":"IFERROR(VLOOKUP(ROW(H134),'Liste nominative CMR'!A:B,2,FALSE),\"\")","v":0},138,null,null,null,null,{"$f":"IFERROR(VLOOKUP(ROW(N134),'Liste nominative CMR'!E:F,2,FALSE),\"\")","v":0},138]
[null,"19372-20-4\n","-","028-032-00-0","diphosphoric acid, nickel(II) salt\n"," H350i",null,{"$f":"IFERROR(VLOOKUP(ROW(H135),'Liste nominative CMR'!A:B,2,FALSE),\"\")","v":0},139,null,null,null,null,{"$f":"IFERROR(VLOOKUP(ROW(N135),'Liste nominative CMR'!E:F,2,FALSE),\"\")","v":0},139]
[null,"74195-78-1","-","028-033-00-6","diammonium nickel hexacyanoferrate"," H350i",null,{"$f":"IFERROR(VLOOKUP(ROW(H136),'Liste nominative CMR'!A:B,2,FALSE),\"\")","v":0},140,null,null,null,null,{"$f":"IFERROR(VLOOKUP(ROW(N136),'Liste nominative CMR'!E:F,2,FALSE),\"\")","v":0},140]
[null,"557-19-7","209-160-8","028-034-00-1","nickel dicyanide"," H350i",null,{"$f":"IFERROR(VLOOKUP(ROW(H137),'Liste nominative CMR'!A:B,2,FALSE),\"\")","v":0},141,null,null,null,null,{"$f":"IFERROR(VLOOKUP(ROW(N137),'Liste nominative CMR'!E:F,2,FALSE),\"\")","v":0},141]
[null,"14721-18-7","238-766-5","028-035-00-7","nickel chromate"," H350i",null,{"$f":"IFERROR(VLOOKUP(ROW(H138),'Liste nominative CMR'!A:B,2,FALSE),\"\")","v":0},142,null,null,null,null,{"$f":"IFERROR(VLOOKUP(ROW(N138),'Liste nominative CMR'!E:F,2,FALSE),\"\")","v":0},142]
[null,"21784-78-1","244-578-4","028-036-00-2","nickel(II) silicate"," H350i",null,{"$f":"IFERROR(VLOOKUP(ROW(H139),'Liste nominative CMR'!A:B,2,FALSE),\"\")","v":0},143,null,null,null,null,{"$f":"IFERROR(VLOOKUP(ROW(N139),'Liste nominative CMR'!E:F,2,FALSE),\"\")","v":0},143]
[null,"13775-54-7","237-411-1","028-036-00-2","dinickel orthosilicate"," H350i",null,{"$f":"IFERROR(VLOOKUP(ROW(H140),'Liste nominative CMR'!A:B,2,FALSE),\"\")","v":0},144,null,null,null,null,{"$f":"IFERROR(VLOOKUP(ROW(N140),'Liste nominative CMR'!E:F,2,FALSE),\"\")","v":0},144]
[null,"31748-25-1","250-788-7","028-036-00-2","nickel silicate (3:4)"," H350i",null,{"$f":"IFERROR(VLOOKUP(ROW(H141),'Liste nominative CMR'!A:B,2,FALSE),\"\")","v":0},145,null,null,null,null,{"$f":"IFERROR(VLOOKUP(ROW(N141),'Liste nominative CMR'!E:F,2,FALSE),\"\")","v":0},145]
[null,"37321-15-6","253-461-7","028-036-00-2","silicic acid, nickel salt"," H350i",null,{"$f":"IFERROR(VLOOKUP(ROW(H142),'Liste nominative CMR'!A:B,2,FALSE),\"\")","v":0},146,null,null,null,null,{"$f":"IFERROR(VLOOKUP(ROW(N142),'Liste nominative CMR'!E:F,2,FALSE),\"\")","v":0},146]
[null,"12519-85-6\n","235-688-3\n","028-036-00-2","trihydrogen hydroxybis[orthosilicato(4-)]trinickelate(3-)\n"," H350i",null,{"$f":"IFERROR(VLOOKUP(ROW(H143),'Liste nominative CMR'!A:B,2,FALSE),\"\")","v":0},147,null,null,null,null,{"$f":"IFERROR(VLOOKUP(ROW(N143),'Liste nominative CMR'!E:F,2,FALSE),\"\")","v":0},147]
[null,"14874-78-3","238-946-3","028-037-00-8","dinickel hexacyanoferrate"," H350i",null,{"$f":"IFERROR(VLOOKUP(ROW(H144),'Liste nominative CMR'!A:B,2,FALSE),\"\")","v":0},148,null,null,null,null,{"$f":"IFERROR(VLOOKUP(ROW(N144),'Liste nominative CMR'!E:F,2,FALSE),\"\")","v":0},148]
[null,"13477-70-8","236-771-7","028-038-00-3","trinickel bis(arsenate); nickel(II) arsenate","H350",null,{"$f":"IFERROR(VLOOKUP(ROW(H145),'Liste nominative CMR'!A:B,2,FALSE),\"\")","v":0},149,null,null,null,null,{"$f":"IFERROR(VLOOKUP(ROW(N145),'Liste nominative CMR'!E:F,2,FALSE),\"\")","v":0},149]
[null,"547-67-1","208-933-7","028-039-00-9","nickel oxalate"," H350i",null,{"$f":"IFERROR(VLOOKUP(ROW(H146),'Liste nominative CMR'!A:B,2,FALSE),\"\")","v":0},150,null,null,null,null,{"$f":"IFERROR(VLOOKUP(ROW(N146),'Liste nominative CMR'!E:F,2,FALSE),\"\")","v":0},150]
[null,"20543-06-0\n","243-867-2\n","028-039-00-9","oxalic acid, nickel salt\n"," H350i",null,{"$f":"IFERROR(VLOOKUP(ROW(H147),'Liste nominative CMR'!A:B,2,FALSE),\"\")","v":0},151,null,null,null,null,{"$f":"IFERROR(VLOOKUP(ROW(N147),'Liste nominative CMR'!E:F,2,FALSE),\"\")","v":0},151]
[null,"12142-88-0","235-260-6","028-040-00-4","nickel telluride"," H350i",null,{"$f":"IFERROR(VLOOKUP(ROW(H148),'Liste nominative CMR'!A:B,2,FALSE),\"\")","v":0},152,null,null,null,null,{"$f":"IFERROR(VLOOKUP(ROW(N148),'Liste nominative CMR'!E:F,2,FALSE),\"\")","v":0},152]
[null,"12137-12-1","-","028-041-00-X","trinickel tetrasulfide"," H350i",null,{"$f":"IFERROR(VLOOKUP(ROW(H149),'Liste nominative CMR'!A:B,2,FALSE),\"\")","v":0},153,null,null,null,null,{"$f":"IFERROR(VLOOKUP(ROW(N149),'Liste nominative CMR'!E:F,2,FALSE),\"\")","v":0},153]
[null,"74646-29-0","-","028-042-00-5","trinickel bis(arsenite)"," H350i",null,{"$f":"IFERROR(VLOOKUP(ROW(H150),'Liste nominative CMR'!A:B,2,FALSE),\"\")","v":0},154,null,null,null,null,{"$f":"IFERROR(VLOOKUP(ROW(N150),'Liste nominative CMR'!E:F,2,FALSE),\"\")","v":0},154]
[null,"68186-89-0","269-051-6","028-043-00-0","cobalt nickel gray periclase; C.I. Pigment Black 25; C.I. 77332"," H350i",null,{"$f":"IFERROR(VLOOKUP(ROW(H151),'Liste nominative CMR'!A:B,2,FALSE),\"\")","v":0},155,null,null,null,null,{"$f":"IFERROR(VLOOKUP(ROW(N151),'Liste nominative CMR'!E:F,2,FALSE),\"\")","v":0},155]
[null,"58591-45-0","261-346-8\n","028-043-00-0","cobalt nickel dioxide"," H350i",null,{"$f":"IFERROR(VLOOKUP(ROW(H152),'Liste nominative CMR'!A:B,2,FALSE),\"\")","v":0},156,null,null,null,null,{"$f":"IFERROR(VLOOKUP(ROW(N152),'Liste nominative CMR'!E:F,2,FALSE),\"\")","v":0},156]
[null,"12737-30-3\n","-","028-043-00-0","cobalt nickel oxide\n"," H350i",null,{"$f":"IFERROR(VLOOKUP(ROW(H153),'Liste nominative CMR'!A:B,2,FALSE),\"\")","v":0},157,null,null,null,null,{"$f":"IFERROR(VLOOKUP(ROW(N153),'Liste nominative CMR'!E:F,2,FALSE),\"\")","v":0},157]
[null,"12035-38-0","234-824-9","028-044-00-6","nickel tin trioxide; nickel stannate"," H350i",null,{"$f":"IFERROR(VLOOKUP(ROW(H154),'Liste nominative CMR'!A:B,2,FALSE),\"\")","v":0},158,null,null,null,null,{"$f":"IFERROR(VLOOKUP(ROW(N154),'Liste nominative CMR'!E:F,2,FALSE),\"\")","v":0},158]
[null,"15780-33-3","239-876-6","028-045-00-1","nickel triuranium decaoxide"," H350i",null,{"$f":"IFERROR(VLOOKUP(ROW(H155),'Liste nominative CMR'!A:B,2,FALSE),\"\")","v":0},159,null,null,null,null,{"$f":"IFERROR(VLOOKUP(ROW(N155),'Liste nominative CMR'!E:F,2,FALSE),\"\")","v":0},159]
[null,"13689-92-4","237-205-1","028-046-00-7","nickel dithiocyanate"," H350i H360D",null,{"$f":"IFERROR(VLOOKUP(ROW(H156),'Liste nominative CMR'!A:B,2,FALSE),\"\")","v":0},160,null,null,null,null,{"$f":"IFERROR(VLOOKUP(ROW(N156),'Liste nominative CMR'!E:F,2,FALSE),\"\")","v":0},160]
[null,"15586-38-6","239-646-5","028-047-00-2","nickel dichromate"," H350i H360D",null,{"$f":"IFERROR(VLOOKUP(ROW(H157),'Liste nominative CMR'!A:B,2,FALSE),\"\")","v":0},161,null,null,null,null,{"$f":"IFERROR(VLOOKUP(ROW(N157),'Liste nominative CMR'!E:F,2,FALSE),\"\")","v":0},161]
[null,"10101-96-9","233-263-7","028-048-00-8","nickel(II) selenite"," H350i",null,{"$f":"IFERROR(VLOOKUP(ROW(H158),'Liste nominative CMR'!A:B,2,FALSE),\"\")","v":0},162,null,null,null,null,{"$f":"IFERROR(VLOOKUP(ROW(N158),'Liste nominative CMR'!E:F,2,FALSE),\"\")","v":0},162]
[null,"1314-05-2","215-216-2","028-049-00-3","nickel selenide"," H350i",null,{"$f":"IFERROR(VLOOKUP(ROW(H159),'Liste nominative CMR'!A:B,2,FALSE),\"\")","v":0},163,null,null,null,null,{"$f":"IFERROR(VLOOKUP(ROW(N159),'Liste nominative CMR'!E:F,2,FALSE),\"\")","v":0},163]
[null,"68130-19-8","-","028-050-00-9","silicic acid, lead nickel salt"," H350i H360Df",null,{"$f":"IFERROR(VLOOKUP(ROW(H160),'Liste nominative CMR'!A:B,2,FALSE),\"\")","v":0},164,null,null,null,null,{"$f":"IFERROR(VLOOKUP(ROW(N160),'Liste nominative CMR'!E:F,2,FALSE),\"\")","v":0},164]
[null,"12068-61-0","235-103-1","028-051-00-4","nickel diarsenide"," H350i",null,{"$f":"IFERROR(VLOOKUP(ROW(H161),'Liste nominative CMR'!A:B,2,FALSE),\"\")","v":0},{"$f":"IF(H165<>\"\",ROW(H165),\"\")","v":165},null,null,null,null,{"$f":"IFERROR(VLOOKUP(ROW(N161),'Liste nominative CMR'!E:F,2,FALSE),\"\")","v":0},165]
[null,"27016-75-7\n","248-169-1\n","028-051-00-4","nickel arsenide\n"," H350i",null,{"$f":"IFERROR(VLOOKUP(ROW(H162),'Liste nominative CMR'!A:B,2,FALSE),\"\")","v":0},166,null,null,null,null,{"$f":"IFERROR(VLOOKUP(ROW(N162),'Liste nominative CMR'!E:F,2,FALSE),\"\")","v":0},166]
[null,"68610-24-2","271-853-6","028-052-00-X","nickel barium titanium primrose priderite; C.I. Pigment Yellow 157; C.I. 77900"," H350i",null,{"$f":"IFERROR(VLOOKUP(ROW(H163),'Liste nominative CMR'!A:B,2,FALSE),\"\")","v":0},167,null,null,null,null,{"$f":"IFERROR(VLOOKUP(ROW(N163),'Liste nominative CMR'!E:F,2,FALSE),\"\")","v":0},167]
[null,"67952-43-6","267-897-0","028-053-00-5","nickel dichlorate"," H350i H360D",null,{"$f":"IFERROR(VLOOKUP(ROW(H164),'Liste nominative CMR'!A:B,2,FALSE),\"\")","v":0},168,null,null,null,null,{"$f":"IFERROR(VLOOKUP(ROW(N164),'Liste nominative CMR'!E:F,2,FALSE),\"\")","v":0},168]
[null,"14550-87-9","238-596-1","028-053-00-5","nickel dibromate"," H350i H360D",null,{"$f":"IFERROR(VLOOKUP(ROW(H165),'Liste nominative CMR'!A:B,2,FALSE),\"\")","v":0},169,null,null,null,null,{"$f":"IFERROR(VLOOKUP(ROW(N165),'Liste nominative CMR'!E:F,2,FALSE),\"\")","v":0},169]
[null,"71720-48-4\n","275-897-7\n","028-053-00-5","ethyl hydrogen sulfate, nickel(II) salt\n"," H350i H360D",null,{"$f":"IFERROR(VLOOKUP(ROW(H166),'Liste nominative CMR'!A:B,2,FALSE),\"\")","v":0},170,null,null,null,null,{"$f":"IFERROR(VLOOKUP(ROW(N166),'Liste nominative CMR'!E:F,2,FALSE),\"\")","v":0},170]
[null,"16083-14-0","240-235-8","028-054-00-0","nickel(II) trifluoroacetate"," H350i H360D",null,{"$f":"IFERROR(VLOOKUP(ROW(H167),'Liste nominative CMR'!A:B,2,FALSE),\"\")","v":0},171,null,null,null,null,{"$f":"IFERROR(VLOOKUP(ROW(N167),'Liste nominative CMR'!E:F,2,FALSE),\"\")","v":0},171]
[null,"3349-08-4","222-102-6","028-054-00-0","nickel(II) propionate"," H350i H360D",null,{"$f":"IFERROR(VLOOKUP(ROW(H168),'Liste nominative CMR'!A:B,2,FALSE),\"\")","v":0},172,null,null,null,null,{"$f":"IFERROR(VLOOKUP(ROW(N168),'Liste nominative CMR'!E:F,2,FALSE),\"\")","v":0},172]
[null,"39819-65-3\n","254-642-3","028-054-00-0","nickel bis(benzenesulfonate)"," H350i H360D",null,{"$f":"IFERROR(VLOOKUP(ROW(H169),'Liste nominative CMR'!A:B,2,FALSE),\"\")","v":0},173,null,null,null,null,{"$f":"IFERROR(VLOOKUP(ROW(N169),'Liste nominative CMR'!E:F,2,FALSE),\"\")","v":0},173]
[null,"18721-51-2","242-533-3","028-054-00-0","nickel(II) hydrogen citrate"," H350i H360D",null,{"$f":"IFERROR(VLOOKUP(ROW(H170),'Liste nominative CMR'!A:B,2,FALSE),\"\")","v":0},174,null,null,null,null,{"$f":"IFERROR(VLOOKUP(ROW(N170),'Liste nominative CMR'!E:F,2,FALSE),\"\")","v":0},174]
[null,"18283-82-4","242-161-1","028-054-00-0","citric acid, ammonium nickel salt"," H350i H360D",null,null,null,null,null,null,null,{"$f":"IFERROR(VLOOKUP(ROW(N171),'Liste nominative CMR'!E:F,2,FALSE),\"\")","v":0},175]
[null,"22605-92-1","245-119-0","028-054-00-0","citric acid, nickel salt"," H350i H360D",null,null,null,null,null,null,null,{"$f":"IFERROR(VLOOKUP(ROW(N172),'Liste nominative CMR'!E:F,2,FALSE),\"\")","v":0},176]
[null,"4454-16-4","224-699-9","028-054-00-0","nickel bis(2-ethylhexanoate)"," H350i H360D",null,null,null,null,null,null,null,{"$f":"IFERROR(VLOOKUP(ROW(N173),'Liste nominative CMR'!E:F,2,FALSE),\"\")","v":0},177]
[null,"7580-31-6","231-480-1","028-054-00-0","2-ethylhexanoic acid, nickel salt"," H350i H360D",null,null,null,null,null,null,null,{"$f":"IFERROR(VLOOKUP(ROW(N174),'Liste nominative CMR'!E:F,2,FALSE),\"\")","v":0},178]
[null,"93983-68-7","301-323-2","028-054-00-0","dimethylhexanoic acid nickel salt"," H350i H360D",null,null,null,null,null,null,null,{"$f":"IFERROR(VLOOKUP(ROW(N175),'Liste nominative CMR'!E:F,2,FALSE),\"\")","v":0},179]
[null,"29317-63-3","249-555-2","028-054-00-0","nickel(II) isooctanoate"," H350i H360D",null,null,null,null,null,null,null,{"$f":"IFERROR(VLOOKUP(ROW(N176),'Liste nominative CMR'!E:F,2,FALSE),\"\")","v":0},180]
[null,"27637-46-3","248-585-3","028-054-00-0","nickel isooctanoate"," H350i H360D",null,null,null,null,null,null,null,{"$f":"IFERROR(VLOOKUP(ROW(N177),'Liste nominative CMR'!E:F,2,FALSE),\"\")","v":0},181]
[null,"84852-37-9","284-349-6","028-054-00-0","nickel bis(isononanoate)"," H350i H360D",null,null,null,null,null,null,null,{"$f":"IFERROR(VLOOKUP(ROW(N178),'Liste nominative CMR'!E:F,2,FALSE),\"\")","v":0},182]
[null,"93920-10-6","300-094-6","028-054-00-0","nickel(II) neononanoate"," H350i H360D",null,null,null,null,null,null,null,{"$f":"IFERROR(VLOOKUP(ROW(N179),'Liste nominative CMR'!E:F,2,FALSE),\"\")","v":0},183]
[null,"85508-43-6\n","287-468-1","028-054-00-0","nickel(II) isodecanoate"," H350i H360D",null,null,null,null,null,null,null,{"$f":"IFERROR(VLOOKUP(ROW(N180),'Liste nominative CMR'!E:F,2,FALSE),\"\")","v":0},184]
[null,"85508-44-7","287-469-7","028-054-00-0","nickel(II) neodecanoate"," H350i H360D",null,null,null,null,null,null,null,{"$f":"IFERROR(VLOOKUP(ROW(N181),'Liste nominative CMR'!E:F,2,FALSE),\"\")","v":0},185]
[null,"51818-56-5","257-447-1","028-054-00-0","neodecanoic acid, nickel salt"," H350i H360D",null,null,null,null,null,null,null,{"$f":"IFERROR(VLOOKUP(ROW(N182),'Liste nominative CMR'!E:F,2,FALSE),\"\")","v":0},186]
[null,"93920-09-3","300-093-0","028-054-00-0","nickel(II) neoundecanoate [17]"," H350i H360D",null,null,null,null,null,null,null,{"$f":"IFERROR(VLOOKUP(ROW(N183),'Liste nominative CMR'!E:F,2,FALSE),\"\")","v":0},187]
[null,"71957-07-8","276-205-6","028-054-00-0","bis(.sc.d.sc.-gluconato-O1,O2)nickel"," H350i H360D",null,null,null,null,null,null,null,{"$f":"IFERROR(VLOOKUP(ROW(N184),'Liste nominative CMR'!E:F,2,FALSE),\"\")","v":0},188]
[null,"52625-25-9","258-051-1\n","028-054-00-0","nickel 3,5-bis(tert-butyl)-4-hydroxybenzoate (1:2)"," H350i H360D",null,null,null,null,null,null,null,{"$f":"IFERROR(VLOOKUP(ROW(N185),'Liste nominative CMR'!E:F,2,FALSE),\"\")","v":0},189]
[null,"13654-40-5","237-138-8","028-054-00-0","nickel(II) palmitate [20]"," H350i H360D",null,null,null,null,null,null,null,{"$f":"IFERROR(VLOOKUP(ROW(N186),'Liste nominative CMR'!E:F,2,FALSE),\"\")","v":0},190]
[null,"85508-45-8","287-470-2","028-054-00-0","(2-ethylhexanoato-O)(isononanoato-O)nickel"," H350i H360D",null,null,null,null,null,null,null,{"$f":"IFERROR(VLOOKUP(ROW(N187),'Liste nominative CMR'!E:F,2,FALSE),\"\")","v":0},191]
[null,"85508-46-9","287-471-8","028-054-00-0","(isononanoato-O)(isooctanoato-O)nickel"," H350i H360D",null,null,null,null,null,null,null,{"$f":"IFERROR(VLOOKUP(ROW(N188),'Liste nominative CMR'!E:F,2,FALSE),\"\")","v":0},192]
[null,"84852-35-7","284-347-5","028-054-00-0","(isooctanoato-O)(neodecanoato-O)nickel"," H350i H360D",null,null,null,null,null,null,null,{"$f":"IFERROR(VLOOKUP(ROW(N189),'Liste nominative CMR'!E:F,2,FALSE),\"\")","v":0},193]
[null,"84852-39-1","284-351-7","028-054-00-0","(2-ethylhexanoato-O)(isodecanoato-O)nickel"," H350i H360D",null,null,null,null,null,null,null,{"$f":"IFERROR(VLOOKUP(ROW(N190),'Liste nominative CMR'!E:F,2,FALSE),\"\")","v":0},194]
[null,"85135-77-9","285-698-7","028-054-00-0","(2-ethylhexanoato-O)(neodecanoato-O)nickel"," H350i H360D",null,null,null,null,null,null,null,{"$f":"IFERROR(VLOOKUP(ROW(N191),'Liste nominative CMR'!E:F,2,FALSE),\"\")","v":0},195]
[null,"85166-19-4","285-909-2","028-054-00-0","(isodecanoato-O)(isooctanoato-O)nickel"," H350i H360D",null,null,null,null,null,null,null,{"$f":"IFERROR(VLOOKUP(ROW(N192),'Liste nominative CMR'!E:F,2,FALSE),\"\")","v":0},196]
[null,"84852-36-8","284-348-0","028-054-00-0","(isodecanoato-O)(isononanoato-O)nickel"," H350i H360D",null,null,null,null,null,null,null,{"$f":"IFERROR(VLOOKUP(ROW(N193),'Liste nominative CMR'!E:F,2,FALSE),\"\")","v":0},{"$f":"IF(N197<>\"\",ROW(N197),\"\")","v":197}]
[null,"85551-28-6","287-592-6","028-054-00-0","(isononanoato-O)(neodecanoato-O)nickel"," H350i H360D",null,null,null,null,null,null,null,{"$f":"IFERROR(VLOOKUP(ROW(N194),'Liste nominative CMR'!E:F,2,FALSE),\"\")","v":0},198]
[null,"91697-41-5","294-302-1","028-054-00-0","fatty acids, C6-19-branched, nickel salts"," H350i H360D",null,null,null,null,null,null,null,{"$f":"IFERROR(VLOOKUP(ROW(N195),'Liste nominative CMR'!E:F,2,FALSE),\"\")","v":0},199]
[null,"84776-45-4","283-972-0\n","028-054-00-0","fatty acids, C8-18 and C18-unsaturated, nickel salts"," H350i H360D",null,null,null,null,null,null,null,{"$f":"IFERROR(VLOOKUP(ROW(N196),'Liste nominative CMR'!E:F,2,FALSE),\"\")","v":0},200]
[null,"72319-19-8\n","-","028-054-00-0","2,7-naphthalenedisulfonic acid, nickel(II) salt"," H350i H360D",null,null,null,null,null,null,null,{"$f":"IFERROR(VLOOKUP(ROW(N197),'Liste nominative CMR'!E:F,2,FALSE),\"\")","v":0},201]
[null,"7757-95-1","231-827-7","028-055-00-6","nickel(II) sulfite"," H350i",null,null,null,null,null,null,null,{"$f":"IFERROR(VLOOKUP(ROW(N198),'Liste nominative CMR'!E:F,2,FALSE),\"\")","v":0},202]
[null,"15851-52-2","239-967-0","028-055-00-6","nickel tellurium trioxide"," H350i",null,null,null,null,null,null,null,{"$f":"IFERROR(VLOOKUP(ROW(N199),'Liste nominative CMR'!E:F,2,FALSE),\"\")","v":0},203]
[null,"15852-21-8","239-974-9","028-055-00-6","nickel tellurium tetraoxide"," H350i",null,null,null,null,null,null,null,{"$f":"IFERROR(VLOOKUP(ROW(N200),'Liste nominative CMR'!E:F,2,FALSE),\"\")","v":0},204]
[null,"68130-36-9\n","268-585-7\n","028-055-00-6","molybdenum nickel hydroxide oxide phosphate\n"," H350i",null,null,null,null,null,null,null,{"$f":"IFERROR(VLOOKUP(ROW(N201),'Liste nominative CMR'!E:F,2,FALSE),\"\")","v":0},205]
[null,"12007-00-0\n","234-493-0","028-056-00-1","nickel boride (NiB)"," H350i",null,null,null,null,null,null,null,{"$f":"IFERROR(VLOOKUP(ROW(N202),'Liste nominative CMR'!E:F,2,FALSE),\"\")","v":0},206]
[null,"12007-01-1","234-494-6","028-056-00-1","dinickel boride"," H350i",null,null,null,null,null,null,null,{"$f":"IFERROR(VLOOKUP(ROW(N203),'Liste nominative CMR'!E:F,2,FALSE),\"\")","v":0},207]
[null,"12007-02-2","234-495-1","028-056-00-1","trinickel boride"," H350i",null,null,null,null,null,null,null,{"$f":"IFERROR(VLOOKUP(ROW(N204),'Liste nominative CMR'!E:F,2,FALSE),\"\")","v":0},208]
[null,"12619-90-8","235-723-2","028-056-00-1","nickel boride"," H350i",null,null,null,null,null,null,null,{"$f":"IFERROR(VLOOKUP(ROW(N205),'Liste nominative CMR'!E:F,2,FALSE),\"\")","v":0},209]
[null,"12059-14-2","235-033-1","028-056-00-1","dinickel silicide"," H350i",null,null,null,null,null,null,null,{"$f":"IFERROR(VLOOKUP(ROW(N206),'Liste nominative CMR'!E:F,2,FALSE),\"\")","v":0},210]
[null,"12201-89-7","235-379-3","028-056-00-1","nickel disilicide"," H350i",null,null,null,null,null,null,null,{"$f":"IFERROR(VLOOKUP(ROW(N207),'Liste nominative CMR'!E:F,2,FALSE),\"\")","v":0},211]
[null,"12035-64-2","234-828-0\n","028-056-00-1","dinickel phosphide"," H350i",null,null,null,null,null,null,null,{"$f":"IFERROR(VLOOKUP(ROW(N208),'Liste nominative CMR'!E:F,2,FALSE),\"\")","v":0},212]
[null,"65229-23-4\n","-","028-056-00-1","nickel boron phosphide\n"," H350i",null,null,null,null,null,null,null,{"$f":"IFERROR(VLOOKUP(ROW(N209),'Liste nominative CMR'!E:F,2,FALSE),\"\")","v":0},213]
[null,"12004-35-2","234-454-8","028-057-00-7","dialuminium nickel tetraoxide"," H350i",null,null,null,null,null,null,null,{"$f":"IFERROR(VLOOKUP(ROW(N210),'Liste nominative CMR'!E:F,2,FALSE),\"\")","v":0},214]
[null,"12035-39-1","234-825-4","028-057-00-7","nickel titanium trioxide"," H350i",null,null,null,null,null,null,null,{"$f":"IFERROR(VLOOKUP(ROW(N211),'Liste nominative CMR'!E:F,2,FALSE),\"\")","v":0},215]
[null,"12653-76-8","235-752-0","028-057-00-7","nickel titanium oxide"," H350i",null,null,null,null,null,null,null,{"$f":"IFERROR(VLOOKUP(ROW(N212),'Liste nominative CMR'!E:F,2,FALSE),\"\")","v":0},216]
[null,"52502-12-2","257-970-5","028-057-00-7","nickel divanadium hexaoxide"," H350i",null,null,null,null,null,null,null,{"$f":"IFERROR(VLOOKUP(ROW(N213),'Liste nominative CMR'!E:F,2,FALSE),\"\")","v":0},217]
[null,"68016-03-5","268-169-5","028-057-00-7","cobalt dimolybdenum nickel octaoxide"," H350i",null,null,null,null,null,null,null,{"$f":"IFERROR(VLOOKUP(ROW(N214),'Liste nominative CMR'!E:F,2,FALSE),\"\")","v":0},218]
[null,"70692-93-2","274-755-1","028-057-00-7","nickel zirkonium trioxide"," H350i",null,null,null,null,null,null,null,{"$f":"IFERROR(VLOOKUP(ROW(N215),'Liste nominative CMR'!E:F,2,FALSE),\"\")","v":0},219]
[null,"14177-55-0","238-034-5","028-057-00-7","molybdenum nickel tetraoxide"," H350i",null,null,null,null,null,null,null,{"$f":"IFERROR(VLOOKUP(ROW(N216),'Liste nominative CMR'!E:F,2,FALSE),\"\")","v":0},220]
[null,"14177-51-6","238-032-4","028-057-00-7","nickel tungsten tetraoxide"," H350i",null,null,null,null,null,null,null,{"$f":"IFERROR(VLOOKUP(ROW(N217),'Liste nominative CMR'!E:F,2,FALSE),\"\")","v":0},221]
[null,"68515-84-4","271-112-7\n","028-057-00-7","olivine, nickel green"," H350i",null,null,null,null,null,null,null,{"$f":"IFERROR(VLOOKUP(ROW(N218),'Liste nominative CMR'!E:F,2,FALSE),\"\")","v":0},222]
[null,"12031-65-1","-","028-057-00-7","lithium nickel dioxide"," H350i",null,null,null,null,null,null,null,{"$f":"IFERROR(VLOOKUP(ROW(N219),'Liste nominative CMR'!E:F,2,FALSE),\"\")","v":0},223]
[null,"12673-58-4\n","-","028-057-00-7","molybdenum nickel oxide\n"," H350i",null,null,null,null,null,null,null,{"$f":"IFERROR(VLOOKUP(ROW(N220),'Liste nominative CMR'!E:F,2,FALSE),\"\")","v":0},224]
[null,"-","442-750-5","028-058-00-2","cobalt lithium nickel oxide"," H350i",null,null,null,null,null,null,null,{"$f":"IFERROR(VLOOKUP(ROW(N221),'Liste nominative CMR'!E:F,2,FALSE),\"\")","v":0},225]
[null,"1303-00-0","215-114-8","031-001-00-4","gallium arsenide","H350 H360F",null,null,null,null,null,null,null,{"$f":"IFERROR(VLOOKUP(ROW(N222),'Liste nominative CMR'!E:F,2,FALSE),\"\")","v":0},226]
[null,"1327-53-3","215-481-4","033-003-00-0","diarsenic trioxide; arsenic trioxide","H350",null,null,null,null,null,null,null,{"$f":"IFERROR(VLOOKUP(ROW(N223),'Liste nominative CMR'!E:F,2,FALSE),\"\")","v":0},227]
[null,"1303-28-2","215-116-9","033-004-00-6","diarsenic pentaoxide; arsenic pentoxide; arsenic oxide","H350",null,null,null,null,null,null,null,{"$f":"IFERROR(VLOOKUP(ROW(N224),'Liste nominative CMR'!E:F,2,FALSE),\"\")","v":0},228]
[null,"-","-","033-005-00-1","arsenic acid and its salts with the exception of those specified elsewhere in this Annex","H350",null,null,null,null,null,null,null,{"$f":"IFERROR(VLOOKUP(ROW(N225),'Liste nominative CMR'!E:F,2,FALSE),\"\")","v":0},229]
[null,"7758-01-2","231-829-8","035-003-00-6","potassium bromate","H350",null,null,null,null,null,null,null,{"$f":"IFERROR(VLOOKUP(ROW(N226),'Liste nominative CMR'!E:F,2,FALSE),\"\")","v":0},230]
[null,"12124-97-9","235-183-8","035-005-00-7","ammonium bromide"," H360FD",null,null,null,null,null,null,null,{"$f":"IFERROR(VLOOKUP(ROW(N227),'Liste nominative CMR'!E:F,2,FALSE),\"\")","v":0},231]
[null,"7440-43-9","231-152-8","048-002-00-0","cadmium (non-pyrophoric)","H350",null,null,null,null,null,null,null,{"$f":"IFERROR(VLOOKUP(ROW(N228),'Liste nominative CMR'!E:F,2,FALSE),\"\")","v":0},232]
[null,"1306-19-0\n","215-146-2\n","048-002-00-0","cadmium oxide (non-pyrophoric)\n","H350",null,null,null,null,null,null,null,{"$f":"IFERROR(VLOOKUP(ROW(N229),'Liste nominative CMR'!E:F,2,FALSE),\"\")","v":0},233]
[null,"7790-79-6","232-222-0","048-006-00-2","cadmium fluoride","H350 H340 H360FD",null,null,null,null,null,null,null,{"$f":"IFERROR(VLOOKUP(ROW(N230),'Liste nominative CMR'!E:F,2,FALSE),\"\")","v":0},234]
[null,"10108-64-2","233-296-7","048-008-00-3","cadmium chloride","H350 H340 H360FD",null,null,null,null,null,null,null,{"$f":"IFERROR(VLOOKUP(ROW(N231),'Liste nominative CMR'!E:F,2,FALSE),\"\")","v":0},235]
[null,"10124-36-4","233-331-6","048-009-00-9","cadmium sulphate","H350 H340 H360FD",null,null,null,null,null,null,null,{"$f":"IFERROR(VLOOKUP(ROW(N232),'Liste nominative CMR'!E:F,2,FALSE),\"\")","v":0},236]
[null,"1306-23-6","215-147-8","048-010-00-4","cadmium sulphide","H350",null,null,null,null,null,null,null,{"$f":"IFERROR(VLOOKUP(ROW(N233),'Liste nominative CMR'!E:F,2,FALSE),\"\")","v":0},237]
[null,"7440-43-9","231-152-8","048-011-00-X","cadmium (pyrophoric)","H350",null,null,null,null,null,null,null,{"$f":"IFERROR(VLOOKUP(ROW(N234),'Liste nominative CMR'!E:F,2,FALSE),\"\")","v":0},238]
[null,"513-78-0","208-168-9","048-012-00-5","cadmium carbonate","H350 H340",null,null,null,null,null,null,null,{"$f":"IFERROR(VLOOKUP(ROW(N235),'Liste nominative CMR'!E:F,2,FALSE),\"\")","v":0},239]
[null,"21041-95-2","244-168-5","048-013-00-0","cadmium hydroxide; \ncadmium dihydroxide","H350 H340",null,null,null,null,null,null,null,{"$f":"IFERROR(VLOOKUP(ROW(N236),'Liste nominative CMR'!E:F,2,FALSE),\"\")","v":0},240]
[null,"10325-94-7","233-710-6","048-014-00-6","cadmium nitrate; cadmium dinitrate","H350 H340",null,null,null,null,null,null,null,{"$f":"IFERROR(VLOOKUP(ROW(N237),'Liste nominative CMR'!E:F,2,FALSE),\"\")","v":0},241]
[null,"-","-","050-008-00-3","tributyltin compounds, with the exception of those specified elsewhere in this annex"," H360FD",null,null,null,null,null,null,null,{"$f":"IFERROR(VLOOKUP(ROW(N238),'Liste nominative CMR'!E:F,2,FALSE),\"\")","v":0},242]
[null,"3542-36-7","222-583-2","050-021-00-4","dichlorodioctylstannane"," H360D",null,null,null,null,null,null,null,{"$f":"IFERROR(VLOOKUP(ROW(N239),'Liste nominative CMR'!E:F,2,FALSE),\"\")","v":0},243]
[null,"683-18-1","211-670-0","050-022-00-X","dibutyltin dichloride; (DBTC)"," H360FD",null,null,null,null,null,null,null,{"$f":"IFERROR(VLOOKUP(ROW(N240),'Liste nominative CMR'!E:F,2,FALSE),\"\")","v":0},244]
[null,"15571-58-1","239-622-4","050-027-00-7","2-ethylhexyl 10-ethyl-4,4-dioctyl-7-oxo-8-oxa-3,5-dithia-4-stannatetradecanoate; [DOTE]"," H360D",null,null,null,null,null,null,null,{"$f":"IFERROR(VLOOKUP(ROW(N241),'Liste nominative CMR'!E:F,2,FALSE),\"\")","v":0},245]
[null,"77-58-7","201-039-8","050-030-00-3","dibutyltin dilaurate; dibutyl[bis(dodecanoyloxy)]stannane"," H360FD",null,null,null,null,null,null,null,{"$f":"IFERROR(VLOOKUP(ROW(N242),'Liste nominative CMR'!E:F,2,FALSE),\"\")","v":0},246]
[null,"3648-18-8","222-883-3","050-031-00-9","dioctyltin dilaurate\n"," H360D",null,null,null,null,null,null,null,{"$f":"IFERROR(VLOOKUP(ROW(N243),'Liste nominative CMR'!E:F,2,FALSE),\"\")","v":0},247]
[null,"91648-39-4\n","293-901-5\n","050-031-00-9","stannane, dioctyl-, bis (coco acyloxy)  derivs.\n"," H360D",null,null,null,null,null,null,null,{"$f":"IFERROR(VLOOKUP(ROW(N244),'Liste nominative CMR'!E:F,2,FALSE),\"\")","v":""},""]
[null,"2781-10-4","220-481-2","050-032-00-4","dibutyltin bis\n(2-ethylhexanoate)"," H360FD",null,null,null,null,null,null,null,{"$f":"IFERROR(VLOOKUP(ROW(N245),'Liste nominative CMR'!E:F,2,FALSE),\"\")","v":""},""]
[null,"1067-33-0","213-928-8","050-033-00-X","dibutyltin di(acetate)"," H360FD",null,null,null,null,null,null,null,{"$f":"IFERROR(VLOOKUP(ROW(N246),'Liste nominative CMR'!E:F,2,FALSE),\"\")","v":""},""]
[null,"13494-80-9","236-813-4","052-001-00-0","tellurium"," H360Df",null,null,null,null,null,null,null,{"$f":"IFERROR(VLOOKUP(ROW(N247),'Liste nominative CMR'!E:F,2,FALSE),\"\")","v":""},""]
[null,"7446-07-3","231-193-1","052-002-00-6","tellurium dioxide "," H360Df",null,null,null,null,null,null,null,{"$f":"IFERROR(VLOOKUP(ROW(N248),'Liste nominative CMR'!E:F,2,FALSE),\"\")","v":""},""]
[null,"13701-59-2","237-222-4","056-005-00-3","barium diboron tetraoxide"," H360FD",null,null,null,null,null,null,null,{"$f":"IFERROR(VLOOKUP(ROW(N249),'Liste nominative CMR'!E:F,2,FALSE),\"\")","v":""},""]
[null,"7439-97-6","231-106-7","080-001-00-0","mercury"," H360D"]
[null,"115-09-3","204-064-2","080-012-00-0","methylmercuric chloride"," H360Df"]
[null,"-","-","082-001-00-6","lead compounds with the exception of those specified elsewhere in this Annex"," H360Df"]
[null,"-","-","082-002-00-1","lead alkyls"," H360Df"]
[null,"13424-46-9","236-542-1","082-003-00-7","lead diazide; lead azide"," H360Df"]
[null,"13424-46-9","236-542-1","082-003-01-4","lead diazide; lead azide [≥ 20 % phlegmatiser]"," H360Df"]
[null,"7758-97-6","231-846-0","082-004-00-2","lead chromate","H350 H360Df"]
[null,"301-04-2","206-104-4","082-005-00-8","lead di(acetate)"," H360Df"]
[null,"7446-27-7","231-205-5","082-006-00-3","trilead bis(orthophosphate)"," H360Df"]
[null,"1335-32-6","215-630-3","082-007-00-9","lead acetate, basic"," H360Df"]
[null,"17570-76-2","401-750-5","082-008-00-4","lead(II) methanesulphonate"," H360Df"]
[null,"1344-37-2","215-693-7","082-009-00-X","lead sulfochromate yellow; C.I. Pigment Yellow 34; [This substance is identified in the Colour Index by Colour Index Constitution Number, C.I. 77603.]","H350 H360Df"]
[null,"12656-85-8","235-759-9","082-010-00-5","lead chromate molybdate sulfate red; C.I. Pigment Red 104; [This substance is identified in the Colour Index by Colour Index Constitution Number, C.I. 77605.]","H350 H360Df"]
[null,"7784-40-9","232-064-2","082-011-00-0","lead hydrogen arsenate","H350 H360Df"]
[null,"7439-92-1","231-100-4","082-013-00-1","lead powder;\n[particle diameter < 1 mm]"," H360FD"]
[null,"7439-92-1","231-100-4","082-014-00-7","lead massive:\n[particle diameter ≥ 1 mm]"," H360FD"]
[null,"106-97-8","203-448-7","601-004-01-8","butane (containing ≥ 0,1 % butadiene (203-450-8))","H350 H340"]
[null,"75-28-5\n","200-857-2\n","601-004-01-8","isobutane (containing ≥ 0,1 % butadiene (203-450-8))\n","H350 H340"]
[null,"106-99-0","203-450-8","601-013-00-X","1,3-butadiene; buta-1,3-diene","H350 H340"]
[null,"78-79-5","201-143-3","601-014-00-5","isoprene (stabilised); 2-methyl-1,3-butadiene","H350"]
[null,"71-43-2","200-753-7","601-020-00-8","benzene","H350 H340"]
[null,"98-82-8\n","202-704-5\n","601-024-00-X","Cumene\n","H350"]
[null,"50-32-8","200-028-5","601-032-00-3","benzo[a]pyrene; benzo[def]chrysene","H350 H340 H360FD"]
[null,"56-55-3","200-280-6","601-033-00-9","benz[a]anthracene","H350"]
[null,"205-99-2","205-911-9","601-034-00-4","benz[e]acephenanthrylene","H350"]
[null,"205-82-3","205-910-3","601-035-00-X","benzo[j]fluoranthene","H350"]
[null,"207-08-9","205-916-6","601-036-00-5","benzo[k]fluoranthene","H350"]
[null,"53-70-3","200-181-8","601-041-00-2","dibenz[a,h]anthracene","H350"]
[null,"218-01-9","205-923-4","601-048-00-0","chrysene","H350"]
[null,"192-97-2","205-892-7","601-049-00-6","benzo[e]pyrene","H350"]
[null,"15606-95-8","427-700-2","601-067-00-4","triethyl arsenate","H350"]
[null,"189-55-9","205-877-5","601-090-00-X","benzo[rst]pentaphene","H350"]
[null,"189-64-0","205-878-0","601-091-00-5","dibenzo[b,def]chrysene;\ndibenzo[a,h]pyrene","H350"]
[null,"191-30-0","205-886-4","601-092-00-0","dibenzo[def,p]chrysene; dibenzo[a,l]pyrene","H350"]
[null,"106-93-4","203-444-5","602-010-00-6","1,2-dibromoethane","H350"]
[null,"107-06-2","203-458-1","602-012-00-7","1,2-dichloroethane; ethylene dichloride","H350"]
[null,"106-94-5","203-445-0","602-019-00-5","1-bromopropane; n-propyl bromide"," H360FD"]
[null,"78-87-5","201-152-2","602-020-00-0","1,2-dichloropropane; propylene dichloride","H350"]
[null,"96-12-8","202-479-3","602-021-00-6","1,2-dibromo-3-chloropropane","H350 H340 H360F"]
[null,"75-01-4","200-831-0","602-023-00-7","vinyl chloride; chloroethylene","H350"]
[null,"593-60-2","209-800-6","602-024-00-2","bromoethylene","H350"]
[null,"79-01-6","201-167-4","602-027-00-9","trichloroethylene; trichloroethene","H350"]
[null,"126-99-8","204-818-0","602-036-00-8","chloroprene (stabilised); 2-chlorobuta-1,3-diene (stabilised)","H350"]
[null,"100-44-7","202-853-6","602-037-00-3","α-chlorotoluene; benzyl chloride","H350"]
[null,"98-07-7","202-634-5","602-038-00-9","α,α,α-trichlorotoluene; benzotrichloride","H350"]
[null,"96-18-4","202-486-1","602-062-00-X","1,2,3-trichloropropane","H350 H360F"]
[null,"96-23-1","202-491-9","602-064-00-0","1,3-dichloro-2-propanol","H350"]
[null,"118-74-1","204-273-9","602-065-00-6","hexachlorobenzene","H350"]
[null,"764-41-0","212-121-8","602-073-00-X","1,4-dichlorobut-2-ene","H350"]
[null,"75-26-3","200-855-1","602-085-00-5","2-bromopropane"," H360F"]
[null,"96-13-9","202-480-9","602-088-00-1","2,3-dibromopropan-1-ol; 2,3-dibromo-1-propanol","H350"]
[null,"5216-25-1","226-009-1","602-093-00-9","α, α,α,4-tetrachlorotoluene; p-chlorobenzotrichloride","H350"]
[null,"32536-52-0","251-087-9","602-094-00-4","diphenylether; octabromo derivate"," H360Df"]
[null,"116-14-3","204-126-9","602-110-00-X","tetrafluoroethylene","H350"]
[null,"109-86-4","203-713-7","603-011-00-4","2-methoxyethanol; ethylene glycol monomethyl ether"," H360FD"]
[null,"110-80-5","203-804-1","603-012-00-X","2-ethoxyethanol; ethylene glycol monoethyl ether"," H360FD"]
[null,"75-21-8","200-849-9","603-023-00-X","ethylene oxide;\noxirane","H350 H340 H360Fd"]
[null,"123-91-1","204-661-8","603-024-00-5","1,4-dioxane","H350"]
[null,"106-89-8","203-439-8","603-026-00-6","1-chloro-2,3-epoxypropane; epichlorhydrin","H350"]
[null,"110-71-4","203-794-9","603-031-00-3","1,2-dimethoxyethane; ethylene glycol dimethyl ether; EGDME"," H360FD"]
[null,"542-88-1","208-832-8","603-046-00-5","bis(chloromethyl) ether; oxybis(chloromethane)","H350"]
[null,"75-56-9","200-879-2","603-055-00-4","propylene oxide; 1,2-epoxypropane; methyloxirane","H350 H340"]
[null,"1464-53-5","215-979-1","603-060-00-1","2,2'-bioxirane; 1,2:3,4-diepoxybutane","H350 H340"]
[null,"97-99-4","202-625-6","603-061-00-7","tetrahydro-2-furylmethanol; tetrahydrofurfuryl alcohol"," H360Df"]
[null,"556-52-5","209-128-3","603-063-00-8","2,3-epoxypropan-1-ol; glycidol; oxiranemethanol","H350 H360F"]
[null,"101-90-6","202-987-5","603-065-00-9","m-bis(2,3-epoxypropoxy)benzene; resorcinol diglycidyl ether","H350"]
[null,"106-87-6","203-437-7","603-066-00-4","7-oxa-3-oxiranylbicyclo [4.1.0]heptane; 1,2-epoxy- 4-epoxyethylcyclohexane; 4-vinylcyclohexene diepoxide","H350 H360F"]
[null,"122-60-1","204-557-2","603-067-00-X","phenyl glycidyl ether; 2,3-epoxypropyl phenyl ether; 1,2-epoxy-3-phenoxypropane","H350"]
[null,"107-30-2","203-480-1","603-075-00-3","chlormethyl methyl ether; chlorodimethyl ether","H350"]
[null,"96-09-3","202-476-7","603-084-00-2","styrene oxide; (epoxyethyl)benzene; phenyloxirane","H350"]
[null,"110-00-9","203-727-3","603-105-00-5","furan","H350"]
[null,"1589-47-5","216-455-5","603-106-00-0","2-methoxypropanol"," H360D"]
[null,"111-77-3","203-906-6","603-107-00-6","2-(2-methoxyethoxy)ethanol; diethylene glycol monomethyl ether"," H360D"]
[null,"111-96-6","203-924-4","603-139-00-0","bis(2-methoxyethyl) ether"," H360FD"]
[null,"57044-25-4","404-660-4","603-143-00-2","R-2,3-epoxy-1-propanol","H350 H360F"]
[null,"51594-55-9","424-280-2","603-166-00-8","R-1-chloro-2,3-epoxypropane","H350"]
[null,"112-49-2","203-977-3","603-176-00-2","1,2-bis(2-methoxyethoxy)ethane; TEGDME; triethylene glycol dimethyl ether; triglyme"," H360Df"]
[null,"111-41-1","203-867-5","603-194-00-0","2-(2-aminoethylamino)ethanol; (AEEA)"," H360Df"]
[null,"629-14-1","211-076-1","603-208-00-5","1,2-diethoxyethane"," H360Df"]
[null,"3033-77-0","221-221-0","603-211-00-1","2,3-epoxypropyltrimethylammonium chloride ...%; glycidyl trimethylammonium chloride ...%","H350"]
[null,"214353-17-0","433-580-2","603-221-01-3","1-(2-amino-5-chlorophenyl)-2,2,2-trifluoro-1,1-ethanediol, hydrochloride; [containing ≥ 0.1 % 4-chloroaniline (EC No 203-401-0)]","H350"]
[null,"97925-95-6","308-208-6","603-236-00-8","ethanol, 2,2'-iminobis-, N-(C13-15-branched and linear alkyl) derivs."," H360D"]
[null,"125225-28-7","-","603-237-00-3","ipconazole (ISO); (1RS,2SR,5RS;1RS,2S­R,5SR)-2-(4-chloro­benzyl)-5-isopropyl-1- (1H-1,2,4-triazol-1-yl­methyl)cyclopentanol"," H360D"]
[null,"143-24-8","205-594-7","603-238-00-9","bis(2-(2-methoxyethoxy)ethyl)ether; tetraglyme"," H360FD"]
[null,"3296-90-0","221-967-7","603-240-00-X","2,2-bis(bromomethyl) propane-1,3-diol","H350 H340"]
[null,"36483-57-5; 1522-92-5","253-057-0","603-243-00-6","2,2-dimethylpropan-1-ol, tribromo derivative; 3-bromo-2,2-bis(bromomethyl)propan-1-ol","H350"]
[null,"120-80-9","204-427-5","604-016-00-4","1,2-dihydroxybenzene;\npyrocatechol","H350"]
[null,"6807-17-6","401-720-1","604-024-00-8","4,4-isobutylethylidenediphenol"," H360F"]
[null,"399-95-1","402-230-0","604-028-00-X","4-amino-3-fluorophenol","H350"]
[null,"80-05-7","201-245-8","604-030-00-0","4,4'-isopropylidenediphenol;\nbisphenol A"," H360F"]
[null,"82413-20-5","428-010-4","604-073-00-5","(E)-3-[1-[4-[2-(dimethylamino)ethoxy]phenyl]-2-phenylbut-1-enyl]phenol"," H360F"]
[null,"77-09-8","201-004-7","604-076-00-1","phenolphthalein","H350"]
[null,"2040-90-6","433-890-8","604-082-00-4","2-chloro-6-fluoro-phenol"," H340"]
[null,"121158-58-5","310-154-3\n","604-092-00-9","phenol, dodecyl-, branched"," H360F"]
[null,"-","-","604-092-00-9","phenol, 2-dodecyl-, branched"," H360F"]
[null,"-","-","604-092-00-9","phenol, 3-dodecyl-, branched"," H360F"]
[null,"210555-94-5","-","604-092-00-9","phenol, 4-dodecyl-, branched"," H360F"]
[null,"74499-35-7","-","604-092-00-9","phenol, (tetrapropenyl) derivatives [5]\n"," H360F"]
[null,"119-47-1","204-327-1","604-095-00-5","6,6'-di-tert-butyl-2,2'-methylenedi-p-cresol;\n[DBMC]"," H360F"]
[null,"732-26-3","211-989-5","604-097-00-6","2,4,6-tri-tert-butylphenol"," H360D"]
[null,"80-09-1","201-250-5","604-098-00-1","4,4’-sulphonyldiphenol; bisphenol S"," H360FD"]
[null,"50-00-0","200-001-8","605-001-00-5","formaldehyde …%","H350"]
[null,"75-07-0","200-836-8","605-003-00-6","acetaldehyde;\nethanal","H350"]
[null,"94-59-7","202-345-4","605-020-00-9","safrole; 5-allyl-1,3-benzodioxole","H350"]
[null,"80-54-6","201-289-8","605-041-00-3","2-(4-tert-butylbenzyl) propionaldehyde"," H360Fd"]
[null,"3691-35-8","223-003-0","606-014-00-9","chlorophacinone (ISO); 2-[(4-chlorophenyl)(phenyl)acetyl]-1H-indene-1,3(2H)-dione"," H360D"]
[null,"872-50-4","212-828-1","606-021-00-7","N-methyl-2-pyrrolidone; 1-methyl-2-pyrrolidone"," H360D"]
[null,"57-57-8","200-340-1","606-031-00-1","3-propanolide; 1,3-propiolactone","H350"]
[null,"71868-10-5","400-600-6","606-041-00-6","2-methyl-1-(4-methylthiophenyl)-2-morpholinopropan-1-one"," H360FD"]
[null,"119313-12-1","404-360-3","606-047-00-9","2-benzyl-2-dimethylamino-4'-morpholinobutyrophenone"," H360D"]
[null,"61571-06-0","407-330-8","606-062-00-0","tetrahydrothiopyran-3-carboxaldehyde"," H360D"]
[null,"90-94-8","202-027-5","606-073-00-0","4,4'-bis(dimethylamino)benzophenone; Michler's ketone","H350"]
[null,"94723-86-1","425-150-8","606-100-00-6","2-butyryl-3-hydroxy-5-thiocyclohexan-3-yl-cyclohex-2-en-1-one"," H360F"]
[null,"5571-36-8","427-230-8","606-131-00-5","cyclic 3-(1,2-ethanediylacetale)-estra-5(10),9(11)-diene-3,17-dione"," H360F"]
[null,"84-65-1","201-549-0","606-151-00-4","anthraquinone","H350"]
[null,"119-61-9","204-337-6","606-153-00-5","benzophenone","H350"]
[null,"110-49-6","203-772-9","607-036-00-1","2-methoxyethyl acetate; methylglycol acetate"," H360FD"]
[null,"111-15-9","203-839-2","607-037-00-7","2-ethoxyethyl acetate; ethylglycol acetate"," H360FD"]
[null,"81-81-2","201-377-6","607-056-00-0","warfarin (ISO); 4-hydroxy-3-(3-oxo-1-phenylbutyl)-2H-chromen-2-one"," H360D"]
[null,"5543-57-7","226-907-3","607-056-00-0","(S)-4-hydroxy-3-(3-oxo-1-phenylbutyl)-2-benzopyrone"," H360D"]
[null,"5543-58-8\n","226-908-9\n","607-056-00-0","(R)-4-hydroxy-3-(3-oxo-1-phenylbutyl)-2-benzopyrone\n"," H360D"]
[null,"5836-29-3","227-424-0","607-059-00-7","coumatetralyl (ISO); 4-hydroxy-3-(1,2,3,4-tetrahydro-1-naphthyl)coumarin"," H360D"]
[null,"106-91-2","203-441-9","607-123-00-4","2,3-epoxypropyl methacrylate; glycidyl methacrylate","H350 H360F"]
[null,"51-79-6","200-123-1","607-149-00-6","urethane (INN); ethyl carbamate","H350"]
[null,"56073-07-5","259-978-4","607-157-00-X","difenacoum (ISO); 3-(3-biphenyl-4-yl-1,2,3,4-tetrahydro-1-naphthyl)-4-hydroxycoumarin"," H360D"]
[null,"56073-10-0","259-980-5","607-172-00-1","brodifacoum (ISO); 4-hydroxy-3-(3-(4'-bromo-4-biphenylyl)-1,2,3,4-tetrahydro-1-naphthyl)coumarin"," H360D"]
[null,"77402-03-0","401-890-7","607-190-00-X","methyl acrylamidomethoxyacetate (containing ≥ 0,1 % acrylamid)","H350 H340"]
[null,"80387-97-9","279-452-8","607-203-00-9","2-ethylhexyl[[[3,5-bis(1,1-dimethylethyl)-4-hydroxyphenyl]methyl]thio]acetate"," H360D"]
[null,"77402-05-2","403-230-3","607-210-00-7","methyl acrylamidoglycolate (containing ≥ 0,1 % acrylamide)","H350 H340"]
[null,"117-82-8","204-212-6","607-228-00-5","bis(2-methoxyethyl) phthalate"," H360Df"]
[null,"-","-","607-230-00-6","2-ethylhexanoic acid and its salts, with the exception of those specified elsewhere in this Annex"," H360D"]
[null,"70657-70-4","274-724-2","607-251-00-0","2-methoxypropyl acetate"," H360D"]
[null,"69806-50-4","274-125-6","607-304-00-8","fluazifop-butyl (ISO); butyl (RS)-2-[4-(5-trifluoromethyl-2-pyridyloxy)phenoxy]propionate"," H360D"]
[null,"50471-44-8","256-599-6","607-307-00-4","vinclozolin (ISO); N-3,5-dichlorophenyl-5-methyl-5-vinyl-1,3-oxazolidine-2,4-dione"," H360FD"]
[null,"625-45-6","210-894-6","607-312-00-1","methoxyacetic acid"," H360FD"]
[null,"117-81-7","204-211-0","607-317-00-9","bis(2-ethylhexyl) phthalate; di-(2-ethylhexyl) phthalate; DEHP"," H360FD"]
[null,"84-74-2","201-557-4","607-318-00-4","dibutyl phthalate; DBP"," H360Df"]
[null,"90035-08-8","421-960-0","607-375-00-5","flocoumafen (ISO); reaction mass of: cis-4-hydroxy-3-(1,2,3,4-tetrahydro-3-(4-(4-trifluoromethylbenzyloxy)phenyl)-1-naphthyl)coumarin and trans-4-hydroxy-3-(1,2,3,4-tetrahydro-3-(4-(4-trifluoromethylbenzyloxy)phenyl)-1-naphthyl)coumarin"," H360D"]
[null,"70987-78-9","417-210-7","607-411-00-X","oxiranemethanol, 4-methylbenzene-sulfonate, (S)-","H350"]
[null,"84777-06-0","284-032-2","607-426-00-1","1,2-benzenedicarboxylic acid, dipentylester, branched and linear"," H360FD"]
[null,"-","-","607-426-00-1","n-pentyl-isopentylphthalate"," H360FD"]
[null,"131-18-0","205-017-9","607-426-00-1","di-n-pentyl phthalate"," H360FD"]
[null,"605-50-5\n","210-088-4\n","607-426-00-1","diisopentylphthalate\n"," H360FD"]
[null,"85-68-7","201-622-7","607-430-00-3","BBP; benzyl butyl phthalate"," H360Df"]
[null,"68515-42-4","271-084-6","607-480-00-6","1,2-benzenedicarboxylic acid; di-C7-11-branched and linear alkylesters"," H360Df"]
[null,"71888-89-6","276-158-1","607-483-00-2","1,2-benzenedicarboxylic acid; di-C6-8-branched alkylesters, C7-rich"," H360D"]
[null,"-","402-660-9","607-487-00-4","reaction mass of: disodium 4-(3-ethoxycarbonyl-4-(5-(3-ethoxycarbonyl-5-hydroxy-1-(4-sulfonatophenyl)pyrazol-4-yl)penta-2,4-dienylidene)-4,5-dihydro-5-oxopyrazol-1-yl)benzenesulfonate; trisodium 4-(3-ethoxycarbonyl-4-(5-(3-ethoxycarbonyl-5-oxido-1-(4-sulfonatophenyl)pyrazol-4-yl)penta-2,4-dienylidene)-4,5-dihydro-5-oxopyrazol-1-yl)benzenesulfonate"," H360D"]
[null,"84-69-5","201-553-2","607-623-00-2","diisobutyl phthalate"," H360Df"]
[null,"1763-23-1","217-179-8","607-624-00-8","perfluorooctane sulfonic acid; heptadecafluorooctane-1-sulfonic acid"," H360D"]
[null,"2795-39-3","220-527-1","607-624-00-8","potassium perfluorooctanesulfonate; potassium heptadecafluorooctane-1-sulfonate"," H360D"]
[null,"70225-14-8","274-460-8","607-624-00-8","diethanolamine perfluorooctane sulfonate"," H360D"]
[null,"29081-56-9","249-415-0","607-624-00-8","ammonium perfluorooctane sulfonate; ammonium heptadecafluorooctanesulfonate"," H360D"]
[null,"29457-72-5\n","249-644-6\n","607-624-00-8","lithium perfluorooctane sulfonate; lithium heptadecafluorooctanesulfonate\n"," H360D"]
[null,"103112-35-2","401-290-5","607-626-00-9","ethyl 1-(2,4-dichlorophenyl)-5-(trichloromethyl)-1H-1,2,4-triazole-3-carboxylate","H350"]
[null,"98-73-7","202-696-3","607-698-00-1","4-tert-butylbenzoic acid"," H360F"]
[null,"84-75-3","201-559-5","607-702-00-1","dihexyl phthalate"," H360FD"]
[null,"3825-26-1","223-320-4","607-703-00-7","ammoniumpentadeca- fluorooctanoate"," H360D"]
[null,"335-67-1","206-397-9","607-704-00-2","perfluorooctanoic acid"," H360D"]
[null,"68515-50-4","271-093-5","607-710-00-5","1,2-benzenedicarboxylic acid, dihexyl ester, branched and linear"," H360FD"]
[null,"28772-56-7","249-205-9","607-716-00-8","bromadiolone (ISO); 3-[3-(4′-bromobiphenyl-4-yl)-3-hydroxy-1-phenylpropyl]-4-hydroxy-2H-chromen-2-one"," H360D"]
[null,"104653-34-1","-","607-717-00-3","difethialone (ISO);\n3-[3-(4′-bromobiphenyl-4-yl)-1,2,3,4-tetrahydronaphthalen-1-yl]-4-hydroxy-2H-1-benzothiopyran-2-one"," H360D"]
[null,"375-95-1","206-801-3\n","607-718-00-9","perfluorononan-1-oic acid"," H360Df"]
[null,"21049-39-8","-","607-718-00-9","perfluorononan-1-oic acid sodium salt"," H360Df"]
[null,"4149-60-4\n","-","607-718-00-9","perfluorononan-1-oic acid ammonium salt"," H360Df"]
[null,"84-61-7","201-545-9","607-719-00-4","dicyclohexyl phthalate"," H360D"]
[null,"335-76-2","206-400-3","607-720-00-X","nonadecafluorodecanoic acid"," H360Df"]
[null,"3108-42-7","221-470-5\n","607-720-00-X","ammonium nonadecafluorodecanoate"," H360Df"]
[null,"3830-45-3\n","-","607-720-00-X","sodium nonadecafluorodecanoate\n"," H360Df"]
[null,"5625-90-1","227-062-3","607-721-00-5","N,N′-methylenedimorpholine;\nN,N′-methylenebismorpholine;\n[formaldehyde released from N,N′-methylenebismorpholine];\n[MBM]","H350"]
[null,"148477-71-8","-","607-730-00-4","spirodiclofen (ISO);\n3-(2,4-dichlorophenyl)-2-oxo-1-oxaspiro[4.5]dec-3-en-4-yl 2,2-dimethylbutyrate","H350"]
[null,"7216-95-7","404-290-3","607-734-00-6","pentapotassium 2,2’,2’’,2’’’,2’’’’-(ethane-1,2-diylnitrilo)pentaacetate"," H360D"]
[null,"67-43-6","200-652-8","607-735-00-1","N-carboxymethyliminobis(ethylenenitrilo)tetra(acetic acid)"," H360D"]
[null,"140-01-2","205-391-3","607-736-00-7","pentasodium (carboxylatomethyl)iminobis(ethylenenitrilo)tetraacetate"," H360D"]
[null,"71850-09-4","276-090-2","607-737-00-2","diisohexyl phthalate"," H360FD"]
[null,"27554-26-3","248-523-5","607-740-00-9","diisooctyl phthalate"," H360FD"]
[null,"3121-61-7","221-499-3","607-744-00-0","2-methoxyethyl acrylate"," H360FD"]
[null,"70161-44-3","274-357-8","607-746-00-1","sodium N-(hydroxymethyl)glycinate; [formaldehyde released from sodium N-(hydroxymethyl)glycinate]","H350"]
[null,"375-85-9","206-798-9","607-761-00-3","Perfluoroheptanoic acid; tridecafluoroheptanoic acid"," H360D"]
[null," -"," -","607-763-00-4","6-[C12-18-alkyl-(branched, unsaturated)-2,5-dioxopyrrolidin-1-yl]hexanoic acid, sodium and tris(2-hydroxyethyl)ammonium salts"," H360FD"]
[null,"2156592-54-8"," -","607-764-00-X","6-[(C10-C13)-alkyl-(branched, unsaturated)-2,5-dioxopyrrolidin-1-yl]hexanoic acid"," H360FD"]
[null,"-"," -","607-765-00-5","6-[C12-18-alkyl-(branched, unsaturated)-2,5-dioxopyrrolidin-1-yl]hexanoic acid"," H360FD"]
[null,"107-13-1","203-466-5","608-003-00-4","acrylonitrile","H350"]
[null,"5146-66-7","225-918-0","608-067-00-3","3,7-dimethylocta-2,6-dienenitrile"," H340"]
[null,"79-46-9","201-209-1","609-002-00-1","2-nitropropane","H350"]
[null,"98-95-3","202-716-0","609-003-00-7","nitrobenzene"," H360F"]
[null,"121-14-2\n","204-450-0","609-007-00-9","2,4-dinitrotoluene\n","H350"]
[null,"25321-14-6\n","246-836-1\n","609-007-00-9","dinitrotoluene\n","H350"]
[null,"15245-44-0","239-290-0","609-019-00-4","lead 2,4,6-trinitro-m-phenylene dioxide; lead 2,4,6-trinitroresorcinoxide; lead styphnate"," H360Df"]
[null,"15245-44-0","239-290-0","609-019-01-1","lead 2,4,6-trinitro-m-phenylene dioxide; lead 2,4,6-trinitroresorcinoxide; lead styphnate (≥ 20 % phlegmatiser)"," H360Df"]
[null,"39300-45-3","254-408-0","609-023-00-6","dinocap (ISO); (RS)-2,6-dinitro-4-octylphenyl crotonates and (RS)-2,4-dinitro-6-octylphenyl crotonates in which “octyl” is a reaction mass of 1-methylheptyl, 1-ethylhexyl and 1-propylpentyl groups"," H360D"]
[null,"485-31-4","207-612-9","609-024-00-1","binapacryl (ISO); 2-sec-butyl-4,6-dinitrophenyl-3-methylcrotonate"," H360D"]
[null,"88-85-7","201-861-7","609-025-00-7","dinoseb (ISO); 6-sec-butyl-2,4-dinitrophenol"," H360Df"]
[null,"-","-","609-026-00-2","salts and esters of dinoseb, with the exception of those specified elsewhere in this Annex"," H360Df"]
[null,"1420-07-1","215-813-8","609-030-00-4","dinoterb (ISO); 2-tert-butyl-4,6-dinitrophenol"," H360D"]
[null,"-","-","609-031-00-X","salts and esters of dinoterb"," H360D"]
[null,"602-87-9","210-025-0","609-037-00-2","5-nitroacenaphthene","H350"]
[null,"581-89-5","209-474-5","609-038-00-8","2-nitronaphthalene","H350"]
[null,"92-93-3","202-204-7","609-039-00-3","4-nitrobiphenyl","H350"]
[null,"1836-75-5","217-406-0","609-040-00-9","nitrofen (ISO); 2,4-dichlorophenyl 4-nitrophenyl ether","H350 H360D"]
[null,"91-23-6","202-052-1","609-047-00-7","2-nitroanisole","H350"]
[null,"606-20-2","210-106-0","609-049-00-8","2,6-dinitrotoluene","H350"]
[null,"602-01-7","210-013-5","609-050-00-3","2,3-dinitrotoluene","H350"]
[null,"610-39-9","210-222-1","609-051-00-9","3,4-dinitrotoluene","H350"]
[null,"618-85-9","210-566-2","609-052-00-4","3,5-dinitrotoluene","H350"]
[null,"-","414-850-9","609-053-00-X","hydrazine-trinitromethane","H350"]
[null,"619-15-8","210-581-4","609-055-00-0","2,5-dinitrotoluene","H350"]
[null,"88-72-2","201-853-3","609-065-00-5","2-nitrotoluene","H350 H340"]
[null,"103-33-3","203-102-5","611-001-00-6","azobenzene","H350"]
[null,"592-62-1","209-765-7","611-004-00-2","methyl-ONN-azoxymethyl acetate; methyl azoxy methyl acetate","H350 H360D"]
[null,"16071-86-6","240-221-1","611-005-00-8","disodium {}{5-[(4'-((2,6-hydroxy-3-((2-hydroxy-5-sulphophenyl)azo)phenyl)azo)(1,1'-biphenyl)-4-yl)azo]salicylato(4-)}}cuprate(2-); CI Direct Brown 95","H350"]
[null,"97-56-3","202-591-2","611-006-00-3","4-o-tolylazo-o-toluidine; 4-amino-2',3-dimethylazobenzene; fast garnet GBC base; AAT; o-aminoazotoluene","H350"]
[null,"60-09-3","200-453-6","611-008-00-4","4-aminoazobenzene; 4-phenylazoaniline","H350"]
[null,"-","-","611-024-00-1","Benzidine based azo dyes; 4,4'-diarylazobiphenyl dyes, with the exception of those specified elsewhere in this Annex","H350"]
[null,"1937-37-7","217-710-3","611-025-00-7","disodium 4-amino-3-[[4'-[(2,4-diaminophenyl)azo][1,1'-biphenyl]-4-yl]azo]-5-hydroxy-6-(phenylazo)naphtalene-2,7-disulphonate; C.I. Direct Black 38","H350"]
[null,"2602-46-2","220-012-1","611-026-00-2","tetrasodium 3,3'-[[1,1'-biphenyl]-4,4'-diylbis(azo)]bis[5-amino-4-hydroxynaphthalene-2,7-disulphonate]; C.I. Direct Blue 6","H350"]
[null,"573-58-0","209-358-4","611-027-00-8","disodium 3,3'-[[1,1'-biphenyl]-4,4'-diylbis(azo)]bis(4-aminonaphthalene-1-sulphonate); C.I. Direct Red 28","H350"]
[null,"-","-","611-029-00-9","o-dianisidine based azo dyes; 4,4'-diarylazo-3,3'-dimethoxybiphenyl dyes with the exception of those mentioned elsewhere in this Annex","H350"]
[null,"-","-","611-030-00-4","o-tolidine based dyes; 4,4'-diarylazo-3,3'-dimethylbiphenyl dyes, with the exception of those mentioned elsewhere in this Annex","H350"]
[null,"569-61-9","209-321-2","611-031-00-X","4,4'-(4-iminocyclohexa-2,5-dienylidenemethylene)dianiline hydrochloride; C.I. Basic Red 9","H350"]
[null,"2475-45-8","219-603-7","611-032-00-5","1,4,5,8-tetraaminoanthraquinone; C.I. Disperse Blue 1","H350"]
[null,"85136-74-9","400-340-3","611-057-00-1","6-hydroxy-1-(3-isopropoxypropyl)-4-methyl-2-oxo-5-[4-(phenylazo)phenylazo]-1,2-dihydro-3-pyridinecarbonitrile","H350"]
[null,"108225-03-2","402-060-7","611-058-00-7","(6-(4-hydroxy-3-(2-methoxyphenylazo)-2-sulfonato-7-naphthylamino)-1,3,5-triazin-2,4-diyl)bis[(amino-1-methylethyl)ammonium] formate","H350"]
[null,"164058-22-4","413-590-3","611-063-00-4","trisodium [4'-(8-acetylamino-3,6-disulfonato-2-naphthylazo)-4''-(6-benzoylamino-3-sulfonato-2-naphthylazo)-biphenyl-1,3',3'',1'''-tetraolato-O,O',O'',O''']copper(II)","H350"]
[null,"118658-99-4","401-500-5","611-099-00-0","(methylenebis(4,1-phenylenazo(1-(3-(dimethylamino)propyl)-1,2-dihydro-6-hydroxy-4-methyl-2-oxopyridine-5,3-diyl)))-1,1'-dipyridinium dichloride dihydrochloride","H350"]
[null,"151798-26-4","420-580-2","611-131-00-3","2-[2-hydroxy-3-(2-chlorophenyl)carbamoyl-1-naphthylazo]-7-[2-hydroxy-3-(3-methylphenyl)carbamoyl-1-naphthylazo]fluoren-9-one"," H360D"]
[null,"68049-83-2","-","611-140-00-2","azafenidin (ISO); 2-(2,4-dichloro-5-prop-2-ynyloxyphenyl)-5,6,7,8-tetrahydro-1,2,4-triazolo[4,3-a]pyridin-3(2H)-one"," H360Df"]
[null,"91-59-8","202-080-4","612-022-00-3","2-naphthylamine","H350"]
[null,"100-63-0","202-873-5","612-023-00-9","phenylhydrazine","H350"]
[null,"59-88-1]\n","200-444-7","612-023-00-9","phenylhydrazinium chloride","H350"]
[null,"27140-08-5","248-259-0","612-023-00-9","phenylhydrazine hydrochloride","H350"]
[null,"52033-74-6\n","257-622-2\n","612-023-00-9","phenylhydrazinium sulphate (2:1)\n","H350"]
[null,"90-04-0","201-963-1","612-035-00-4","2-methoxyaniline; o-anisidine","H350"]
[null,"119-90-4","204-355-4","612-036-00-X","3,3'-dimethoxybenzidine; o-dianisidine","H350"]
[null,"-","-","612-037-00-5","salts of 3,3'-dimethoxybenzidine; salts of o-dianisidine","H350"]
[null,"119-93-7","204-358-0","612-041-00-7","4,4'-bi-o-toluidine","H350"]
[null,"92-87-5","202-199-1","612-042-00-2","benzidine; 1,1'-biphenyl-4,4'-diamine; 4,4'-diaminobiphenyl; biphenyl-4,4'-ylenediamine","H350"]
[null,"613-35-4","210-338-2","612-044-00-3","N,N'-diacetylbenzidine","H350"]
[null,"101-77-9","202-974-4","612-051-00-1","4,4'-diaminodiphenylmethane; 4,4'-methylenedianiline","H350"]
[null,"91-94-1","202-109-0","612-068-00-4","3,3'-dichlorobenzidine; 3,3'-dichlorobiphenyl-4,4'-ylenediamine","H350"]
[null,"-","-","612-069-00-X","salts of 3,3'-dichlorobenzidine; salts of 3,3'-dichlorobiphenyl-4,4'-ylenediamine","H350"]
[null,"531-85-1\n","208-519-6","612-070-00-5","salts of benzidine","H350"]
[null,"531-86-2","208-520-1","612-070-00-5","salts of benzidine","H350"]
[null,"21136-70-9","244-236-4","612-070-00-5","salts of benzidine","H350"]
[null,"36341-27-2\n","252-984-8\n","612-070-00-5","salts of benzidine","H350"]
[null,"553-00-4","209-030-0\n","612-071-00-0","salts of 2-naphthylamine","H350"]
[null,"612-52-2\n","210-313-6\n","612-071-00-0","salts of 2-naphthylamine\n","H350"]
[null,"92-67-1","202-177-1","612-072-00-6","biphenyl-4-ylamine; xenylamine; 4-aminobiphenyl","H350"]
[null,"-","-","612-073-00-1","salts of biphenyl-4-ylamine; salts of xenylamine; salts of 4-aminobiphenyl","H350"]
[null,"62-75-9","200-549-8","612-077-00-3","dimethylnitrosoamine; N-nitrosodimethylamine","H350"]
[null,"101-14-4","202-918-9","612-078-00-9","2,2'-dichloro-4,4'-methylenedianiline; 4,4'-methylene bis(2-chloroaniline)","H350"]
[null,"-","-","612-079-00-4","salts of 2,2'-dichloro-4,4'-methylenedianiline; salts of 4,4'-methylenebis(2-chloroaniline)","H350"]
[null,"612-82-8","210-322-5","612-081-00-5","salts of 4,4'-bi-o-toluidine; salts of 3,3'-dimethylbenzidine; salts of o-tolidine","H350"]
[null,"64969-36-4","265-294-7","612-081-00-5","salts of 4,4'-bi-o-toluidine; salts of 3,3'-dimethylbenzidine; salts of o-tolidine","H350"]
[null,"74753-18-7\n","277-985-0\n","612-081-00-5","salts of 4,4'-bi-o-toluidine; salts of 3,3'-dimethylbenzidine; salts of o-tolidine","H350"]
[null,"70-25-7","200-730-1","612-083-00-6","1-methyl-3-nitro-1-nitrosoguanidine","H350"]
[null,"838-88-0","212-658-8","612-085-00-7","4,4'-methylenedi-o-toluidine","H350"]
[null,"1116-54-7","214-237-4","612-090-00-4","2,2'-(nitrosoimino)bisethanol","H350"]
[null,"95-53-4","202-429-0","612-091-00-X","o-toluidine; 2-aminotoluene","H350"]
[null,"621-64-7","210-698-0","612-098-00-8","nitrosodipropylamine","H350"]
[null,"95-80-7","202-453-1","612-099-00-3","4-methyl-m-phenylenediamine; 2,4-toluenediamine","H350"]
[null,"65321-67-7","265-697-8","612-126-00-9","toluene-2,4-diammonium sulphate; 4-methyl-m-phenylenediamine sulfate","H350"]
[null,"106-47-8","203-401-0","612-137-00-9","4-chloroaniline","H350"]
[null,"-","-","612-151-00-5","methyl-phenylene diamine; diaminotoluene; [technical product – reaction mass of 4-methyl-m-phenylene diamine (EC No 202-453-1) and 2-methyl-m-phenylene diamine (EC No 212-513-9)]","H350"]
[null,"95-69-2","202-441-6","612-196-00-0","4-chloro-o-toluidine","H350"]
[null,"3165-93-3\n","221-627-8\n","612-196-00-0","4-chloro-o-toluidine hydrochloride\n","H350"]
[null,"137-17-7","205-282-0\n","612-197-00-6","2,4,5-trimethylaniline","H350"]
[null,"21436-97-5\n","-","612-197-00-6","2,4,5-trimethylaniline hydrochloride\n","H350"]
[null,"139-65-1","205-370-9","612-198-00-1","4,4'-thiodianiline and its salts","H350"]
[null,"101-80-4","202-977-0","612-199-00-7","4,4'-oxydianiline and its salts; p-aminophenyl ether","H350 H340"]
[null,"615-05-4","210-406-1","612-200-00-0","2,4-diaminoanisole; 4-methoxy-m-phenylenediamine","H350"]
[null,"39156-41-7\n","254-323-9\n","612-200-00-0","2,4-diaminoanisole sulphate\n","H350"]
[null,"101-61-1","202-959-2","612-201-00-6","N,N,N',N'-tetramethyl-4,4'-methylendianiline","H350"]
[null,"548-62-9","208-953-6","612-205-00-8","C.I. Basic Violet 3 with ≥ 0.1 % of Michler's ketone (EC no. 202-027-5)","H350"]
[null,"120-71-8","204-419-1","612-209-00-X","6-methoxy-m-toluidine; p-cresidine","H350"]
[null,"91-95-2","202-110-6","612-239-00-3","biphenyl-3,3',4,4'-tetrayltetraamine; diaminobenzidine","H350"]
[null,"40722-80-3","429-740-6","612-246-00-1","(2-chloroethyl)(3-hydroxypropyl)ammonium chloride","H350 H340"]
[null,"3724-43-4","425-970-6","612-250-00-3","chloro-N,N-dimethylformiminium chloride"," H360D"]
[null,"199327-61-2","429-400-7","612-253-01-7","7-methoxy-6-(3-morpholin-4-yl-propoxy)-3H-quinazolin-4-one; [containing ≥ 0.5 % formamide (EC No 200-842-0) ]"," H360D"]
[null,"132-32-1","205-057-7","612-280-00-7","3-amino-9-ethyl carbazole; 9-ethylcarbazol-3-ylamine","H350"]
[null,"68694-11-1","-","612-289-00-6","triflumizole (ISO); (1E)-N-[4-chloro-2-(trifluoromethyl)phenyl]-1-(1H-imidazol-1-yl)-2-propoxyethanimine"," H360D"]
[null,"-","-","612-290-00-1","reaction products of paraformaldehyde and 2-hydroxypropylamine (ratio 3:2);\n[formaldehyde released from 3,3′-methylenebis[5-methyloxazolidine];\n[formaldehyde released from oxazolidin];\n[MBO]","H350"]
[null,"-","-","612-291-00-7","reaction products of paraformaldehyde with 2-hydroxypropylamine (ratio 1:1);\n[formaldehyde released from α,α,α-trimethyl-1,3,5-triazine-1,3,5(2H,4H,6H)-triethanol];\n[HPT]","H350"]
[null,"60-34-4","200-471-4","612-292-00-2","methylhydrazine","H350"]
[null,"151-56-4","205-793-9","613-001-00-1","ethyleneimine; aziridine","H350 H340"]
[null,"24602-86-6","246-347-3","613-020-00-5","tridemorph (ISO); 2,6-dimethyl-4-tridecylmorpholine"," H360D"]
[null,"75-55-8","200-878-7","613-033-00-6","2-methylaziridine; propyleneimine","H350"]
[null,"96-45-7","202-506-9","613-039-00-9","ethylene thiourea; imidazolidine-2-thione; 2-imidazoline-2-thiol"," H360D"]
[null,"2425-06-1","219-363-3","613-046-00-7","captafol (ISO); 1,2,3,6-tetrahydro-N-(1,1,2,2-tetrachloroethylthio)phthalimide","H350"]
[null,"10605-21-7","234-232-0","613-048-00-8","carbendazim (ISO);\nmethyl benzimidazol-2-ylcarbamate"," H340 H360FD"]
[null,"17804-35-2","241-775-7","613-049-00-3","benomyl (ISO); methyl 1-(butylcarbamoyl)benzimidazol-2-ylcarbamate"," H340 H360FD"]
[null,"6804-07-5","229-879-0","613-050-00-9","carbadox (INN); methyl 3-(quinoxalin-2-ylmethylene)carbazate 1,4-dioxide; 2-(methoxycarbonylhydrazonomethyl)quinoxaline 1,4-dioxide","H350"]
[null,"110488-70-5","404-200-2","613-102-00-0","dimethomorph (ISO);\n(E,Z)- 4-(3-(4-chlorophenyl)- 3-(3,4-dimethoxyphenyl) acryloyl)morpholine"," H360F"]
[null,"288-88-0","206-022-9","613-111-00-X","1,2,4-triazole"," H360FD"]
[null,"66-81-9","200-636-0","613-140-00-8","cycloheximide (ISO); 4-{}{(2R)-2-[(1S,3S,5S)-3,5-dimethyl-2-oxocyclohexyl]-2-hydroxyethyl}}piperidine-2,6-dione"," H360D"]
[null,"133855-98-8","406-850-2","613-175-00-9","epoxiconazole (ISO); (2RS,3SR)-3-(2-chlorophenyl)-2-(4-fluorophenyl)-[( 1H-1,2,4-triazol-1-yl)methyl]oxirane"," H360Df"]
[null,"143860-04-2","421-150-7","613-191-00-6","3-ethyl-2-methyl-2-(3-methylbutyl)-1,3-oxazolidine"," H360F"]
[null,"-","421-550-1","613-199-00-X","reaction mass of: 1,3,5-tris(3-aminomethylphenyl)-1,3,5-(1H,3H,5H)-triazine-2,4,6-trione; reaction mass of oligomers of 3,5-bis(3-aminomethylphenyl)-1-poly[3,5-bis(3-aminomethylphenyl)-2,4,6-trioxo-1,3,5-(1H,3H,5H)-triazin-1-yl]-1,3,5-(1H,3H,5H)-triazine-2,4,6-trione","H350 H360D"]
[null,"60207-90-1","262-104-4","613-205-00-0","propiconazole (ISO);\n(2RS,4RS;2RS,4SR)-1-{[2-(2,4-dichlorophenyl)-4-propyl-1,3-dioxolan-2-yl]methyl}-1H-1,2,4-triazole"," H360D"]
[null,"91-22-5","202-051-6","613-281-00-5","quinoline","H350"]
[null,"65277-42-1","265-667-4","613-283-00-6","ketoconazole; 1-[4-[4-[[(2SR,4RS)-2-(2,4-dichlorophenyl)-2-(imidazol-1-ylmethyl)-1,3-dioxolan-4-yl]methoxy]phenyl]piperazin-1-yl]ethanone"," H360F"]
[null,"183196-57-8","418-260-2","613-286-01-X","potassium 1-methyl-3-morpholinocarbonyl-4-[3-(1-methyl-3-morpholinocarbonyl-5-oxo-2-pyrazolin-4-ylidene)-1-propenyl]pyrazole-5-olate; [containing ≥ 0.5 % N,N-dimethylformamide (EC No 200-679-5)]"," H360D"]
[null,"288-32-4","206-019-2","613-319-00-0","imidazole"," H360D"]
[null,"55219-65-3","259-537-6","613-322-00-7","triadimenol (ISO);\n(1RS,2RS;1RS,2SR)-1-(4-chlorophenoxy)-3,3-dimethyl-1-(1H-1,2,4-triazol-1-yl)butan-2-ol;\nα-tert-butyl-β-(4-chlorophenoxy)-1H-1,2,4-triazole-1-ethanol"," H360"]
[null,"148-24-3","205-711-1","613-324-00-8","quinolin-8-ol;\n8-hydroxyquinoline"," H360D"]
[null,"111988-49-9","-","613-325-00-3","thiacloprid (ISO);\n(Z)-3-(6-chloro-3-pyridylmethyl)-1,3-thiazolidin-2-ylidenecyanamide;\n{(2Z)-3-[(6-chloropyridin-3-yl)methyl]-1,3-thiazolidin-2-ylidene}cyanamide"," H360FD"]
[null,"1072-63-5","214-012-0","613-328-00-X","1-vinylimidazole"," H360D"]
[null,"100784-20-1","-","613-329-00-5","halosulfuron-methyl (ISO);\nmethyl 3-chloro-5-{[(4,6-dimethoxypyrimidin-2-yl)carbamoyl]sulfamoyl}-1-methyl-1H-pyrazole-4-carboxylate"," H360D"]
[null,"693-98-1","211-765-7","613-330-00-0","2-methylimidazole"," H360Df"]
[null,"13463-41-7","236-671-3","613-333-00-7","pyrithione zinc; (T-4)- bis[1-(hydroxy-.kappa.O)pyridine-2(1H)- thionato-.kappa.S]zinc"," H360D"]
[null,"61213-25-0","262-661-3","613-334-00-2","flurochloridone (ISO); 3-chloro-4-(chloro­methyl)-1-[3-(trifluor­omethyl)phenyl]pyrrolidin-2-one"," H360FD"]
[null,"1453-58-3","215-925-7","613-339-00-X","3-methylpyrazole"," H360D"]
[null,"58-55-9","200-385-7","613-342-00-6","theophylline; 1,3-dimethyl-3,7-dihydro-1H-purine-2,6-dione"," H360D"]
[null,"64-86-8","200-598-5","614-005-00-6","colchicine"," H340"]
[null,"2451-62-9","219-514-3","615-021-00-6","1,3,5-tris(oxiranylmethyl)-1,3,5-triazine-2,4,6(1H,3H,5H)-trione; TGIC"," H340"]
[null,"68-12-2","200-679-5","616-001-00-X","N,N-dimethylformamide; dimethyl formamide"," H360D"]
[null,"79-06-1","201-173-7","616-003-00-0","acrylamide; prop-2-enamide","H350 H340"]
[null,"127-19-5","204-826-4","616-011-00-4","N,N-dimethylacetamide"," H360D"]
[null,"96-29-7","202-496-6","616-014-00-0","butanone oxime; ethyl methyl ketoxime; ethyl methyl ketone oxime","H350"]
[null,"62-55-5","200-541-4","616-026-00-6","thioacetamide","H350"]
[null,"75-12-7","200-842-0","616-052-00-8","formamide"," H360D"]
[null,"79-16-3","201-182-6","616-053-00-3","N-methylacetamide"," H360D"]
[null,"123-39-7","204-624-6","616-056-00-X","N-methylformamide"," H360D"]
[null,"-","412-790-8","616-057-00-5","reaction mass of: N-[3-hydroxy-2-(2-methylacryloylaminomethoxy)propoxymethyl]-2-methylacrylamide; N-[2,3-bis-(2-methylacryloylaminomethoxy)propoxymethyl]-2-methylacrylamide; methacrylamide; 2-methyl-N-(2-methylacryloylaminomethoxymethyl)-acrylamide; N-(2,3-dihydroxypropoxymethyl)-2-methylacrylamide","H350"]
[null,"59653-74-6","423-400-0","616-091-00-0","1,3,5-tris-[(2S and 2R)-2,3-epoxypropyl]-1,3,5-triazine-2,4,6-(1H,3H,5H)-trione"," H340"]
[null,"84245-12-5","424-550-1","616-148-00-X","N-[6,9-dihydro-9-[[2-hydroxy-1-(hydroxymethyl)ethoxy]methyl]-6-oxo-1H-purin-2-yl]acetamide","H350 H340 H360FD"]
[null,"27366-72-9","435-470-1","616-180-00-4","N,N-(dimethylamino)thioacetamide hydrochloride"," H360D"]
[null,"2687-91-4","220-250-6","616-208-00-5","N-ethyl-2-pyrrolidone; 1-ethylpyrrolidin-2-one"," H360D"]
[null,"16118-49-3","240-286-6","616-223-00-7","carbetamide (ISO);\n(R)-1-(ethylcarbamoyl)ethyl carbanilate;\n(2R)-1-(ethylamino)-1-oxopropan-2-yl phenylcarbamate"," H360D"]
[null,"924-42-5","213-103-2","616-230-00-5","N-(hydroxymethyl)acrylamide; methylolacrylamide; [NMA]","H350 H340"]
[null,"874819-71-3","477-690-9","616-238-00-9","N-(2-nitrophenyl)phosphoric triamide"," H360Fd"]
[null,"881685-58-1","-","616-240-00-X","Reaction mass of 3-(difluoromethyl)-1-methyl-N-[(1RS,4SR,9RS)-1,2,3,4-tetrahydro-9-isopropyl-1,4-methanonaphthalen-5-yl]pyrazole-4-carboxamide and 3-(difluoromethyl)-1-methyl-N-[(1RS,4SR,9SR)-1,2,3,4-tetrahydro-9-isopropyl-1,4-methanonaphthalen-5-yl]pyrazole-4-carboxamide [≥ 78% syn isomers ≤15% anti isomers relative content]; isopyrazam"," H360D"]
[null,"80-43-3","201-279-3","617-006-00-X","bis(α,α-dimethylbenzyl) peroxide"," H360D"]
[null,"84650-02-2","283-482-7","648-001-00-0","Distillates (coal tar), benzole fraction; Light Oil; [A complex combination of hydrocarbons obtained by the distillation of coal tar. It consists of hydrocarbons having carbon numbers primarily in the range of C4 to C10 and distilling in the approximate range of 80 °C to 160 °C (175 °F to 320 °F).]","H350"]
[null,"94114-40-6","302-674-4","648-002-00-6","Tar oils, brown-coal; Light Oil; [The distillate from lignite tar boiling in the range of approximately 80°C to 250°C (176°F to 482°F).  Composed primarily of aliphatic and aromatic hydrocarbons and monobasic phenols.]","H350 H340"]
[null,"65996-88-5","266-023-5","648-003-00-1","Benzol forerunnings (coal); Light Oil Redistillate, low boiling; [The distillate from coke oven light oil having an approximate distillation range below 100°C (212°F).  Composed primarily of C4 to C6 aliphatic hydrocarbons.]","H350 H340"]
[null,"101896-26-8","309-984-9","648-004-00-7","Distillates (coal tar), benzole fraction, BTX-rich; Light Oil Redistillate, low boiling; [A residue from the distillation of crude benzole to remove benzole fronts.  Composed primarily of benzene, toluene and xylenes boiling in the range of approximately 75°C to 200°C (167°F to 392°F).]","H350 H340"]
[null,"90989-41-6","292-697-5","648-005-00-2","Aromatic hydrocarbons, C6-10, C8-rich; Light Oil Redistillate, low boiling","H350 H340"]
[null,"85536-17-0","287-498-5","648-006-00-8","Solvent naphtha (coal), light; Light Oil Redistillate, low boiling","H350 H340"]
[null,"85536-20-5","287-502-5","648-007-00-3","Solvent naphtha (coal), xylene-styrene cut; Light Oil Redistillate, intermediate boiling","H350 H340"]
[null,"85536-19-2","287-500-4","648-008-00-9","Solvent naphtha (coal), coumarone-styrene contg.; Light Oil Redistillate, intermediate boiling","H350 H340"]
[null,"90641-12-6","292-636-2","648-009-00-4","Naphtha (coal), distn. residues; Light Oil Redistillate, high boiling; [The residue remaining from the distillation of recovered naphtha.  Composed primarily of naphthalene and condensation products of indene and styrene.]","H350 H340"]
[null,"90989-38-1","292-694-9","648-010-00-X","Aromatic hydrocarbons, C8; Light Oil Redistillate, high boiling","H350 H340"]
[null,"91995-20-9","295-281-1","648-012-00-0","Aromatic hydrocarbons, C8-9, hydrocarbon resin polymn. by-product; Light Oil Redistillate, high boiling; [A complex combination of hydrocarbons obtained from the evaporation of solvent under vacuum from polymerized hydrocarbon resin.  It consists predominantly of aromatic hydrocarbons having carbon numbers predominantly in the range of C8 through C9 and boiling in the range of approximately 120°C to 215°C (248°F to 419°F).]","H350 H340"]
[null,"92062-36-7","295-551-9","648-013-00-6","Aromatic hydrocarbons, C9-12, benzene distn.; Light Oil Redistillate, high boiling","H350 H340"]
[null,"91995-61-8","295-323-9","648-014-00-1","Extract residues (coal), benzole fraction alk., acid ext.; Light Oil Extract Residues, low boiling; [The redistillate from the distillate, freed of tar acids and tar bases, from bituminous coal high temperature tar boiling in the approximate range of 90°C to 160°C (194°F to 320°F).  It consists predominantly of benzene, toluene and xylenes.]","H350 H340"]
[null,"101316-63-6","309-868-8","648-015-00-7","Extract residues (coal tar), benzole fraction alk., acid ext.; Light Oil Extract Residues, low boiling; [A complex combination of hydrocarbons obtained by the redistillation of the distillate of high temperature coal tar (tar acid and tar base free).  It consists predominantly of unsubstituted and substituted mononuclear aromatic hydrocarbons boiling in the range of 85°C to 195°C (185°F to 383°F).]","H350 H340"]
[null,"93821-38-6","298-725-2","648-016-00-2","Extract residues (coal), benzole fraction acid; Light Oil Extract Residues, low boiling; [An acid sludge by-product of the sulfuric acid refining of crude high temperature coal.  Composed primarily of sulfuric acid and organic compounds.]","H350 H340"]
[null,"90641-02-4","292-625-2","648-017-00-8","Extract residues (coal), light oil alk., distn. overheads; Light Oil Extract Residues, low boiling; [The first fraction from the distillation of aromatic hydrocarbons, coumarone, naphthalene and indene rich prefractionator bottoms or washed carbolic oil boiling substantially below 145°C (293°F).  Composed primarily of C7 and C8 aliphatic and aromatic hydrocarbons.]","H350 H340"]
[null,"101316-62-5","309-867-2","648-018-00-3","Extract residues (coal), light oil alk., acid ext., indene fraction; Light Oil Extract Residues, intermediate boiling","H350 H340"]
[null,"90641-03-5","292-626-8","648-019-00-9","Extract residues (coal), light oil alk., indene naphtha fraction; Light Oil Extract Residues, high boiling; [The distillate from aromatic hydrocarbons, coumarone, naphthalene and indene rich prefractionator bottoms or washed carbolic oils, having an approximate boiling range of 155°C to 180°C (311°F to 356°F).  Composed primarily of indene, indan and trimethylbenzenes.]","H350 H340"]
[null,"65996-79-4","266-013-0","648-020-00-4","Solvent naphtha (coal); Light Oil Extract Residues, high boiling; [The distillate from either high temperature coal tar, coke oven light oil, or coal tar oil alkaline extract residue having an approximate distillation range of 130°C to 210°C (266°F to 410°F). Composed primarily of indene and other polycyclic ring systems containing a single aromatic ring. May contain phenolic compounds and aromatic nitrogen bases.]","H350 H340"]
[null,"101794-90-5","309-971-8","648-021-00-X","Distillates (coal tar), light oils, neutral fraction; Light Oil Extract Residues, high boiling; [A distillate from the fractional distillation of high temperature coal tar. Composed primarily of alkyl-substituted one ring aromatic hydrocarbons boiling in the range of approximately 135°C to 210°C (275°F to 410°F). May also include unsaturated hydrocarbons such as indene and coumarone.]","H350 H340"]
[null,"90640-87-2","292-609-5","648-022-00-5","Distillates (coal tar), light oils, acid exts.; Light Oil Extract Residues, high boiling; [This oil is a complex reaction mass of aromatic hydrocarbons, primarily indene, naphthalene, coumarone, phenol, and o-, m- and p-cresol and boiling in the range of 140°C to 215°C (284°F to 419°F).]","H350 H340"]
[null,"84650-03-3","283-483-2","648-023-00-0","Distillates (coal tar), light oils; Carbolic Oil; [A complex combination of hydrocarbons obtained by distillation of coal tar. It consists of aromatic and other hydrocarbons, phenolic compounds and aromatic nitrogen compounds and distills at the approximate range of 150°C to 210°C (302°F to 410°F).]","H350 H340"]
[null,"65996-82-9","266-016-7","648-024-00-6","Tar oils, coal; Carbolic Oil; [The distillate from high temperature coal tar having an approximate distillation range of 130°C to 250°C (266°F to 410°F). Composed primarily of naphthalene, alkylnaphthalenes, phenolic compounds, and aromatic nitrogen bases.]","H350 H340"]
[null,"90641-01-3","292-624-7","648-026-00-7","Extract residues (coal), light oil alk., acid ext.; Carbolic Oil Extract Residue; [The oil resulting from the acid washing of alkali-washed carbolic oil to remove the minor amounts of basic compounds (tar bases). Composed primarily of indene, indan and alkylbenzenes.]","H350 H340"]
[null,"65996-87-4","266-021-4","648-027-00-2","Extract residues (coal), tar oil alk.; Carbolic Oil Extract Residue; [The residue obtained from coal tar oil by an alkaline wash such as aqueous sodium hydroxide after the removal of crude coal tar acids. Composed primarily of naphthalenes and aromatic nitrogen bases.]","H350 H340"]
[null,"90640-99-6","292-622-6","648-028-00-8","Extract oils (coal), light oil; Acid Extract; [The aqueous extract produced by an acidic wash of alkali-washed carbolic oil. Composed primarily of acid salts of various aromatic nitrogen bases including pyridine, quinoline and their alkyl derivatives.]","H350 H340"]
[null,"68391-11-7","269-929-9","648-029-00-3","Pyridine, alkyl derivs.; Crude Tar Bases; [The complex combination of polyalkylated pyridines derived from coal tar distillation or as high-boiling distillates approximately above 150°C (302°F) from the reaction of ammonia with acetaldehyde, formaldehyde or paraformaldehyde.]","H350 H340"]
[null,"92062-33-4","295-548-2","648-030-00-9","Tar bases, coal, picoline fraction; Distillate Bases; [Pyridine bases boiling in the range of approximately 125°C to 160°C (257°F 320°F) obtained by distillation of neutralized acid extract of the base-containing tar fraction obtained by the distillation of bituminous coal tars. Composed chiefly of lutidines and picolines.]","H350 H340"]
[null,"91082-52-9","293-766-2","648-031-00-4","Tar bases, coal, lutidine fraction; Distillate Bases","H350 H340"]
[null,"68937-63-3","273-077-3","648-032-00-X","Extract oils (coal), tar base, collidine fraction; Distillate Bases; [The extract produced by the acidic extraction of bases from crude coal tar aromatic oils, neutralization, and distillation of the bases. Composed primarily of collidines, aniline, toluidines, lutidines, xylidines.]","H350 H340"]
[null,"92062-28-7","295-543-5","648-033-00-5","Tar bases, coal, collidine fraction; Distillate Bases; [The distillation fraction boiling in the range of approximately 181 °C to 186 °C (356 °F to 367 °F) from the crude bases obtained from the neutralized, acid-extracted base-containing tar fractions obtained by the distillation of bituminous coal tar. It contains chiefly aniline and collidines.]","H350 H340"]
[null,"92062-27-6","295-541-4","648-034-00-0","Tar bases, coal, aniline fraction; Distillate Bases; [The distillation fraction boiling in the range of approximately 180 °C to 200 °C (356 °F to 392 °F) from the crude bases obtained by dephenolating and debasing the carbolated oil from the distillation of coal tar. It contains chiefly aniline, collidines, lutidines and toluidines.]","H350 H340"]
[null,"91082-53-0","293-767-8","648-035-00-6","Tar bases, coal, toluidine fraction; Distillate Bases","H350 H340"]
[null,"91995-31-2","295-292-1","648-036-00-1","Distillates (petroleum), alkene-alkyne manuf. pyrolysis oil, mixed with high-temp. coal tar, indene fraction; Redistillates; [A complex combination of hydrocarbons obtained as a redistillate from the fractional distillation of bituminous coal high temperature tar and residual oils that are obtained by the pyrolytic production of alkenes and alkynes from petroleum products or natural gas. It consists predominantly of indene and boils in a range of approximately 160°C to 190°C (320°F to 374°F).]","H350 H340"]
[null,"91995-35-6","295-295-8","648-037-00-7","Distillates (coal), coal tar-residual pyrolysis oils, naphthalene oils; Redistillates; [The redistillate obtained from the fractional distillation of bituminous coal high temperature tar and pyrolysis residual oils and boiling in the range of approximately 190°C to 270°C (374°F to 518°F). Composed primarily of substituted dinuclear aromatics.]","H350 H340"]
[null,"91995-66-3","295-329-1","648-038-00-2","Extract oils (coal), coal tar-residual pyrolysis oils, naphthalene oil, redistillate; Redistillates; [The redistillate from the fractional distillation of dephenolated and debased methylnaphthalene oil obtained from bituminous coal high temperature tar and pyrolysis residual oils boiling in the approximate range of 220°C to 230°C (428°F to 446°F). It consists predominantly of unsubstituted and substituted dinuclear aromatic hydrocarbons.]","H350 H340"]
[null,"122070-79-5","310-170-0","648-039-00-8","Extract oils (coal), coal tar-residual pyrolysis oils, naphthalene oils; Redistillates; [A neutral oil obtained by debasing and dephenolating the oil obtained from the distillation of high temperature tar and pyrolysis residual oils which has a boiliing range of 225°C to 255°C (437°F to 491°F). Composed primarily of substituted dinuclear aromatic hydrocarbons.]","H350 H340"]
[null,"122070-80-8","310-171-6","648-040-00-3","Extract oils (coal), coal tar residual pyrolysis oils, naphthalene oil, distn. residues; Redistillates; [Residue from the distillation of dephenolated and debased methylnaphthalene oil (from bituminous coal tar and pyrolysis residual oils) with a boiling range of 240°C to 260°C (464°F to 500°F). Composed primarily of substituted dinuclear aromatic and heterocyclic hydrocarbons.]","H350 H340"]
[null,"101316-45-4","309-851-5","648-041-00-9","Absorption oils, bicyclo arom. and heterocyclic hydrocarbon fraction; Wash Oil Redistillate; [A complex combination of hydrocarbons obtained as a redistillate from the distillation of wash oil. It consists predominantly of 2-ringed aromatic and heterocyclic hydrocarbons boiling in the range of approximately 260 °C to 290 °C (500 °F to 554 °F).]","H350"]
[null,"84989-11-7","284-900-0","648-042-00-4","Distillates (coal tar), upper, fluorene-rich; Wash Oil Redistillate; [A complex combination of hydrocarbons obtained by the crystallization of tar oil. It consists af aromatic and polycyclic hydrocarbons primarily fluorene and some acenaphthene.]","H350"]
[null,"90640-85-0","292-606-9","648-043-00-X","Creosote oil, acenaphthene fraction, acenaphthene-free; Wash Oil Redistillate; [The oil remaining after removal by a crystallization process of acenaphthene from acenaphthene oil from coal tar. Composed primarily of naphthalene and alkylnaphthalenes.]","H350"]
[null,"90640-86-1","292-607-4","648-044-00-5","Distillates (coal tar), heavy oils; Heavy Anthracene Oil; [Distillate from the fractional distillation of coal tar of bituminous coal, with boiling range of 240 °C to 400 °C (464 °F to 752 °F). Composed primarily of tri- and polynuclear hydrocarbons and heterocyclic compounds.]","H350"]
[null,"65996-91-0","266-026-1","648-045-00-0","Distillates (coal tar), upper; Heavy Anthracene Oil; [The distillate from coal tar having an approximate distillation range of 220 °C to 450 °C (428 °F to 842 °F). Composed primarily of three to four membered condensed ring aromatic hydrocarbons and other hydrocarbons.]","H350"]
[null,"91995-14-1","295-274-3","648-046-00-6","Anthracene oil, acid ext.; Anthracene Oil Extract Residue; [A complex combination of hydrocarbons from the base-freed fraction obtained from the distillation of coal tar and boiling in the range of approximately 325 °C to 365 °C (617 °F to 689 °F). It contains predominantly anthracene and phenanthrene and their alkyl derivatives.]","H350"]
[null,"65996-92-1","266-027-7","648-047-00-1","Distillates (coal tar); Heavy Anthracene Oil; [The distillate from coal tar having an approximate distillation range of 100 °C to 450 °C (212 °F to 842 °F). Composed primarily of two to four membered condensed ring aromatic hydrocarbons, phenolic compounds, and aromatic nitrogen bases.]","H350"]
[null,"91995-51-6","295-312-9","648-048-00-7","Distillates (coal tar), pitch, heavy oils; Heavy Anthracene Oil; [The distillate from the distillation of the pitch obtained from bituminous high temperature tar. Composed primarily of tri- and polynuclear aromatic hydrocarbons and boiling in the range of approximately 300 °C to 470 °C (572 °F to 878 °F). The product may also contain heteroatoms.]","H350"]
[null,"101316-49-8","309-855-7","648-049-00-2","Distillates (coal tar), pitch; Heavy Anthracene Oil; [The oil obtained from condensation of the vapors from the heat treatment of pitch. Composed primarily of two- to four-ring aromatic compounds boiling in the range of 200 °C to greater than 400 °C (392 °F to greater than 752 °F).]","H350"]
[null,"91995-42-5","295-304-5","648-050-00-8","Distillates (coal tar), heavy oils, pyrene fraction; Heavy Anthracene Oil Redistillate; [The redistillate obtained from the fractional distillation of pitch distillate boiling in the range of approximately 350 °C to 400 °C (662 °F to 752 °F). Consists predominantly of tri- and polynuclear aromatics and heterocyclic hydrocarbons.]","H350"]
[null,"91995-52-7","295-313-4","648-051-00-3","Distillates (coal tar), pitch, pyrene fraction; Heavy Anthracene Oil Redistillate; [The redistillate obtained from the fractional distillation of pitch distillate and boiling in the range of approximately 380 °C to 410 °C (716 to 770 °F). Composed primarily of tri- and polynuclear aromatic hydrocarbons and heterocyclic compounds.]","H350"]
[null,"97926-76-6","308-296-6","648-052-00-9","Paraffin waxes (coal), brown-coal high-temp. tar, carbon-treated; Coal Tar Extract; [A complet combination of hydrocarbons obtained by the treatment of lignite carbonization tar with activated carbon for removal of trace constituents and impurities. It consists predominantly of saturated straight and branched chain hydrocarbons having carbon numbers predominantly greater than C12.]","H350"]
[null,"97926-77-7","308-297-1","648-053-00-4","Paraffin waxes (coal), brown-coal high-temp tar, clay-treated; Coal Tar Extract; [A complex combination of hydrocarbons obtained by the treatment of lignite carbonization tar with bentonite for removal of trace constituents and impurities. It consists predominantly of saturated straight and branched chain hydrocarbons having carbon numbers predominantly greater than C12.]","H350"]
[null,"61789-60-4","263-072-4","648-054-00-X","Pitch; Pitch","H350"]
[null,"65996-93-2","266-028-2","648-055-00-5","pitch, coal tar, high-temp.,; [The residue from the distillation of high temperature coal tar. A black solid with an approximate softening point from 30 °C to 180 °C (86 °F to 356 °F). Composed primarily of a complex mixture of three or more membered condensed ring aromatic hydrocarbons.]","H350 H340 H360FD"]
[null,"121575-60-8","310-162-7","648-056-00-0","Pitch, coal tar, high-temp., heat-treated; Pitch; [The heat treated residue from the distillation of high temperature coal tar. A black solid with an approximate softening point from 80 °C to 180 °C (176 °F to 356 °F). Composed primarily of a complex mixture of three or more membered condensed ring aromatic hydrocarbons.]","H350"]
[null,"94114-13-3","302-650-3","648-057-00-6","Pitch, coal tar, high-temp., secondary; Pitch Redistillate; [The residue obtained during the distillation of high boiling fractions from bituminous coal high temperature tar and/or pitch coke oil, with a softening point of 140 °C to 170 °C (284 °F to 392 °F) according to DIN 52025. Composed primarily of tri- and polynuclear aromatic compounds which also contain heteroatoms.]","H350"]
[null,"92061-94-4","295-507-9","648-058-00-1","Residues (coal tar), pitch distn.; Pitch Redistillate; [Residue from the fractional distillation of pitch distillate boiling in the range of approximately 400 °C to 470 °C (752 °F to 846 °F). Composed primarily of polynuclear aromatic hydrocarbons, and heterocyclic compounds.]","H350"]
[null,"92062-20-9","295-535-1","648-059-00-7","Tar, coal, high-temp., distn. and storage residues; Coal Tar Solids Residue; [Coke- and ash-containing solid residues that separate on distillation and thermal treatment of bituminous coal high temperature tar in distillation installations and storage vessels. Consists predominantly of carbon and contains a small quantity of hetero compounds as well as ash components.]","H350"]
[null,"91082-50-7","293-764-1","648-060-00-2","Tar, coal, storage residues; Coal Tar Solids Residue; [The deposit removed from crude coal tar storages. Composed primarily of coal tar and carbonaceous particulate matter.]","H350"]
[null,"100684-51-3","309-726-5","648-061-00-8","Tar, coal, high-temp., residues; Coal Tar Solids Residue; [Solids formed during the coking of bituminous coal to produce crude bituminous coal high temperature tar. Composed primarily of coke and coal particles, highly aromatized compounds and mineral substances.]","H350"]
[null,"68990-61-4","273-615-7","648-062-00-3","Tar, coal, high-temp., high-solids; Coal Tar Solids Residue; [The condensation product obtained by cooling, to approximately ambient temperature, the gas evolved in the high temperature (greater than 700 °C (1292 °F)) destructive distillation of coal. Composed primarily of a complex mixture of condensed ring aromatic hydrocarbons with a high solid content of coal-type materials.]","H350"]
[null,"92062-34-5","295-549-8","648-063-00-9","Waste solids, coal-tar pitch coking; Coal Tar Solids Residue; [The combination of wastes formed by the coking of bituminous coal tar pitch. It consists predominantly of carbon.]","H350"]
[null,"91697-23-3","294-285-0","648-064-00-4","Extract residues (coal), brown; Coal Tar Extract; [The residue from extraction of dried coal.]","H350"]
[null,"92045-71-1","295-454-1","648-065-00-X","Paraffin waxes (coal), brown-coal-high-temp. tar; Coal Tar Extract; [A complex combination of hydrocarbons obtained from lignite carbonization tar by solvent crystallisation (solvent deoiling), by sweating or an adducting process. It consists predominantly of straight and branched chain saturated hydrocarbons having carbon numbers predominantly greater than C12.]","H350"]
[null,"92045-72-2","295-455-7","648-066-00-5","Paraffin waxes (coal), brown-coal-high-temp. tar, hydrotreated; Coal Tar Extract; [A complex combination of hydrocarbons obtained from lignite carbonization tar by solvent crystallisation (solvent deoiling), by sweating or an adducting process treated with hydrogen in the presence of a catalyst. It consists predominantly of straight and branched chain saturated hydrocarbons having carbon numbers predominantly greater than C12.]","H350"]
[null,"97926-78-8","308-298-7","648-067-00-0","Paraffin waxes (coal), brown-coal high-temp tar, silicic acid-treated; Coal Tar Extract; [A complex combination of hydrocarbons obtained by the treatment of lignite carbonization tar with silicic acid for removal of trace constituents and impurities. It consists predominantly of saturated straight and branched chain hydrocarbons having carbon numbers predominantly greater than C12.]","H350"]
[null,"101316-85-2","309-887-1","648-068-00-6","Tar, coal, low-temp., distn. residues; Tar Oil, intermediate boiling; [Residues from fractional distillation of low temperature coal tar to remove oils that boil in a range up to approximately 300 °C (572 °F). Composed primarily of aromatic compounds.]","H350"]
[null,"90669-57-1","292-651-4","648-069-00-1","Pitch, coal tar, low-temp; Pitch Residue; [A complex black solid or semi-solid obtained from the distillation of a low temperature coal tar. It has a softening point within the approximate range of 40 °C to 180 °C (104 °F to 356 °F). Composed primarily of a complex mixture of hydrocarbons.]","H350"]
[null,"90669-59-3","292-654-0","648-070-00-7","Pitch, coal tar, low-temp., oxidized; Pitch Residue, oxidised; [The product obtained by air-blowing, at elevated temperature, low-temperature coal tar pitch. It has a softening-point within the approximate range of 70 °C to 180 °C (158 °F to 356 °F). Composed primarily of a complex mixture of hydrocarbons.]","H350"]
[null,"90669-58-2","292-653-5","648-071-00-2","Pitch, coal tar, low-temp., heat-treated; Pitch Residue, oxidised; Pitch Residue, heat-treated; [A complex black solid obtained by the heat treatment of low temperature coal tar pitch. It has a softening point within the approximate range of 50 °C to 140 °C (122 °F to 284 °F). Composed primarily of a complex mixture of aromatic compounds.]","H350"]
[null,"68188-48-7","269-159-3","648-072-00-8","Distillates (coal-petroleum), condensed-ring arom; Distillates; [The distillate from a mixture of coal and tar and aromatic petroleum streams having an approximate distillation range of 220 °C to 450 °C (428 °F to 842 °F). Composed primarily of 3- to 4-membered condensed ring aromatic hydrocarbons.]","H350"]
[null,"101794-74-5","309-956-6","648-073-00-3","Aromatic hydrocarbons, C20-28, polycyclic, mixed coal-tar pitch-polyethylene-polypropylene pyrolysis-derived; Pyrolysis Products; [A complex combination hydrocarbons obtained from mixed coal tar pitch-polyethylene-polypropylene pyrolysis. Composed primarily of polycyclic aromatic hydrocarbons having carbon numbers predominantly in the range of C20 through C28 and having a softening point of 100 °C to 220 °C (212 °F to 428 °F) according to DIN 52025.]","H350"]
[null,"101794-75-6","309-957-1","648-074-00-9","Aromatic hydrocarbons, C20-28, polycyclic, mixed coal-tar pitch-polyethylene pyrolysis-derived; Pyrolysis Products; [A complex combination of hydrocarbons obtained from mixed coal tar pitch-polyethylene pyrolysis. Composed primarily of polycyclic aromatic hydrocarbons having carbon numbers predominantly in the range of C20 through C28 and having a softening point of 100 °C to 220 °C (212 °F to 428 °F) according to DIN 52025.]","H350"]
[null,"101794-76-7","309-958-7","648-075-00-4","Aromatic hydrocarbons, C20-28, polycyclic, mixed coal-tar pitch-polystyrene pyrolysis-derived; Pyrolysis Products; [A complex combination of hydrocarbons obtained from mixed coal tar pitch-polystyrene pyrolysis. Composed primarily of polycyclic aromatic hydrocarbons having carbon numbers predominantly in the range of C20 through C28 and having a softening point of 100 °C to 220 °C (212 °F to 428 °F) according to DIN 52025.]","H350"]
[null,"68187-57-5","269-109-0","648-076-00-X","Pitch, coal tar-petroleum; Pitch Residues; [The residue from the distillation of a mixture of coal tar and aromatic petroleum streams. A solid with a softening point from 40 °C to 180 °C (140 °F to 356 °F). Composed primarily of a complex combination of three or more membered condensed ring aromatic hydrocarbons.]","H350"]
[null,"122070-78-4","310-169-5","648-077-00-5","Phenanthrene, distn. residues; Heavy Anthracene Oil Redistillate; [Residue from the distillation of crude phenanthrene boiling in the approximate range of 340 °C to 420 °C (644 °F to 788 °F). It consists predominantly of phenanthrene, anthracene and carbazole.]","H350"]
[null,"84989-10-6","284-899-7","648-078-00-0","Distillates (coal tar), upper, fluorene-free; Wash Oil Redistillate; [A complex combination of hydrocarbons obtained by the crystallization of tar oil. It consists of aromatic polycyclic hydrocarbons, primarily diphenyl, dibenzofuran and acenaphthene.]","H350"]
[null,"90640-80-5","292-602-7","648-079-00-6","Anthracene oil; [A complex combination of polycyclic aromatic hydrocarbons obtained from coal tar having an approximate distillation range of 300 °C to 400 °C (572 °F to 752 °F). Composed primarily of phenanthrene, anthracene and carbazole.]","H350"]
[null,"92061-93-3","295-506-3","648-080-00-1","Residues (coal tar), creosote oil distn.; Wash Oil Redistillate; [The residue from the fractional distillation of wash oil boiling in the approximate range of 270°C to 330°C (518°F to 626°F). It consists predominantly of dinuclear aromatic and heterocyclic hydrocarbons.]","H350"]
[null,"8007-45-2","232-361-7","648-081-00-7","Tar, coal; Coal tar; [The by-product from the destructive distillation of coal. Almost black semisolid. A complex combination of aromatic hydro-carbons, phenolic compounds, nitrogen bases and thiophene.]","H350"]
[null,"65996-89-6","266-024-0","648-082-00-2","Tar, coal, high-temp.; Coal tar; [The condensation product obtained by cooling, to approximately ambient temperature, the gas evolved in the high temperature (greater than 700 °C (1292 °F)) destructive distillation of coal. A black viscous liquid denser than water. Composed primarily of a complex mixture of condensed ring aromatic hydrocarbons. May contain minor amounts of phenolic compounds and aromatic nitrogen bases.]","H350"]
[null,"65996-90-9","266-025-6","648-083-00-8","Tar, coal, low-temp.; Coal oil; [The condensation product obtained by cooling, to approximately ambient temperature, the gas evolved in low temperature (less than 700 °C (1292 °F)) destructive distillation of coal. A black viscous liquid denser than water. Composed primarily of condensed ring aromatic hydrocarbons, phenolic compounds, aromatic nitrogen bases, and their alkyl derivatives.]","H350"]
[null,"85029-51-2","285-076-5","648-084-00-3","Distillates (coal), coke-oven light oil, naphthalene cut; Naphthalene Oil; [The complex combination of hydrocarbons obtained from prefractionation (continuous distillation) of coke oven light oil.  It consists predominantly of naphthalene, coumarone and indene and boils above 148°C (298°F).]","H350 H340"]
[null,"84650-04-4","283-484-8","648-085-00-9","Distillates (coal tar), naphthalene oils; Naphthalene Oil; [A complex combination of hydrocarbons obtained by the distillation of coal tar.  It consists primarily of aromatic and other hydrocarbons, phenolic compounds and aromatic nitrogen compounds and distills in the approximate range of 200°C to 250°C (392°F to 482°F).]","H350 H340"]
[null,"84989-09-3","284-898-1","648-086-00-4","Distillates (coal tar), naphthalene oils, naphthalene-low; Naphthalene Oil Redistillate; [A complex combination of hydrocarbons obtained by crystallization of naphthalene oil.  Composed primarily of naphthalene, alkyl naphthalenes and phenolic compounds.]","H350 H340"]
[null,"91995-49-2","295-310-8","648-087-00-X","Distillates (coal tar), naphthalene oil crystn. mother liquor; Naphthalene Oil Redistillate; [A complex combination of organic compounds obtained as a filtrate from the crystallization of the naphthalene fraction from coal tar and boiling in the range of approximately 200°C to 230°C (392°F to 446°F).  Contains chiefly naphthalene, thionaphthene and alkylnaphthalenes.]","H350 H340"]
[null,"121620-47-1","310-166-9","648-088-00-5","Extract residues (coal), naphthalene oil, alk.; Naphthalene Oil Extract Residue; [A complex combination of hydrocarbons obtained from the alkali washing of naphthalene oil to remove phenolic compounds (tar acids).  It is composed of naphthalene and alkyl naphthalenes.]","H350 H340"]
[null,"121620-48-2","310-167-4","648-089-00-0","Extract residues (coal), naphthalene oil, alk., naphthalene-low; Naphthalene Oil Extract Residue; [A complex combination of hydrocarbons remaining after the removal of naphthalene from alkali-washed naphthalene oil by a crystallization process.  It is composed primarily of naphthalene and alkyl naphthalenes.]","H350 H340"]
[null,"90640-90-7","292-612-1","648-090-00-6","Distillates (coal tar), naphthalene oils, naphthalene-free, alk. exts.; Naphthalene Oil Extract Residue; [The oil remaining after the removal of phenolic compounds (tar acids) from drained naphthalene oil by an alkali wash.  Composed primarily of naphthalene and alkyl naphthalenes.]","H350 H340"]
[null,"90641-04-6","292-627-3","648-091-00-1","Extract residues (coal), naphthalene oil alk., distn. overheads; Naphthalene Oil Extract Residue; [The distillate from alkali-washed naphthalene oil having an approximate distillation range of 180°C to 220°C (356°F to 428°F).  Composed primarily of naphthalene, alkylbenzenes, indene and indan.]","H350 H340"]
[null,"101896-27-9","309-985-4","648-092-00-7","Distillates (coal tar), naphthalene oils, methylnaphthalene fraction; Methylnaphthalene Oil; [A distillate from the fractional distillation of high temperature coal tar.  Composed primarily of substituted two ring aromatic hydrocarbons and aromatic nitrogen bases boiling in the range of approximately 225°C to 255°C (437°F to 491°F).]","H350 H340"]
[null,"101794-91-6","309-972-3","648-093-00-2","Distillates (coal tar), naphthalene oils, indole-methylnaphthalene fraction; Methylnaphthalene Oil; [A distillate from the fractional distillation of high temperature coal tar.  Composed primarily of indole and methylnaphthalene boiling in the range of approximately 235°C to 255°C (455°F to 491°F).]","H350 H340"]
[null,"91995-48-1","295-309-2","648-094-00-8","Distillates (coal tar), naphthalene oils, acid exts.; Methylnaphthalene Oil Extract Residue; [A complex combination of hydrocarbons obtained by debasing the methylnaphthalene fraction obtained by the distillation of coal tar and boiling in the range of approximately 230°C to 255°C (446°F to 491°F).  Contains chiefly 1(2)-methylnaphthalene, naphthalene, dimethylnaphthalene and biphenyl.]","H350 H340"]
[null,"90641-05-7","292-628-9","648-095-00-3","Extract residues (coal), naphthalene oil alk., distn. residues; Methylnaphthalene Oil Extract Residue; [The residue from the distillation of alkali-washed naphthalene oil having an approximate distillation range of 220°C to 300°C (428°F to 572°F).  Composed primarily of naphthalene, alkylnaphthalenes and aromatic nitrogen bases.]","H350 H340"]
[null,"84989-12-8","284-901-6","648-096-00-9","Extract oils (coal), acidic, tar-base free; Methylnaphthalene Oil Extract Residue; [The extract oil boiling in the range of approximately 220°C to 265°C (428°F to 509°F) from coal tar alkaline extract residue produced by an acidic wash such as aqueous sulfuric acid after distillation to remove tar bases.  Composed primarily of alkylnaphthalenes.]","H350 H340"]
[null,"121620-46-0","310-165-3","648-097-00-4","Distillates (coal tar), benzole fraction, distn. residues; Wash Oil; [A complex combination of hydrocarbons obtained from the distillation of crude benzole (high temperature coal tar).  It may be a liquid with the approximate distillation range of 150°C to 300°C (302°F to 572°F) or a semi-solid or solid with a melting point up to 70°C (158°F).  It is composed primarily of naphthalene and alkyl naphthalenes.]","H350 H340"]
[null,"90640-84-9","292-605-3","648-098-00-X","Creosote oil, acenaphthene fraction; Wash Oil; [A complex combination of hydrocarbons produced by the distillation of coal tar and boiling in the range of approximately 240°C to 280°C (464°F to 536°F). Composed primarily of acenaphthene, naphthalene and alkyl naphthalene.]","H350"]
[null,"61789-28-4","263-047-8","648-099-00-5","Creosote oil; [A complex combination of hydrocarbons obtained by the distillation of coal tar. It consists primarily of aromatic hydrocarbons and may contain appreciable quantities of tar acids and tar bases. It distills at the approximate range of 200°C to 325°C (392°F to 617°F).]","H350"]
[null,"70321-79-8","274-565-9","648-100-00-9","Creosote oil, high-boiling distillate; Wash Oil; [The high-boiling distillation fraction obtained from the high temperature carbonization of bituminous coal which is further refined to remove excess crystalline salts. It consists primarily of creosote oil with some of the normal polynuclear aromatic salts, which are components of coal tar distillates, removed. It is crystal free at approximately 5°C (41°F).]","H350"]
[null,"8001-58-9","232-287-5","648-101-00-4","Creosote; [The distillate of coal tar produced by the high temperature carbonization of bituminous coal. It consists primarily of aromatic hydrocarbons, tar acids and tar bases.]","H350"]
[null,"122384-77-4","310-189-4","648-102-00-X","Extract residues (coal), creosote oil acid; Wash Oil Extract Residue; [A complex combination of hydrocarbons from the base-freed fraction from the distillation of coal tar, boiling in the range of approximately 250°C to 280°C (482°F to 536°F). It consists predominantly of biphenyl and isomeric diphenylnaphthalenes.]","H350"]
[null,"90640-81-6","292-603-2","648-103-00-5","Anthracene oil, anthracene paste; Anthracene Oil Fraction; [The anthracene-rich solid obtained by the crystallization and centrifuging of anthracene oil.  It is composed primarily of anthracene, carbazole and phenanthrene.]","H350 H340"]
[null,"90640-82-7","292-604-8","648-104-00-0","Anthracene oil, anthracene-low; Anthracene Oil Fraction; [The oil remaining after the removal, by a crystallization process, of an anthracene-rich solid (anthracene paste) from anthracene oil.  It is composed primarily of two, three and four membered aromatic compounds.]","H350 H340"]
[null,"92061-92-2","295-505-8","648-105-00-6","Residues (coal tar), anthracene oil distn.; Anthracene Oil Fraction; [The residue from the fraction distillation of crude anthracene boiling in the approximate range of 340°C to 400°C (644°F to 752°F).  It consists predominantly of tri- and polynuclear aromatic and heterocyclic hydrocarbons.]","H350 H340"]
[null,"91995-15-2","295-275-9","648-106-00-1","Anthracene oil, anthracene paste, anthracene fraction; Anthracene Oil Fraction; [A complex combination of hydrocarbons from the distillation of anthracene obtained by the crystallization of anthracene oil from bituminous high temperature tar and boiling in the range of 330°C to 350°C (626°F to 662°F).  It contains chiefly anthracene, carbazole and phenanthrene.]","H350 H340"]
[null,"91995-16-3","295-276-4","648-107-00-7","Anthracene oil, anthracene paste, carbazole fraction; Anthracene Oil Fraction; [A complex combination of hydrocarbons from the distillation of anthracene obtained by crystallization of anthracene oil from bituminous coal high temperature tar and boiling in the approximate range of 350°C to 360°C (662°F to 680°F).  It contains chiefly anthracene, carbazole and phenanthrene.]","H350 H340"]
[null,"91995-17-4","295-278-5","648-108-00-2","Anthracene oil, anthracene paste, distn. lights; Anthracene Oil Fraction; [A complex combination of hydrocarbons from the distillation of anthracene obtained by crystallization of anthracene oil from bituminous high temperature tar and boiling in the range of approximately 290°C to 340°C (554°F to 644°F). It contains chiefly trinuclear aromatics and their dihydro derivatives.]","H350 H340"]
[null,"101316-87-4","309-889-2","648-109-00-8","Tar oils, coal, low-temp.; Tar Oil, high boiling; [A distillate from low-temperature coal tar.  Composed primarily of hydrocarbons, phenolic compounds and aromatic nitrogen bases boiling in the range of approximately 160°C to 340°C (320°F to 644°F).]","H350 H340"]
[null,"122384-78-5","310-191-5","648-110-00-3","Extract residues (coal), low temp. coal atar alk.; [The residue from low temperature coal tar oils after an alkaline wash, such as aqueous sodium hydroxide, to remove crude coal tar acids.  Composed primarily of hydrocarbons and aromatic nitrogen bases.]","H350 H340"]
[null,"84988-93-2","284-881-9","648-111-00-9","Phenols, ammonia liquor ext.; Alkaline Extract; [The combination of phenols extracted, using isobutyl acetate, from the ammonia liquor condensed from the gas evolved in low-temperature (less than 700°C (1292°F)) destructive distillation of coal.  It consists predominantly of a reaction mass of monohydric and dihydric phenols.]","H350 H340"]
[null,"90640-88-3","292-610-0","648-112-00-4","Distillates (coal tar), light oils, alk. exts.; Alkaline Extract; [The aqueous extract from carbolic oil produced by an alkaline wash such as aqueous sodium hydroxide.  Composed primarily of the alkali salts of various phenolic compounds.]","H350 H340"]
[null,"65996-83-0","266-017-2","648-113-00-X","Extracts, coal tar oil alk.; Alkaline Extract; [The extract from coal tar oil produced by an alkaline wash such as aqueous sodium hydroxide.  Composed primarily of the alkali salts of various phenolic compounds.]","H350 H340"]
[null,"90640-89-4","292-611-6","648-114-00-5","Distillates (coal tar), naphthalene oils, alk. exts.; Alkaline Extract; [The aqueous extract from naphthalene oil produced by an alkaline wash such as aqueous sodium hydroxide.  Composed primarily of the alkali salts of various phenolic compounds.]","H350 H340"]
[null,"90641-06-8","292-629-4","648-115-00-0","Extract residues (coal), tar oil alk., carbonated, limed; Crude Phenols; [The product obtained by treatment of coal tar oil alkaline extract with CO2 and CaO.  Composed primarily of CaCO3, Ca(OH)2, Na2CO3 and other organic and inorganic impurities.]","H350 H340"]
[null,"65996-85-2","266-019-3","648-116-00-6","Tar acids, coal, crude; Crude Phenols; [The reaction product obtained by neutralizing coal tar oil alkaline extract with an acidic solution, such as aqueous sulfuric acid, or gaseous carbon dioxide, to obtain the free acids.  Composed primarily of tar acids such as phenol, cresols, and xylenols.]","H350 H340"]
[null,"101316-86-3","309-888-7","648-117-00-1","Tar acids, brown-coal, crude; Crude Phenols; [An acidified alkaline extract of brown coal tar distillate.  Composed primarily of phenol and phenol homologs.]","H350 H340"]
[null,"92062-22-1","295-536-7","648-118-00-7","Tar acids, brown-coal gasification; Crude Phenols; [A complex combination of organic compounds obtained from brown coal gasification.  Composed primarily of C6-10 hydroxy aromatic phenols and their homologs.]","H350 H340"]
[null,"96690-55-0","306-251-5","648-119-00-2","Tar acids, distn. residues; Distillate Phenols; [A residue from the distillation of crude phenol from coal.  It consists predominantly of phenols having carbon numbers in the range of C8 through C10 with a softening point of 60°C to 80°C (140°F to 176°F).]","H350 H340"]
[null,"84989-04-8","284-892-9","648-120-00-8","Tar acids, methylphenol fraction; Distillate Phenols; [The fraction of tar acid rich in 3- and 4-methylphenol, recovered by distillation of low-temperature coal tar crude tar acids.]","H350 H340"]
[null,"84989-05-9","284-893-4","648-121-00-3","Tar acids, polyalkylphenol fraction; Distillate Phenols; [The fraction of tar acids, recovered by distillation of low-temperature coal tar crude tar acids, having an approximate boiling range of 225°C to 320°C (437°F to 608°F).  Composed primarily of polyalkylphenols.]","H350 H340"]
[null,"84989-06-0","284-895-5","648-122-00-9","Tar acids, xylenol fraction; Distillate Phenols; [The fraction of tar acids, rich in 2,4- and 2,5-dimethylphenol, recovered by distillation of low-temperature coal tar crude tar acids.]","H350 H340"]
[null,"84989-03-7","284-891-3","648-123-00-4","Tar acids, ethylphenol fraction; Distillate Phenols; [The fraction of tar acids, rich in 3- and 4-ethylphenol, recovered by distillation of low-temperature coal tar crude tar acids.]","H350 H340"]
[null,"84989-07-1","284-896-0","648-124-00-X","Tar acids, 3,5-xylenol fraction; Distillate Phenols; [The fraction of tar acids, rich in 3,5-dimethylphenol, recovered by distillation of low-temperature coal tar acids.]","H350 H340"]
[null,"68477-23-6","270-713-1","648-125-00-5","Tar acids, residues, distillates, first-cut; Distillate Phenols; [The residue from the distillation in the range of 235°C to 355°C (481°F to 697°F) of light carbolic oil.]","H350 H340"]
[null,"68555-24-8","271-418-0","648-126-00-0","Tar acids, cresylic, residues; Distillate Phenols; [The residue from crude coal tar acids after removal of phenol, cresols, xylenols and any higher boiling phenols.  A black solid with a melting point approximately 80°C (176°F). Composed primarily of polyalkylphenols, resin gums, and inorganic salts.]","H350 H340"]
[null,"91079-47-9","293-435-2","648-127-00-6","Phenols, C9-11; Distillate Phenols","H350 H340"]
[null,"92062-26-5","295-540-9","648-128-00-1","Tar acids, cresylic; Distillate Phenols; [A complex combination of organic compounds obtained from brown coal and boiling in the range of approximately 200°C to 230°C (392°F to 446°F).  It contains chiefly phenols and pyridine bases.]","H350 H340"]
[null,"94114-29-1","302-662-9","648-129-00-7","Tar acids, brown-coal, C2-alkylphenol fraction; Distillate Phenols; [The distillate from the acidification of alkaline washed lignite tar distillate boiling in the range of approximately 200°C to 230°C (392°F to 446°F).  Composed primarily of m- and p-ethylphenol as well as cresols and xylenols.]","H350 H340"]
[null,"90641-00-2","292-623-1","648-130-00-2","Extract oils (coal), naphthalene oils; Acid Extract; [The aqueous extract produced by an acidic wash of alkali-washed naphthalene oil.  Composed primarily of acid salts of various aromatic nitrogen bases including pyridine, quinoline and their alkyl derivatives.]","H350 H340"]
[null,"68513-87-1","271-020-7","648-131-00-8","Tar bases, quinoline derivs.; Distillate Bases","H350 H340"]
[null,"70321-67-4","274-560-1","648-132-00-3","Tar bases, coal, quinoline derivs. fraction; Distillate Bases","H350 H340"]
[null,"92062-29-8","295-544-0","648-133-00-9","Tar bases, coal, distn. residues; Distillate Bases; [The distillation residue remaining after the distillation of the neutralized, acid-extracted base-containing tar fractions obtained by the distillation of coal tars.  It contains chiefly aniline, collidines, quinoline and quinoline derivatives and toluidines.]","H350 H340"]
[null,"100801-63-6","309-745-9","648-134-00-4","Hydrocarbon oils, arom., mixed with polyethylene and polypropylene, pyrolyzed, light oil fraction; Heat Treatment Products; [The oil obtained from the heat treatment of a polyethylene/polypropylene reaction mass with coal tar pitch or aromatic oils.  It consists predominantly of benzene and its homologs boiling in a range of approximately 70°C to 120°C (158°F to 248°F).]","H350 H340"]
[null,"100801-65-8","309-748-5","648-135-00-X","Hydrocarbon oils, arom., mixed with polyethylene, pyrolyzed, light oil fraction; Heat Treatment Products; [The oil obtained from the heat treatment of polyethylene with coal tar pitch or aromatic oils.  It consists predominantly of benzene and its homologs boiling in a range of 70°C to 120°C (158°F to 248°F).]","H350 H340"]
[null,"100801-66-9","309-749-0","648-136-00-5","Hydrocarbon oils, arom., mixed with polystyrene, pyrolyzed, light oil fraction; Heat Treatment Products; [The oil obtained from the heat treatment of polystyrene with coal tar pitch or aromatic oils.  It consists predominantly of benzene and its homologs boiling in a range of approximately 70°C to 210°C (158°F to 410°F).]","H350 H340"]
[null,"73665-18-6","277-567-8","648-137-00-0","Extract residues (coal), tar oil alk., naphthalene distn. residues; Naphthalene Oil Extract Residue; [The residue obtained from chemical oil extracted after the removal of naphthalene by distillation composed primarily of two to four membered condensed ring aromatic hydrocarbons and aromatic nitrogen bases.]","H350 H340"]
[null,"70321-80-1","274-566-4","648-138-00-6","Creosote oil, low-boiling distillate; Wash Oil; [The low-boiling distillation fraction obtained from the high temperature carbonization of bituminous coal, which is further refined to remove excess crystalline salts. It consists primarily of creosote oil with some of the normal polynuclear aromatic salts, which are components of coal tar distillate, removed. It is crystal free at approximately 38°C (100°F).]","H350"]
[null,"68815-21-4","272-361-4","648-139-00-1","Tar acids, cresylic, sodium salts, caustic solns.; Alkaline Extract","H350 H340"]
[null,"65996-86-3","266-020-9","648-140-00-7","Extract oils (coal), tar base; Acid Extract; [The extract from coal tar oil alkaline extract residue produced by an acidic wash such as aqueous sulfuric acid after distillation to remove naphthalene.  Composed primarily of the acid salts of various aromatic nitrogen bases including pyridine, quinoline, and their alkyl derivatives.]","H350 H340"]
[null,"65996-84-1","266-018-8","648-141-00-2","Tar bases, coal, crude; Crude Tar Bases; [The reaction product obtained by neutralizing coal tar base extract oil with an alkaline solution, such as aqueous sodium hydroxide, to obtain the free bases. Composed primarily of such organic bases as acridine, phenanthridine, pyridine, quinoline and their alkyl derivatives.]","H350 H340"]
[null,"94114-46-2","302-681-2","648-142-00-8","Residues (coal), liq. solvent extn.; [A cohesive powder composed of coal mineral matter and undissolved coal remaining after extraction of coal by a liquid solvent.]","H350"]
[null,"94114-47-3","302-682-8","648-143-00-3","Coal liquids, liq. solvent extn. soln.; [The product obtained by filtration of coal mineral matter and undissolved coal from coal extract solution produced by digesting coal in a liquid solvent. A black, viscous, highly complex liquid combination composed primarily of aromatic and partly hydro-genated aromatic hydrocarbons, aromatic nitrogen compounds, aromatic sulfur compounds, phenolic and other aromatic oxygen compounds and their alkyl derivatives.]","H350"]
[null,"94114-48-4","302-683-3","648-144-00-9","Coal liquids, liq. solvent extn.; [The substantially solvent-free product obtained by the distillation of the solvent from filtered coal extract solution produced by digesting coal in a liquid solvent. A black semi-solid, composed primarily of a complex combination of condensed-ring aromatic hydrocarbons, aromatic nitrogen compounds, aromatic sulfur compounds, phenolic compounds and other aromatic oxygen compounds, and their alkyl derivatives.]","H350"]
[null,"101316-83-0","309-885-0","648-145-00-4","Tar brown-coal; [An oil distilled from brown-coal tar. Composed primarily of aliphatic, naphthenic and one- to three-ring aromatic hydrocarbons, their alkyl derivates, heteroaromatics and one- and two-ring phenols boiling in the range of approximately 150 °C to 360 °C (302 °F to 680 °F).]","H350"]
[null,"101316-84-1","309-886-6","648-146-00-X","Tar, brown-coal, low-temp.; [A tar obtained from low temperature carbonization and low temperature gasification of brown coal. Composed primarily of aliphatic, naphthenic and cyclic aromatic hydrocarbons, heteroaromatic hydrocarbons and cyclic phenols.]","H350"]
[null,"65996-78-3","266-012-5","648-147-00-5","Light oil (coal), coke-oven; Crude benzole; [The volatile organic liquid extracted from the gas evolved in the high temperature (greater than 700°C (1292°F)) destructive distillation of coal.  Composed primarily of benzene, toluene, and xylenes.  May contain other minor hydrocarbon constituents.]","H350 H340"]
[null,"94114-52-0","302-688-0","648-148-00-0","Distillates (coal), liq. solvent extn., primary; [The liquid product of condensation of vapors emitted during the digestion of coal in a liquid solvent and boiling in the range of approximately 30°C to 300°C (86°F to 572°F).  Composed primarily of partly hydrogenated condensed-ring aromatic hydrocarbons, aromatic compounds containing nitrogen, oxygen and sulfur, and their alkyl derivatives having carbon numbers predominantly in the range of C4 through C14.]","H350 H340"]
[null,"94114-53-1","302-689-6","648-149-00-6","Distillates (coal), solvent extn., hydrocracked; [Distillate obtained by hydrocracking of coal extract or solution produced by the liquid solvent extraction or supercritical gas extraction processes and boiling in the range of approximately 30°C to 300°C (86°F to 572°F).  Composed primarily of aromatic, hydrogenated aromatic and naphthenic compounds, their alkyl derivatives and alkanes with carbon numbers predominantly in the range of C4 through C14.  Nitrogen, sulfur and oxygen-containing aromatic and hydrogenated aromatic compounds are also present.]","H350 H340"]
[null,"94114-54-2","302-690-1","648-150-00-1","Naphtha (coal), solvent extn., hydrocracked; [Fraction of the distillate obtained by hydrocracking of coal extract or solution produced by the liquid solvent extraction or supercritical gas extraction processes and boiling in the range of approximately 30°C to 180°C (86°F to 356°F).  Composed primarily of aromatic, hydrogenated aromatic and naphthenic compounds, their alkyl derivatives and alkanes with carbon numbers predominantly in the range of C4 to C9.  Nitrogen, sulfur and oxygen-containing aromatic and hydrogenated aromatic compounds are also present.]","H350 H340"]
[null,"94114-55-3","302-691-7","648-151-00-7","Gasoline, coal solvent extn., hydrocracked naphtha; [Motor fuel produced by the reforming of the refined naphtha fraction of the products of hydrocracking of coal extract or solution produced by the liquid solvent extraction or supercritical gas extraction processes and boiling in the range of approximately 30 °C to 180 °C (86 °F to 356 °F). Composed primarily of aromatic and naphthenic hydrocarbons, their alkyl derivatives and alkyl hydrocarbons having carbon numbers in the range of C4 through C9.]","H350"]
[null,"94114-56-4","302-692-2","648-152-00-2","Distillates (coal), solvent extn., hydrocracked middle; [Distillate obtained from the hydrocracking of coal extract or solution produced by the liquid solvent extraction or supercritical gas extraction processes and boiling in the range of approximately 180°C to 300°C (356°F to 572°F.  Composed primarily of two-ring aromatic, hydrogenated aromatic and naphthenic compounds, their alkyl derivatives and alkanes having carbon numbers predominantly in the range of C9 through C14.  Nitrogen, sulfur and oxygen-containing compounds are also present.]","H350 H340"]
[null,"94114-57-5","302-693-8","648-153-00-8","Distillates (coal), solvent extn., hydrocracked hydrogenated middle; [Distillate from the hydrogenation of hydrocracked middle distillate from coal extract or solution produced by the liquid solvent extraction or supercritical gas extraction processes and boiling in the range of approximately 180°C to 280°C (356°F to 536°F).  Composed primarily of hydrogenated two- ring carbon compounds and their alkyl derivatives having carbon numbers predominantly in the range of C9 through C14.]","H350 H340"]
[null,"90641-11-5","292-635-7","648-156-00-4","Light oil (coal), semi-coking process; Fresh oil; [The volatile organic liquid condensed from the gas evolved in the low-temperature (less than 700°C (1292°F)) destructive distillation of coal.  Composed primarily of C6-10 hydrocarbons.]","H350 H340"]
[null,"64742-03-6","265-102-1","649-001-00-3","Extracts (petroleum), light naphthenic distillate solvent","H350"]
[null,"64742-04-7","265-103-7","649-002-00-9","Extracts (petroleum), heavy paraffinic distillate solvent","H350"]
[null,"64742-05-8","265-104-2","649-003-00-4","Extracts (petroleum), light paraffinic distillate solvent","H350"]
[null,"64742-11-6","265-111-0","649-004-00-X","Extracts (petroleum), heavy naphthenic distillate solvent","H350"]
[null,"91995-78-7","295-341-7","649-005-00-5","Extracts (petroleum), light vacuum gas oil solvent","H350"]
[null,"97722-04-8","307-753-7","649-006-00-0","hydrocarbons C26-55, arom-rich","H350"]
[null,"64741-45-3","265-045-2","649-008-00-1","Residues (petroleum), atm. tower; Heavy Fuel oil; [A complex residuum from the atmospheric distillation of crude oil. It consists of hydrocarbons having carbon numbers predominantly greater than C20 and boiling above approximately 350 °C (662 °F). This stream is likely to contain 5 wt. % or more of 4- to 6-membered condensed ring aromatic hydrocarbons.]","H350"]
[null,"64741-57-7","265-058-3","649-009-00-7","Gas oils (petroleum), heavy vacuum; Heavy Fuel oil; [A complex combination of hydrocarbons produced by the vacuum distillation of the residuum from atmospheric distillation of crude oil. It consists of hydrocarbons having carbon numbers predominantly in the range of C20 through C50 and boiling in the range of approximately 350 °C to 600 °C (662 °F to 1112 °F). This stream is likely to contain 5 wt. % or more of 4-to 6-membered condensed ring aromatic hydrocarbons.]","H350"]
[null,"64741-61-3","265-063-0","649-010-00-2","Distillates (petroleum), heavy catalytic cracked; Heavy Fuel oil; [A complex combination of hydrocarbons produced by the distillation of products from a catalytic cracking process. It consists of hydrocarbons having carbon numbers predominantly in the range of C15 through C35 and boiling in the range of approximately 260 °C to 500 °C (500 °F to 932 °F). This stream is likely to contain 5 wt. % or more of 4- to 6-membered condensed ring aromatic hydrocarbons.]","H350"]
[null,"64741-62-4","265-064-6","649-011-00-8","Clarified oils (petroleum), catalytic cracked; Heavy Fuel oil; [A complex combination of hydrocarbons produced as the residual fraction from distillation of the products from a catalytic cracking process. It consists of hydrocarbons having carbon numbers predominantly greater than C20 and boiling above approximately 350 °C (662 °F). This stream is likely to contain 5 wt. % or more of 4- to 6-membered condensed ring aromatic hydrocarbons.]","H350"]
[null,"64741-75-9","265-076-1","649-012-00-3","Residues (petroleum), hydrocracked; Heavy Fuel oil; [A complex combination of hydrocarbons produced as the residual fraction from distillation of the products of a hydrocracking process. It consists of hydrocarbons having carbon numbers predominantly greater than C20 and boiling above approximately 350 °C (662 °F).]","H350"]
[null,"64741-80-6","265-081-9","649-013-00-9","Residues (petroleum), thermal cracked; Heavy Fuel oil; [A complex combination of hydrocarbons produced as the residual fraction from distillation of the product from a thermal cracking process. It consists predominantly of unsaturated hydrocarbons having carbon numbers predominantly greater than C20 and boiling above approximately 350 °C (662 °F). This stream is likely to contain 5 wt. % or more of 4- to 6-membered condensed ring aromatic hydrocarbons.]","H350"]
[null,"64741-81-7","265-082-4","649-014-00-4","Distillates (petroleum), heavy thermal cracked; Heavy Fuel oil; [A complex combination of hydrocarbons from the distillation of the products from a thermal cracking process. It consists predominantly of unsaturated hydrocarbons having carbon numbers predominantly in the range of C15 through C36 and boiling in the range of approximately 260 °C to 480 °C (500 °F to 896 °F). This stream is likely to contain 5 wt. % or more of 4- to 6-membered condensed ring aromatic hydrocarbons.]","H350"]
[null,"64742-59-2","265-162-9","649-015-00-X","Gas oils (petroleum), hydrotreated vacuum; Heavy Fuel oil; [A complex combination of hydrocarbons obtained by treating a petroleum fraction with hydrogen in the presence of a catalyst. It consists of hydrocarbons having carbon numbers predominantly in the range of C13 through C50 and boiling in the range of approximately 230 °C to 600 °C (446 °F to 1112 °F). This stream is likely to contain 5 wt.% or more of 4- to 6-membered condensed ring aromatic hydrocarbons.]","H350"]
[null,"64742-78-5","265-181-2","649-016-00-5","Residues (petroleum), hydrodesulfurized atmospheric tower; Heavy Fuel oil; [A complex combination of hydrocarbons obtained by treating an atmospheric tower residuum with hydrogen in the presence of a catalyst under conditions primarily to remove organic sulfur compounds. It consists of hydrocarbons having carbon numbers predominantly greater than C20 and boiling above approximately 350 °C (662 °F). This stream is likely to contain 5 wt. % or more of 4- to 6-membered condensed ring aromatic hydrocarbons.]","H350"]
[null,"64742-86-5","265-189-6","649-017-00-0","Gas oils (petroleum), hydrodesulfurized heavy vacuum; Heavy Fuel oil; [A complex combination of hydrocarbons obtained from a catalytic hydrodesulfurization process. It consists of hydrocarbons having carbon numbers predominantly in the range of C20 through C50 and boiling in the range of approximately 350 °C to 600 °C (662 °F to 1112 °C). This stream is likely to contain 5 wt. % or more of 4- to 6-membered condensed ring aromatic hydrocarbons.]","H350"]
[null,"64742-90-1","265-193-8","649-018-00-6","Residues (petroleum), steam-cracked; Heavy Fuel oil; [A complex combination of hydrocarbons obtained as the residual fraction from the distillation of the products of a steam cracking process (including steam cracking to produce ethylene). It consists predominantly of unsaturated hydrocarbons having carbon numbers predominantly greater than C14 and boiling above approximately 260 °C (500 °F). This stream is likely to contain 5 wt. % or more of 4- to 6-membered condensed ring aromatic hydrocarbons.]","H350"]
[null,"68333-22-2","269-777-3","649-019-00-1","Residues (petroleum), atmospheric; Heavy Fuel oil; [A complex residuum from atmospheric distillation of crude oil. It consists of hydrocarbons having carbon numbers predominantly greater than C11 and boiling above approximately 200 °C (392 °F). This stream is likely to contain 5 wt. % or more of 4-to 6-membered condensed ring aromatic hydrocarbons.]","H350"]
[null,"68333-26-6","269-782-0","649-020-00-7","Clarified oils (petroleum), hydrodesulfurized catalytic cracked; Heavy Fuel oil; [A complex combination of hydrocarbons obtained by treating catalytic cracked clarified oil with hydrogen to convert organic sulfur to hydrogen sulfide which is removed. It consists of hydrocarbons having carbon numbers predominantly greater than C20 and boiling above approximately 350 °C (662 °F). This stream is likely to contain 5 wt. % or more of 4-to 6-membered condensed ring aromatic hydrocarbons.]","H350"]
[null,"68333-27-7","269-783-6","649-021-00-2","Distillates (petroleum), hydrodesulfurized intermediate catalytic cracked; Heavy Fuel oil; [A complex combination of hydrocarbons obtained by treating intermediate catalytic cracked distillates with hydrogen to convert organic sulfur to hydrogen sulfide which is removed. It consists of hydrocarbons having carbon numbers predominantly in the range of C11 through C30 and boiling in the range of approximately 205 °C to 450 °C (401 °F to 842 °F). It contains a relatively large proportion of tricyclic aromatic hydrocarbons.]","H350"]
[null,"68333-28-8","269-784-1","649-022-00-8","Distillates (petroleum), hydrodesulfurized heavy catalytic cracked; Heavy Fuel oil; [A complex combination of hydrocarbons obtained by treatment of heavy catalytic cracked distillates with hydrogen to convert organic sulfur to hydrogen sulfide which is removed. It consists of hydrocarbons having carbon numbers predominantly in the range of C15 through C35 and boiling in the range of approximately 260 °C to 500 °C (500 °F to 932 °F). This stream is likely to contain 5 wt. % or more of 4- to 6-membered condensed ring aromatic hydrocarbons.]","H350"]
[null,"68476-32-4","270-674-0","649-023-00-3","Fuel oil, residues-straight-run gas oils, high-sulfur; Heavy Fuel oil","H350"]
[null,"68476-33-5","270-675-6","649-024-00-9","Fuel oil, residual; Heavy Fuel oil; [The liquid product from various refinery streams, usually residues. The composition is complex and varies with the source of the crude oil.]","H350"]
[null,"68478-13-7","270-792-2","649-025-00-4","Residues (petroleum), catalytic reformer fractionator residue distn.; Heavy Fuel oil; [A complex residuum from the distillation of catalytic reformer fractionator residue. It boils approximately above 399 °C (750 °F).]","H350"]
[null,"68478-17-1","270-796-4","649-026-00-X","Residues (petroleum), heavy coker gas oil and vacuum gas oil; Heavy Fuel oil; [A complex combination of hydrocarbons produced as the residual fraction from the distillation of heavy coker gas oil and vacuum gas oil. It predominantly consists of hydrocarbons having carbon numbers predominantly greater than C13 and boiling above approximately 230 °C (446 °F).]","H350"]
[null,"68512-61-8","270-983-0","649-027-00-5","Residues (petroleum), heavy coker and light vacuum; Heavy Fuel oil; [A complex combination of hydrocarbons produced as the residual fraction from the distillation of heavy coker gas oil and light vacuum gas oil. It consists predominantly of hydrocarbons having carbon numbers predominantly greater than C13 and boiling above approximately 230 °C (446 °F).]","H350"]
[null,"68512-62-9","270-984-6","649-028-00-0","Residues (petroleum), light vacuum; Heavy Fuel oil; [A complex residuum from the vacuum distillation of the residuum from the atmospheric distillation of crude oil. It consists of hydrocarbons having carbon numbers predominantly greater than C13 and boiling above approximately 230 °C (446 °F).]","H350"]
[null,"68513-69-9","271-013-9","649-029-00-6","Residues (petroleum), steam-cracked light; Heavy Fuel oil; [A complex residuum from the distillation of the products from a steam-cracking process. It consists predominantly of aromatic and unsaturated hydrocarbons having carbon numbers greater than C7 and boiling in the range of approximately 101 °C to 555 °C (214 °F to 1030 °F).]","H350"]
[null,"68553-00-4","271-384-7","649-030-00-1","Fuel oil, No 6; Heavy Fuel oil; [A distillate oil having a minimum viscosity of 900 SUS at 37.7 °C (100 °F) to a maximum of 9000 SUS at 37.7 °C (100 °F).]","H350"]
[null,"68607-30-7","271-763-7","649-031-00-7","Residues (petroleum), topping plant, low-sulfur; Heavy Fuel oil; [A low-sulfur complex combination of hydrocarbons produced as the residual fraction from the topping plant distillation of crude oil. It is the residuum after the straight-run gasoline cut, kerosene cut and gas oil cut have been removed.]","H350"]
[null,"68783-08-4","272-184-2","649-032-00-2","Gas oils (petroleum), heavy atmospheric; Heavy Fuel oil; [A complex combination of hydrocarbons obtained by the distillation of crude oil. It consists of hydrocarbons having carbon numbers predominantly in the range of C7 through C35 and boiling in the range of approximately 121 °C to 510 °C (250 °F to 950 °F).]","H350"]
[null,"68783-13-1","272-187-9","649-033-00-8","Residues (petroleum), coker scrubber, Condensed-ring-arom.-contg.; Heavy Fuel oil; [A very complex combination of hydrocarbons produced as the residual fraction from the distillation of vaccum residuum and the products from a thermal cracking process. It consists predominantly of hydrocarbons having carbon numbers predominantly greater than C20 and boiling above approximately 350 °C (662 °F). This stream is likely to contain 5 wt.% or more of 4- to 6-membered condensed rind aromatic hydrocarbons.]","H350"]
[null,"68955-27-1","273-263-4","649-034-00-3","Distillates (petroleum), petroleum residues vacuum; Heavy Fuel oil; [A complex combination of hydrocarbons produced by the vacuum distillation of the residuum from the atmospheric distillation of crude oil.]","H350"]
[null,"68955-36-2","273-272-3","649-035-00-9","Residues (petroleum), steam-cracked, resinous; Heavy Fuel oil; [A complex residuum from the distillation of steam-cracked petroleum residues.]","H350"]
[null,"70592-76-6","274-683-0","649-036-00-4","Distillates (petroleum), intermediate vacuum; Heavy Fuel oil; [A complex combination of hydrocarbons produced by the vacuum, distillation of the residuum from atmospheric distillation of crude oil. It consists of hydrocarbons having carbon numbers predominantly in the range of C14 through C42 and boiling in the range of approximately 250 °C to 545 °C (482 °F to 1013 °F). This stream is likely to contain 5 wt. % or more of 4- to 6-membered condensed ring aromatic hydrocarbons.]","H350"]
[null,"70592-77-7","274-684-6","649-037-00-X","Distillates (petroleum), light vacuum; Heavy Fuel oil; [A complex combination of hydrocarbons produced by the vacuum distillation of the residuum from atmospheric distillation of crude oil. It consists of hydrocarbons having carbon numbers predominantly in the range of C11 through C35 and boiling in the range of approximately 250 °C to 545 °C (482 °F to 1013 °F).]","H350"]
[null,"70592-78-8","274-685-1","649-038-00-5","Distillates (petroleum), vacuum; Heavy Fuel oil; [A complex combination of hydrocarbons produced by the vacuum distillation of the residuum from atmospheric distillation of crude oil. It consists of hydrocarbons having numbers predominantly in the range of C15 through C50 and boiling in the range of approximately 270 °C to 600 °C (518 °F to 1112 °F). This stream is likely to contain 5 wt.% or more of 4- to 6-membered condensed ring aromatic hydrocarbons.]","H350"]
[null,"85117-03-9","285-555-9","649-039-00-0","Gas oils (petroleum), hydrodesulfurized coker heavy vacuum; Heavy Fuel oil; [A complex combination of hydrocarbons obtained by hydrodesulfurization of heavy coker distillate stocks, It consists predominantly of hydrocarbons having carbon numbers predominantly in the range C18 to C44 and boiling in the range of approximately 304 °C to 548 °C (579 °F to 1018 °F). Likely to contain 5 % or more of 4- to 6-membered condensed ring aromatic hydrocarbons.]","H350"]
[null,"90669-75-3","292-657-7","649-040-00-6","Residues (petroleum), steam-cracked, distillates; Heavy Fuel oil; [A complex combination of hydrocarbons obtained during the production of refined petroleum tar by the distillation of steam cracked tar. It consists predominantly of aromatic and other hydrocarbons and organic sulfur compounds.]","H350"]
[null,"90669-76-4","292-658-2","649-041-00-1","Residues (petroleum), vacuum, light; Heavy Fuel oil; [A complex residuum from the vacuum distillation of the residuum from atmospheric distillation of crude oil. It consists predominantly of hydrocarbons having carbon numbers predominantly greater than C24 and boiling above approximately 390 °C (734 °F).]","H350"]
[null,"92045-14-2","295-396-7","649-042-00-7","Fuel oil, heavy, high-sulfur; Heavy Fuel oil; [A complex combination of hydrocarbons obtained by the distillation of crude petroleum. It consists predominantly of aliphatic, aromatic and cycloaliphatic hydrocarbons having carbon numbers predominantly higher than C25 and boiling above approximately 400 °C (752 °F).]","H350"]
[null,"92061-97-7","295-511-0","649-043-00-2","Residues (petroleum), catalytic cracking; Heavy Fuel oil; [A complex combination of hydrocarbons produced as the residual fraction from the distillation of the products from a catalytic cracking process. It consists predominantly of hydrocarbons having carbon numbers predominantly greater than C11 and boiling above approximately 200 °C (392 °F).]","H350"]
[null,"92201-59-7","295-990-6","649-044-00-8","Distillates (petroleum), intermediate catalytic cracked, thermally degraded; Heavy Fuel oil; [A complex combination of hydrocarbons produced by the distillation of products from a catalytic cracking process which has been used as a heat transfer fluid. It consists predominantly of hydrocarbons boiling in the range of approximately 220 °C to 450 °C (428 °F to 842 °F). This stream is likely to contain organic sulfur compounds.]","H350"]
[null,"93821-66-0","298-754-0","649-045-00-3","Residual oils (petroleum); Heavy Fuel oil; [A complex combination of hydrocarbons, sulfur compounds and metal-containing organic compounds obtained as the residue from refinery fractionation cracking processes. It produces a finished oil with a viscosity above 2cSt. at 100 °C.]","H350"]
[null,"98219-64-8","308-733-0","649-046-00-9","Residues, steam cracked, thermally treated; Heavy Fuel oil; [A complex combination of hydrocarbons obtained by the treatment and distillation of raw steam-cracked naphtha. It consists predominantly of unsaturated hydrocarbons boiling in the range above approximately 180 °C (356 °F).]","H350"]
[null,"101316-57-8","309-863-0","649-047-00-4","Distillates (petroleum), hydrodesulfurized full-range middle; Heavy Fuel oil; [A complex combination of hydrocarbons obtained by treating a petroleum stock with hydrogen. It consists predominantly of hydrocarbons having carbon numbers predominantly in the range of C9 through C25 and boiling in the range of approximately 150 °C to 400 °C (302 °F to 752 °F).]","H350"]
[null,"64741-67-9","265-069-3","649-048-00-X","Residues (petroleum), catalytic reformer fractionator; Heavy Fuel oil; [A complex combination of hydrocarbons produced as the residual fraction from distillation of the product from a catalytic reforming process. It consists of predominantly aromatic hydrocarbons having carbon numbers predominantly in the range of C10 through C25 and boiling in the range of approximately 160 °C to 400 °C (320 °F to 725 °F). This stream is likely to contain 5 wt. % or more of 4- or 6-membered condensed ring aromatic hydrocarbons.]","H350"]
[null,"8002-05-9","232-298-5","649-049-00-5","Petroleum; Crude oil; [A complex combination of hydrocarbons, It consists predominantly of aliphatic, alicyclic and aromatic hydrocarbons. It may also contain small amounts of nitrogen, oxygen and sulfur compounds. This category encompasses light, medium, and heavy petroleums, as well as the oils extended from tar sands. Hydrocarbonaceous materials requiring major chemical changes for their recovery or conversion to petroleum refinery feedstocks such as crude shale oils; upgraded shale oils and liquid coal fuels are not included in this definition.]","H350"]
[null,"64741-50-0","265-051-5","649-050-00-0","Distillates (petroleum), light paraffinic; Unrefined or mildly refined baseoil; [A complex combination of hydrocarbons produced by vacuum distillation of the residuum from atmospheric distillation of crude oil. It consists of hydrocarbons having carbon numbers predominantly in the range of C15 through C30 and produces a finished oil with a viscosity of less than 100 SUS at 100 °F (19cSt at 40 °C). It contains a relatively large proportion of saturated aliphatic hydrocarbons normally present in this distillation range of crude oil.]","H350"]
[null,"64741-51-1","265-052-0","649-051-00-6","Distillates (petroleum), heavy paraffinic; Unrefined or mildly refined baseoil; [A complex combination of hydrocarbons produced by vacuum distillation of the residuum from atmospheric distillation of crude oil. It consists of hydrocarbons having carbon numbers predominantly in the range of C20 through C50 and produces a finished oil with a viscosity of at least 100 SUS at 100 °F (19cSt at 40 °C). It contains a relatively large proportion of saturated aliphatic hydrocarbons.]","H350"]
[null,"64741-52-2","265-053-6","649-052-00-1","Distillates (petroleum), light naphthenic; Unrefined or mildly refined baseoil; [A complex combination of hydrocarbons produced by vacuum distillation of the residuum from atmospheric distillation of crude oil. It consists of hydrocarbons having carbon numbers predominantly in the range of C15 through C30 and produces a finished oil with a viscosity of less than 100 SUS at 100 °F (19cSt at 40 °C). It contains relatively few normal paraffins.]","H350"]
[null,"64741-53-3","265-054-1","649-053-00-7","Distillates (petroleum), heavy naphthenic; Unrefined or mildly refined baseoil; [A complex combination of hydrocarbons produced by vacuum distillation of the residuum from atmospheric distillation of crude oil. It consists of hydrocarbons having carbon numbers predominantly in the range of C20 through C50 and produces a finished oil with a viscosity of at least 100 SUS at 100 °F (19cSt at 40 °C). It contains relatively few normal paraffins.]","H350"]
[null,"64742-18-3","265-117-3","649-054-00-2","Distillates (petroleum), acid-treated heavy naphthenic; Unrefined or mildly refined baseoil; [A complex combination of hydrocarbons obtained as a raffinate from a sulfuric acid treating process. It consists of hydrocarbons having carbon numbers predominantly in the range of C20 through C50 and produces a finished oil with a viscosity of at least 100 SUS at 100 °F (19cSt at 40 °C). It contains relatively few normal paraffins.]","H350"]
[null,"64742-19-4","265-118-9","649-055-00-8","Distillates (petroleum), acid-treated light naphthenic; Unrefined or mildly refined baseoil; [A complex combination of hydrocarbons obtained as a raffinate from a sulfuric acid treating process. It consists of hydrocarbons having carbon numbers predominantly in the range of C15 through C30 and produces a finished oil with a viscosity of less than 100 SUS at 100 °F (19cSt at 40 °C). It contains relatively few normal paraffins.]","H350"]
[null,"64742-20-7","265-119-4","649-056-00-3","Distillates (petroleum), acid-treated heavy paraffinic; Unrefined or mildly refined baseoil; [A complex combination of hydrocarbons obtained as a raffinate from a sulfuric acid process. It consists predominantly of saturated hydrocarbons having carbon numbers predominantly in the range of C20 through C50 and produces a finished oil having a viscosity of a least 100 SUS at 100 °F (19cSt at 40 °C).]","H350"]
[null,"64742-21-8","265-121-5","649-057-00-9","Distillates (petroleum), acid-treated light paraffinic; Unrefined or mildly refined baseoil; [A complex combination of hydrocarbons obtained as a raffinate from a sulfuric acid treating process. It consists predominantly of saturated hydrocarbons having carbon numbers predominantly in the range of C15 through C30 and produces a finished oil having a viscosity of less than 100 SUS at 100 °F (19cSt at 40 °C).]","H350"]
[null,"64742-27-4","265-127-8","649-058-00-4","Distillates (petroleum), chemically neutralized heavy paraffinic; Unrefined or mildly refined baseoil; [A complex combination of hydrocarbons obtained from a treating process to remove acidic materials. It consists predominantly of hydrocarbons having carbon numbers predominantly in the range of C20 through C50 and produces a finished oil with a viscosity of at least 100 SUS at 100 °F (19cSt at 40 °C). It contains a relatively large proportion of aliphatic hydrocarbons.]","H350"]
[null,"64742-28-5","265-128-3","649-059-00-X","Distillates (petroleum), chemically neutralized light paraffinic; Unrefined or mildly refined baseoil; [A complex combination of hydrocarbons produced by a treating process to remove acidic materials. It consists of hydrocarbons having carbon numbers predominantly in the range of C15 through C30 and produces a finished oil with a viscosity less than 100 SUS at 100 °F (19cSt at 40 °C).]","H350"]
[null,"64742-34-3","265-135-1","649-060-00-5","Distillates (petroleum), chemically neutralized heavy naphthenic; Unrefined or mildly refined baseoil; [A complex combination of hydrocarbons produced by a treating process to remove acidic materials. It consists of hydrocarbons having carbon numbers predominantly in the range of C20 through C50 and produces a finished oil with a viscosity of at least 100 SUS at 100 °F (19cSt at 40 °C). It contains relatively few normal paraffins.]","H350"]
[null,"64742-35-4","265-136-7","649-061-00-0","Distillates (petroleum), chemically neutralized light naphthenic; Unrefined or mildly refined baseoil; [A complex combination of hydrocarbons produced by a treating process to remove acidic materials. It consists of hydrocarbons having carbon numbers predominantly in the range of C15 through C30 and produces a finished oil with a viscosity of less than 100 SUS a 100 °F (19cSt at 40 °C). It contains relatively few normal paraffins.]","H350"]
[null,"68477-73-6","270-755-0","649-062-00-6","Gases (petroleum), catalytic cracked naphtha depropanizer overhead, C3-rich acid-free; Petroleum gas; [A complex combination of hydrocarbons obtained from fractionation of catalytic cracked hydrocarbons and treated to remove acidic impurities. It consists of hydrocarbons having carbon numbers in the range of C2 through C4, predominantly C3.]","H350 H340"]
[null,"68477-74-7","270-756-6","649-063-00-1","Gases (petroleum), catalytic cracker; Petroleum gas; [A complex combination of hydrocarbons produced by the distillation of the products from a catalytic cracking process. It consists predominantly of aliphatic hydrocarbons having carbon numbers predominantly in the range of C1 through C6.]","H350 H340"]
[null,"68477-75-8","270-757-1","649-064-00-7","Gases (petroleum), catalytic cracker, C1-5-rich; Petroleum gas; [A complex combination of hydrocarbons produced by the distillation of products from a catalytic cracking process. It consists of aliphatic hydrocarbons having carbon numbers in the range of C1 through C6, predominantly C1 through C5.]","H350 H340"]
[null,"68477-76-9","270-758-7","649-065-00-2","Gases (petroleum), catalytic polymd. naphtha stabilizer overhead, C2-4-rich; Petroleum gas; [A complex combination of hydrocarbons obtained from the fractionation stabilization of catalytic polymerized naphtha. It consists of aliphatic hydrocarbons having carbon numbers in the range of C2 through C6, predominantly C2 through C4.]","H350 H340"]
[null,"68477-79-2","270-760-8","649-066-00-8","Gases (petroleum), catalytic reformer, C1-4-rich; Petroleum gas; [A complex combination of hydrocarbons produced by distillation of products from a catalytic reforming process. It consists of hydrocarbons having carbon numbers in the range of C1 through C6, predominantly C1 through C4.]","H350 H340"]
[null,"68477-83-8","270-765-5","649-067-00-3","Gases (petroleum), C3-5 olefinic-paraffinic alkylation feed; Petroleum gas; [A complex combination of olefinic and paraffinic hydrocarbons having carbon numbers in the range of C3 through C5 which are used as alkylation feed. Ambient temperatures normally exceed the critical temperature of these combinations.]","H350 H340"]
[null,"68477-85-0","270-767-6","649-068-00-9","Gases (petroleum), C4-rich; Petroleum gas; [A complex combination of hydrocarbons produced by distillation of products from a catalytic fractionation process. It consists of aliphatic hydrocarbons having carbon numbers in the range of C3 through C5, predominantly C4.]","H350 H340"]
[null,"68477-86-1","270-768-1","649-069-00-4","Gases (petroleum), deethanizer overheads; Petroleum gas; [A complex combination of hydrocarbons produced from distillation of the gas and gasoline fractions from the catalytic cracking process. It contains predominantly ethane and ethylene.]","H350 H340"]
[null,"68477-87-2","270-769-7","649-070-00-X","Gases (petroleum), deisobutanizer tower overheads; Petroleum gas; [A complex combination of hydrocarbons produced by the atmospheric distillation of a butane-butylene stream. It consists of aliphatic hydrocarbons having carbon numbers predominantly in the range of C3 through C4.]","H350 H340"]
[null,"68477-90-7","270-772-3","649-071-00-5","Gases (petroleum), depropanizer dry, propene-rich; Petroleum gas; [A complex combination of hydrocarbons produced by the distillation of products from the gas and gasoline fractions of a catalytic cracking process. It consists predominantly of propylene with some ethane and propane.]","H350 H340"]
[null,"68477-91-8","270-773-9","649-072-00-0","Gases (petroleum), depropanizer overheads; Petroleum gas; [A complex combination of hydrocarbons produced by distillation of products from the gas and gasoline fractions of a catalytic cracking process. It consists of aliphatic hydrocarbons having carbon numbers predominantly in the range of C2 through C4.]","H350 H340"]
[null,"68477-94-1","270-777-0","649-073-00-6","Gases (petroleum), gas recovery plant depropanizer overheads; Petroleum gas; [A complex combination of hydrocarbons obtained by fractionation of miscellaneous hydrocarbon streams. It consists predominantly of hydrocarbons having carbon numbers in the range of C1 through C4, predominantly propane.]","H350 H340"]
[null,"68477-95-2","270-778-6","649-074-00-1","Gases (petroleum), Girbotol unit feed; Petroleum gas; [A complex combination of hydrocarbons that is used as the feed into the Girbatol unit to remove hydrogen sulfide. It consists of aliphatic hydrocarbons having carbon numbers predominantly in the range of C2 through C4.]","H350 H340"]
[null,"68477-99-6","270-782-8","649-075-00-7","Gases (petroleum), isomerized naphtha fractionator, C4-rich, hydrogen sulfide-free; Petroleum gas","H350 H340"]
[null,"68478-21-7","270-802-5","649-076-00-2","Tail gas (petroleum), catalytic cracked clarified oil and thermal cracked vacuum residue fractionation reflux drum; Petroleum gas; [A complex combination of hydrocarbons obtained from fractionation of catalytic cracked clarified oil and thermal cracked vacuum residue. It consists predominantly of hydrocarbons having carbon numbers predominantly in the range of C1 through C6.]","H350 H340"]
[null,"68478-22-8","270-803-0","649-077-00-8","Tail gas (petroleum), catalytic cracked naphtha stabilization absorber; Petroleum gas; [A complex combination of hydrocarbons obtained from the stabilization of catalytic cracked naphtha. It consists predominantly of hydrocarbons having carbon numbers predominantly in the range of C1 through C6.]","H350 H340"]
[null,"68478-24-0","270-804-6","649-078-00-3","Tail gas (petroleum), catalytic cracker, catalytic reformer and hydrodesulfurizer combined fractionater; Petroleum gas; [A complex combination of hydrocarbons obtained from the fractionation of products from catalytic cracking, catalytic reforming and hydrodesulfurizing processes treated to remove acidic impurities. It consists predominantly of hydrocarbons having cabon numbers predominantly in the range of C1 through C5.]","H350 H340"]
[null,"68478-26-2","270-806-7","649-079-00-9","Tail gas (petroleum), catalytic reformed naphtha fractionation stabilizer; Petroleum gas; [A complex combination of hydrocarbons obtained from the fractionation stabilization of catalytic reformed naphtha. It consists predominantly of hydrocarbons having carbon numbers predominantly in the range of C1 through C4.]","H350 H340"]
[null,"68478-32-0","270-813-5","649-080-00-4","Tail gas (petroleum), saturate gas plant mixed stream, C4-rich; Petroleum gas; [A complex combination of hydrocarbons obtained from the fractionation stabilization of straight-run naphtha, distillation tail gas and catalytic reformed naphtha stabilizer tail gas. It consists of hydrocarbons having carbon numbers in the range of C3 through C6, predominantly butane and isobutane.]","H350 H340"]
[null,"68478-33-1","270-814-0","649-081-00-X","Tail gas (petroleum), saturate gas recovery plant, C1-2-rich; Petroleum gas; [A complex combination of hydrocarbons obtained from fractionation of distillate tail gas, straight-run naphtha, catalytic reformed naphtha stabilizer tail gas. It consists predominantly of hydrocarbons having carbon numbers in the range of C1through C5, predominantly methane and ethane.]","H350 H340"]
[null,"68478-34-2","270-815-6","649-082-00-5","Tail gas (petroleum), vacuum residues thermal cracker; Petroleum gas; [A complex combination of hydrocarbons obtained from the thermal cracking of vacuum residues. It consists of hydrocarbons having carbon numbers predominantly in the range of C1 through C5.]","H350 H340"]
[null,"68512-91-4","270-990-9","649-083-00-0","Hydrocarbons, C3-4-rich, petroleum distillate; Petroleum gas; [A complex combination of hydrocarbons produced by distillation and condensation of crude oil. It consists of hydrocarbons having carbon numbers in the range of C3 through C5, predominantly C3 through C4.]","H350 H340"]
[null,"68513-15-5","271-000-8","649-084-00-6","Gases (petroleum), full-range straight-run naphtha dehexanizer off; petroleum gas; [A complex combination of hydrocarbons obtained by the fractionation of the full-range straight-run naphtha. It consists of hydrocarbons having carbon numbers predominantly in the range of C2 through C6.]","H350 H340"]
[null,"68513-16-6","271-001-3","649-085-00-1","Gases (petroleum), hydrocracking depropanizer off, hydrocarbon-rich; Petroleum gas; [A complex combination of hydrocarbon produced by the distillation of products from a hydrocracking process. It consists predominantly of hydrocarbons having carbon numbers predominantly in the range of C1 through C4. It may also contain small amounts of hydrogen and hydrogen sulfide.]","H350 H340"]
[null,"68513-17-7","271-002-9","649-086-00-7","Gases (petroleum), light straight-run naphtha stabilizer off; Petroleum gas; [A complex combination of hydrocarbons obtained by the stabilization of light straight-run naphtha. It consists of saturated aliphatic hydrocarbons having carbon numbers predominantly in the range of C2 through C6.]","H350 H340"]
[null,"68513-66-6","271-010-2","649-087-00-2","Residues (petroleum), alkylation splitter, C4-rich; Petroleum gas; [A complex residuum from the distillation of streams various refinery operations. It consists of hydrocarbons having carbon numbers in the range of C4 through C5, predominantly butane and boiling in the range of approximately – 11.7 °C to 27.8 °C (11 °F to 82 °F).]","H350 H340"]
[null,"68514-31-8","271-032-2","649-088-00-8","Hydrocarbons, C1-4; Petroleum gas; [A complex combination of hydrocarbons provided by thermal cracking and absorber operations and by distillation of crude oil. It consists of hydrocarbons having carbon numbers predominantly in the range of C1 through C4 and boiling in the range of approximately minus 164 °C to minus 0.5 °C (– 263 °F to 31 °F).]","H350 H340"]
[null,"68514-36-3","271-038-5","649-089-00-3","Hydrocarbons, C1-4, sweetened; Petroleum gas; [A complex combination of hydrocarbons obtained by subjecting hydrocarbon gases to a sweetening process to convert mercaptans or to remove acidic impurities. It consists of hydrocarbons having carbon numbers predominantly in the range of C1 through C4 and boiling in the range of approximately – 164 °C to – 0.5 °C (– 263 °F to 31 °F).]","H350 H340"]
[null,"68527-16-2","271-259-7","649-090-00-9","Hydrocarbons, C1-3; Petroleum gas; [A complex combination of hydrocarbons having carbon numbers predominantly in the range of C1 through C3 and boiling in the range of approximately minus 164 °C to minus 42 °C (– 263 °F to – 44 °F).]","H350 H340"]
[null,"68527-19-5","271-261-8","649-091-00-4","Hydrocarbons, C1-4, debutanizer fraction; Petroleum gas","H350 H340"]
[null,"68602-83-5","271-624-0","649-092-00-X","Gases (petroleum), C1-5, wet; Petroleum gas; [A complex combination of hydrocarbons produced by the distillation of crude oil and/or the cracking of tower gas oil. It consists of hydrocarbons having carbon numbers predominantly in the range of C1 through C5.]","H350 H340"]
[null,"68606-25-7","271-734-9","649-093-00-5","Hydrocarbons, C2-4; Petroleum gas","H350 H340"]
[null,"68606-26-8","271-735-4","649-094-00-0","Hydrocarbons, C3; Petroleum gas","H350 H340"]
[null,"68606-27-9","271-737-5","649-095-00-6","Gases (petroleum), alkylation feed; Petroleum gas; [A complex combination of hydrocarbons produced by the catalytic cracking of gas oil. It consists of hydrocarbons having carbon numbers predominantly in the range of C3 through C4.]","H350 H340"]
[null,"68606-34-8","271-742-2","649-096-00-1","Gases (petroleum), depropanizer bottoms fractionation off; Petroleum gas; [A complex combination of hydrocarbons obtained from the fractionation of depropanizer bottoms. It consists predominantly of butane, isobutane and butadiene.]","H350 H340"]
[null,"68783-07-3","272-183-7","649-097-00-7","Gases (petroleum), refinery blend; Petroleum gas; [A complex combination obtained from various processes. It consists of hydrogen, hydrogen sulfide and hydrocarbons having carbon numbers predominantly in the range of C1 through C5.]","H350 H340"]
[null,"68783-64-2","272-203-4","649-098-00-2","Gases (petroleum), catalytic cracking; Petroleum gas; [A complex combination of hydrocarbons produced by the distillation of the products from a catalytic cracking process. It consists predominantly of hydrocarbons having carbon numbers predominantly in the range of C3 through C5.]","H350 H340"]
[null,"68783-65-3","272-205-5","649-099-00-8","Gases (petroleum), C2-4, sweetened; Petroleum gas; [A complex combination of hydrocarbons obtained by subjecting a petroleum distillate to a sweetening process to convert mercaptans or to remove acidic impurities. It consists predominantly of saturated and unsaturated hydrocarbons having carbon numbers predominantly in the range of C2 through C4 and boiling in the range of approximately – 51 °C to – 34 °C (– 60 °F to – 30 °F).]","H350 H340"]
[null,"68918-99-0","272-871-7","649-100-00-1","Gases (petroleum), crude oil fractionation off; Petroleum gas; [A complex combination of hydrocarbons produced by the fractionation of crude oil. It consists of saturated aliphatic hydrocarbons having carbon numbers predominantly in the range of C1 through C5.]","H350 H340"]
[null,"68919-00-6","272-872-2","649-101-00-7","Gases (petroleum), dehexanizer off; Petroleum gas; [A complex combination of hydrocarbons obtained by the fractionation of combined naphtha streams. It consists of saturated aliphatic hydrocarbons having carbon numbers predominantly in the range of C1 through C5.]","H350 H340"]
[null,"68919-05-1","272-878-5","649-102-00-2","Gases (petroleum), light straight run gasoline fractionation stabilizer off; Petroleum gas; [A complex combination of hydrocarbons obtained by the fractionation of light straight-run gasoline. It consists of saturated aliphatic hydrocarbons having carbon numbers predominantly in the range of C1 through C5.]","H350 H340"]
[null,"68919-06-2","272-879-0","649-103-00-8","Gases (petroleum), naphtha unifiner desulfurization stripper off; Petroleum gas; [A complex combination of hydrocarbons produced by a naphtha unifiner desulfurization process and stripped from the naphtha product. It consists of saturated aliphatic hydrocarbons having carbon numbers predominantly in the range of C1 through C4.]","H350 H340"]
[null,"68919-09-5","272-882-7","649-104-00-3","Gases (petroleum), straight-run naphtha catalytic reforming off; Petroleum gas; [A complex combination of hydrocarbons obtained by the catalytic reforming of straight-run naphtha and fractionation of the total effluent. It consists of methane, ethane, and propane.]","H350 H340"]
[null,"68919-20-0","272-893-7","649-105-00-9","Gases (petroleum), fluidized catalytic cracker splitter overheads; Petroleum gas; [A complex combination of hydrocarbons produced by the fractionation of the charge to the C3-C4 splitter. It consists predominantly of C3 hydrocarbons.]","H350 H340"]
[null,"68919-10-8","272-883-2","649-106-00-4","Gases (petroleum), straight-run stabilizer off; Petroleum gas; [A complex combination of hydrocarbons obtained from the fractionation of the liquid from the first tower used in the distillation of crude oil. It consists of saturated aliphatic hydrocarbons having carbon numbers predominantly in the range of C1 through C4.]","H350 H340"]
[null,"68952-76-1","273-169-3","649-107-00-X","Gases (petroleum), catalytic cracked naphtha debutanizer; Petroleum gas; [A complex combination of hydrocarbons obtained from fractionation of catalytic cracked naphtha. It consists of hydrocarbons having carbon numbers predominantly in the range of C1 through C4.]","H350 H340"]
[null,"68952-77-2","273-170-9","649-108-00-5","Tail gas (petroleum), catalytic cracked distillate and naphtha stabilizer; Petroleum gas; [A complex combination of hydrocarbons obtained by the fractionation of catalytic cracked naphtha and distillate. It consists predominantly of hydrocarbons having carbon numbers predominantly in the range of C1 through C4.]","H350 H340"]
[null,"68952-81-8","273-175-6","649-109-00-0","Tail gas (petroleum), thermal-cracked distillate, gas oil and naphtha absorber; petroleum gas; [A complex combination of hydrocarbons obtained from the separation of thermal-cracked distillates, naphtha and gas oil. It consists pedrominantly of hydrocarbons having carbon numbers predominantly in the range of C1 through C6.]","H350 H340"]
[null,"68952-82-9","273-176-1","649-110-00-6","Tail gas (petroleum), thermal cracked hydrocarbon fractionation stabilizer, petroleum coking; Petroleum gas; [A complex combination of hydrocarbons obtained from the fractionation stabilization of thermal cracked hydrocarbons from petroleum coking process. It consists of hydrocarbons having carbon numbers predominantly in the range of C1 through C6.]","H350 H340"]
[null,"68955-28-2","273-265-5","649-111-00-1","Gases (petroleum, light steam-cracked, butadiene conc.; Petroleum gas; [A complex combination of hydrocarbons produced by the distillation of products from a thermal cracking process. It consists of hydrocarbons having a carbon number predominantly of C4.]","H350 H340"]
[null,"68955-34-0","273-270-2","649-112-00-7","Gases (petroleum), straight-run naphtha catalytic reformer stabilizer overhead; Petroleum gas; [A complex combination of hydrocarbons obtained by the catalytic reforming of straight-run naphtha and the fractionation of the total effluent. It consists of saturated aliphatic hydrocarbons having carbon numbers predominantly in the range of C2 through C4.]","H350 H340"]
[null,"87741-01-3","289-339-5","649-113-00-2","Hydrocarbons, C4; Petroleum gas","H350 H340"]
[null,"90622-55-2","292-456-4","649-114-00-8","Alkanes, C1-4, C3-rich; Petroleum gas","H350 H340"]
[null,"92045-22-2","295-404-9","649-115-00-3","Gases (petroleum), steam-cracker C3-rich; Petroleum gas; [A complex combination of hydrocarbons produced by the distillation of products from a steam cracking process. It consists predominantly of propylene with some propane and boils in the range of approximately – 70 °C to 0 °C (– 94 °F to 32 °F).]","H350 H340"]
[null,"92045-23-3","295-405-4","649-116-00-9","Hydrocarbons, C4, steam-cracker distillate; Petroleum gas; [A complex combination of hydrocarbons produced by the distillation of the products of a steam cracking process. It consists predominantly of hydrocarbons having a carbon number of C4, predominantly 1-butene and 2-butene, containing also butane and isobutene and boiling in the range of approximately minus 12 °C to 5 °C (10.4 °F to 41 °F).]","H350 H340"]
[null,"92045-80-2","295-463-0","649-117-00-4","Petroleum gases, liquefied, sweetened, C4 fraction; Petroleum gas; [A complex combination of hydrocarbons obtained by subjecting a liquified petroleum gas mix to a sweetening process to oxidize mercaptans or to remove acidic impurities. It consists predominantly of C4 saturated and unsaturated hydrocarbons.]","H350 H340"]
[null,"95465-89-7","306-004-1","649-118-00-X","Hydrocarbons, C4, 1,3-butadiene- and isobutene-free; Petroleum gas","H350 H340"]
[null,"97722-19-5","307-769-4","649-119-00-5","Raffinates (petroleum), steam-cracked C4 fraction cuprous ammonium acetate extn., C3-5 and C3-5 unsatd., butadiene-free; Petroleum gas","H350 H340"]
[null,"68477-65-6","270-746-1","649-120-00-0","Gases (petroleum), amine system feed; Refinery gas; [The feed gas to the amine system for removal of hydrogen sulfide. It consists of hydrogen. Carbon monoxide, carbon dioxide, hydrogen sulfide and aliphatic hydrocarbons having carbon numbers predominantly in the range of C1 through C5 may also be present.]","H350 H340"]
[null,"68477-66-7","270-747-7","649-121-00-6","Gases (petroleum), benzene unit hydrodesulfurizer off; Refinery gas; [Off gases produced by the benzene unit. It consists primarily of hydrogen. Carbon monoxide and hydrocarbons having carbon numbers predominantly in the range of C1 through C6, including benzene, may also be present.]","H350 H340"]
[null,"68477-67-8","270-748-2","649-122-00-1","Gases (petroleum), benzene unit recycle, hydrogen-rich; Refinery gas; [A complex combination of hydrocarbons obtained by recycling the gases of the benzene unit. It consists primarily of hydrogen with various small amounts of carbon monoxide and hydrocarbons having carbon numbers in the range of C1 through C6.]","H350 H340"]
[null,"68477-68-9","270-749-8","649-123-00-7","Gases (petroleum), blend oil, hydrogen-nitrogen-rich; Refinery gas; [A complex combination of hydrocarbons obtained by distillation of a blend oil. It consists primarily of hydrogen and nitrogen with various small amounts of carbon monoxide, carbon dioxide, and aliphatic hydrocarbons having carbon numbers predominantly in the range of C1 through C5.]","H350 H340"]
[null,"68477-77-0","270-759-2","649-124-00-2","Gases (petroleum), catalytic reformed naphtha stripper overheads; Refinery gas; [A complex combination of hydrocarbons obtained from stabilization of catalytic reformed naphtha. Its consists of hydrogen and saturated hydrocarbons having carbon numbers predominantly in the range of C1 through C4.]","H350 H340"]
[null,"68477-80-5","270-761-3","649-125-00-8","Gases (petroleum), C6-8 catalytic reformer recycle; Refinery gas; [A complex combination of hydrocarbons produced by distillation of products from catalytic reforming of C6-C8 feed and recycled to conserve hydrogen. It consists primarily of hydrogen. It may also contain various small amounts of carbon monoxide, carbon dioxide, nitrogen, and hydrocarbons having carbon numbers predominantly in the range of C1 through C6.]","H350 H340"]
[null,"68477-81-6","270-762-9","649-126-00-3","Gases (petroleum), C6-8 catalytic reformer; Refinery gas; [A complex combination of hydrocarbons produced by distillation of products from catalytic reforming of C6-C8feed. It consists of hydrocarbons having carbon numbers in the range of C1 through C5 and hydrogen.]","H350 H340"]
[null,"68477-82-7","270-763-4","649-127-00-9","Gases (petroleum), C6-8 catalytic reformer recycle, hydrogen-rich; Refinery gas","H350 H340"]
[null,"68477-84-9","270-766-0","649-128-00-4","Gases (petroleum), C2-return stream; Refinery gas; [A complex combination of hydrocarbons obtained by the extraction of hydrogen from a gas stream which consists primarily of hydrogen with small amounts of nitrogen, carbon monoxide, methane, ethane, and ethylene. It contains predominantly hydrocarbons such as methane, ethane, and ethylene with small amounts of hydrogen, nitrogen and carbon monoxide.]","H350 H340"]
[null,"68477-92-9","270-774-4","649-129-00-X","Gases (petroleum), dry sour, gas-concn.-unit-off; Refinery gas; [The complex combination of dry gases from a gas concentration unit. It consists of hydrogen, hydrogen sulfide and hydrocarbons having carbon numbers predominantly in the range of C1 through C3.]","H350 H340"]
[null,"68477-93-0","270-776-5","649-130-00-5","Gases (petroleum), gas concn. reabsorber distn.; Refinery gas; [A complex combination of hydrocarbons produced by distillation of products from combined gas streams in a gas concentration reabsorber. It consists predominantly of hydrogen, carbon monoxide, carbon dioxide, nitrogen, hydrogen sulfide and hydrocarbons having carbon numbers in the range of C1 through C3.]","H350 H340"]
[null,"68477-96-3","270-779-1","649-131-00-0","Gases (petroleum), hydrogen absorber off; Refinery gas; [A complex combination obtained by absorbing hydrogen from a hydrogen rich stream. It consists of hydrogen, carbon monoxide, nitrogen, and methane with small amounts of C2 hydrocarbons.]","H350 H340"]
[null,"68477-97-4","270-780-7","649-132-00-6","Gases (petroleum), hydrogen-rich; Refinery gas; [A complex combination separated as a gas from hydrocarbon gases by chilling. It consists primarily of hydrogen with various small amounts of carbon monoxide, nitrogen, methane, and C2 hydrocarbons.]","H350 H340"]
[null,"68477-98-5","270-781-2","649-133-00-1","Gases (petroleum), hydrotreater blend oil recycle, hydrogen-nitrogen-rich; Refinery gas; [A complex combination obtained from recycled hydrotreated blend oil. It consists primarily of hydrogen and nitrogen with various small amounts of carbon monoxide, carbon dioxide and hydrocarbons having carbon numbers predominantly in the range of C1 through C5.]","H350 H340"]
[null,"68478-00-2","270-783-3","649-134-00-7","Gases (petroleum), recycle, hydrogen-rich; Refinery gas; [A complex combination obtained from recycled reactor gases. It consists primarily of hydrogen with various small amounts of carbon monoxide, carbon dioxide, nitrogen, hydrogen sulfide, and saturated aliphatic hydrocarbons having carbon numbers in the range of C1 through C5.]","H350 H340"]
[null,"68478-01-3","270-784-9","649-135-00-2","Gases (petroleum), reformer make-up, hydrogen-rich; Refinery gas; [A complex combination obtained from the reformers. It consists primarily of hydrogen with various small amounts of carbon monoxide and aliphatic hydrocarbons having carbon numbers predominantly in the range of C1 through C5.]","H350 H340"]
[null,"68478-02-4","270-785-4","649-136-00-8","Gases (petroleum), reforming hydrotreater; Refinery gas; [A complex combination obtained from the reforming hydrotreating process. It consists primarily of hydrogen, methane, and ethane with various small amounts of hydrogen sulfide and aliphatic hydrocarbons having carbon numbers predominantly in the range of C3 through C5.]","H350 H340"]
[null,"68478-03-5","270-787-5","649-137-00-3","Gases (petroleum), reforming hydrotreater, hydrogen-methane-rich; Refinery gas; [A complex combination obtained from the reforming hydrotreating process. It consists primarily of hydrogen and methane with various small amounts of carbon monoxide, carbon dioxide, nitrogen and saturated aliphatic hydrocarbons having carbon numbers predominantly in the range of C2 through C5.]","H350 H340"]
[null,"68478-04-6","270-788-0","649-138-00-9","Gases (petroleum), reforming hydrotreater make-up, hydrogen-rich; Refinery gas; [A complex combination obtained from the reforming hydrotreating process. It consists primarily of hydrogen with various small amounts of carbon monoxide and aliphatic hydrocarbons having carbon numbers predominantly in the range of C1 through C5.]","H350 H340"]
[null,"68478-05-7","270-789-6","649-139-00-4","Gases (petroleum), thermal cracking distn.; Refinery gas; [A complex combination produced by distillation of products from a thermal cracking process. It consists of hydrogen, hydrogen sulfide, carbon monoxide, carbon dioxide and hydrocarbons having carbon numbers predominantly in the range of C1 through C6.]","H350 H340"]
[null,"68478-25-1","270-805-1","649-140-00-X","Tail gas (petroleum), catalytic cracker refractionation absorber; Refinery gas; [A complex combination of hydrocarbons obtained from refractionation of products from a catalytic cracking process. It consists of hydrogen and hydrocarbons having carbon numbers predominantly in the range of C1 through C3.]","H350 H340"]
[null,"68478-27-3","270-807-2","649-141-00-5","Tail gas (petroleum), catalytic reformed naphtha separator; Refinery gas; [A complex combination of hydrocarbons obtained from the catalytic reforming of straight run naphtha. It consists of hydrogen and hydrocarbons having carbon numbers predominantly in the range of C1 through C6.]","H350 H340"]
[null,"68478-28-4","270-808-8","649-142-00-0","Tail gas (petroleum), catalytic reformed naphtha stabilizer; Refinery gas; [A complex combination of hydrocarbons obtained from the stabilization of catalytic reformed naphtha. It consists of hydrogen and hydrocarbons having carbon numbers predominantly in the range of C1 through C6.]","H350 H340"]
[null,"68478-29-5","270-809-3","649-143-00-6","Tail gas (petroleum), cracked distillate hydrotreater separator; Refinery gas; [A complex combination of hydrocarbons obtained by treating cracked distillates with hydrogen in the presence of a catalyst. It consists of hydrogen and saturated aliphatic hydrocarbons having carbon numbers predominantly in the range of C1 through C5.]","H350 H340"]
[null,"68478-30-8","270-810-9","649-144-00-1","Tail gas (petroleum), hydrodesulfurized straight-run naphtha separator; Refinery gas; [A complex combination of hydrocarbons obtained from hydrodesulfurization of straight-run naphtha. It consists of hydrogen and saturated aliphatic hydrocarbons having carbon numbers predominantly in the range of C1 through C6.]","H350 H340"]
[null,"68513-14-4","270-999-8","649-145-00-7","Gases (petroleum), catalytic reformed straight-run naphtha stabilizer overheads; Refinery gas; [A complex combination of hydrocarbons obtained from the catalytic reforming of straight-run naphtha followed by fractionation of the total effluent. It consists of hydrogen, methane, ethane and propane.]","H350 H340"]
[null,"68513-18-8","271-003-4","649-146-00-2","Gases (petroleum), reformer effluent high-pressure flash drum off; Refinery gas; [A complex combination produced by the high-pressure flashing of the effluent from the reforming reactor. It consists primarily of hydrogen with various small amounts of methane, ethane, and propane.]","H350 H340"]
[null,"68513-19-9","271-005-5","649-147-00-8","Gases (petroleum), reformer effluent low-pressure flash drum off; Refinery gas; [A complex combination produced by low-pressure flashing of the effluent from the reforming reactor. It consists primarily of hydrogen with various small amounts of methane, ethane, and propane.]","H350 H340"]
[null,"68527-15-1","271-258-1","649-148-00-3","Gases (petroleum), oil refinery gas distn. off; Refinery gas; [A complex combination separated by distillation of a gas stream containing hydrogen, carbon monoxide, carbon dioxide and hydrocarbons having carbon numbers in the range of C1 through C6 or obtained by cracking ethane and propane. It consists of hydrocarbons having carbon numbers predominantly in the range of C1 through C2, hydrogen, nitrogen, and carbon monoxide.]","H350 H340"]
[null,"68602-82-4","271-623-5","649-149-00-9","Gases (petroleum), benzene unit hydrotreater depentanizer overheads; Refinery gas; [A complex combination produced by treating the feed from the benzene unit with hydrogen in the presence of a catalyst followed by depentanizing. It consists primarily of hydrogen, ethane and propane with various small amounts of nitrogen, carbon monoxide, carbon dioxide and hydrocarbons having carbon numbers predominantly in the range of C1 through C6. It may contain trace amounts of benzene.]","H350 H340"]
[null,"68602-84-6","271-625-6","649-150-00-4","Gases (petroleum), secondary absorber off, fluidized catalytic cracker overheads fractionator; Refinery gas; [A complex combination produced by the fractionation of the overhead products from the catalytic cracking process in the fluidized catalytic cracker. It consists of hydrogen, nitrogen, and hydrocarbons having carbon numbers predominantly in the range of C1 through C3.]","H350 H340"]
[null,"68607-11-4","271-750-6","649-151-00-X","Petroleum products, refinery gases; Refinery gas; [A complex combination which consists primarily of hydrogen with various small amounts of methane, ethane, and propane.]","H350 H340"]
[null,"68783-06-2","272-182-1","649-152-00-5","Gases (petroleum), hydrocracking low-pressure separator; Refinery gas; [A complex combination obtained by the liquid-vapor separation of the hydrocracking process reactor effluent. It consists predominantly of hydrogen and saturated hydrocarbons having carbon numbers predominantly in the range of C1 through C3.]","H350 H340"]
[null,"68814-67-5","272-338-9","649-153-00-0","Gases (petroleum), refinery; Refinery gas; [A complex combination obtained from various petroleum refining operations. It consists of hydrogen and hydrocarbons having carbon numbers predominantly in the range of C1 through C3.]","H350 H340"]
[null,"68814-90-4","272-343-6","649-154-00-6","Gases (petroleum), platformer products separator off; Refinery gas; [A complex combination obtained from the chemical reforming of naphthenes to aromatics. It consists of hydrogen and saturated aliphatic hydrocarbons having carbon numbers predominantly in the range of C2 through C4.]","H350 H340"]
[null,"68911-58-0","272-775-5","649-155-00-1","Gases (petroleum), hydrotreated sour kerosine depentanizer stabilizer off; Refinery gas; [The complex combination obtained from the depentanizer stabilization of hydrotreated kerosine. It consists primarily of hydrogen, methane, ethane, and propane with various small amounts of nitrogen, hydrogen sulfide, carbon monoxide and hydrocarbons having carbon numbers predominantly in the range of C4 through C5.]","H350 H340"]
[null,"68911-59-1","272-776-0","649-156-00-7","Gases (petroleum), hydrotreated sour kerosine flash drum; Refinery gas; [A complex combination obtained from the flash drum of the unit treating sour kerosine with hydrogen in the presence of a catalyst. It consists primarily of hydrogen and methane with various small amounts of nitrogen, carbon monoxide, and hydrocarbons having carbon numbers predominantly in the range of C2 through C5.]","H350 H340"]
[null,"68919-01-7","272-873-8","649-157-00-2","Gases (petroleum), distillate unifiner desulfurization stripper off; Refinery gas; [A complex combination stripped from the liquid product of the unifiner desulfurization process. It consists of hydrogen sulfide, methane, ethane, and propane.]","H350 H340"]
[null,"68919-02-8","272-874-3","649-158-00-8","Gases (petroleum), fluidized catalytic cracker fractionation off; Refinery gas; [A complex combination produced by the fractionation of the overhead product of the fluidized catalytic cracking process. It consists of hydrogen, hydrogen sulfide, nitrogen, and hydrocarbons having carbon numbers predominantly in the range of C1 through C5.]","H350 H340"]
[null,"68919-03-9","272-875-9","649-159-00-3","Gases (petroleum), fluidized catalytic cracker scrubbing secondary absorber off; Refinery gas; [A complex combination produced by scrubbing the overhead gas from the fluidized catalytic cracker. It consists of hydrogen, nitrogen, methane, ethane and propane.]","H350 H340"]
[null,"68919-04-0","272-876-4","649-160-00-9","Gases (petroleum), heavy distillate hydrotreater desulfurization stripper off; Refinery gas; [A complex combination stripped from the liquid product of the heavy distillate hydrotreater desulfurization process. It consists of hydrogen, hydrogen sulfide, and saturated aliphatic hydrocarbons having carbon numbers predominantly in the range of C1 through C5.]","H350 H340"]
[null,"68919-07-3","272-880-6","649-161-00-4","Gases (petroleum), platformer stabilizer off, light ends fractionation; Refinery gas; [A complex combination obtained by the fractionation of the light ends of the platinum reactors of the platformer unit. It consists of hydrogen, methane, ethane and propane.]","H350 H340"]
[null,"68919-08-4","272-881-1","649-162-00-X","Gases (petroleum), preflash tower off, crude distn.; Refinery gas; [A complex combination produced from the first tower used in the distillation of crude oil. It consists of nitrogen and saturated aliphatic hydrocarbons having carbon numbers predominantly in the range of C1 through C5.]","H350 H340"]
[null,"68919-11-9","272-884-8","649-163-00-5","Gases (petroleum), tar stripper off; Refinery gas; [A complex combination obtained by the fractionation of reduced crude oil. It consists of hydrogen and hydrocarbons having carbon numbers predominantly in the range of C1 through C4.]","H350 H340"]
[null,"68919-12-0","272-885-3","649-164-00-0","Gases (petroleum), unifiner stripper off; Refinery gas; [A combination of hydrogen and methane obtained by fractionation of the products from the unifiner unit.]","H350 H340"]
[null,"68952-79-4","273-173-5","649-165-00-6","Tail gas (petroleum), catalytic hydrodesulfurized naphtha separator; Refinery gas; [A complex combination of hydrocarbons obtained from the hydrodesulfurization of naphtha. It consists of hydrogen, methane, ethane, and propane.]","H350 H340"]
[null,"68952-80-7","273-174-0","649-166-00-1","Tail gas (petroleum), straight-run naphtha hydrodesulfurizer; Refinery gas; [A complex combination obtained from the hydrodesulfurization of straight-run naphtha. It consists of hydrogen and hydrocarbons having carbon numbers predominantly in the range of C1 through C5.]","H350 H340"]
[null,"68955-33-9","273-269-7","649-167-00-7","Gases (petroleum), sponge absorber off, fluidized catalytic cracker and gas oil desulfurizer overhead fractionation; Refinery gas; [A complex combination obtained by the fractionation of products from the fluidized catalytic cracker and gas oil desulfurizer. It consists of hydrogen and hydrocarbons having carbon numbers predominantly in the range of C1 through C4.]","H350 H340"]
[null,"68989-88-8","273-563-5","649-168-00-2","Gases (petroleum), crude distn. and catalytic cracking; Refinery gas; [A complex combination produced by crude distillation and catalytic cracking processes. It consists of hydrogen, hydrogen sulfide, nitrogen, carbon monoxide and paraffinic and olefinic hydrocarbons having carbon numbers predominantly in the range of C1 through C6.]","H350 H340"]
[null,"92045-15-3","295-397-2","649-169-00-8","Gases (petroleum), gas oil diethanolamine scrubber off; Refinery gas; [A complex combination produced by desulfurization of gas oils with diethanolamine. It consists predominantly of hydrogen sulfide, hydrogen and aliphatic hydrocarbons having carbon numbers in the range of C1 through C5.]","H350 H340"]
[null,"92045-16-4","295-398-8","649-170-00-3","Gases (petroleum), gas oil hydrodesulfurization effluent; Refinery gas; [A complex combination obtained by separation of the liquid phase from the effluent from the hydrogenation reaction. It consists predominantly of hydrogen, hydrogen sulfide and aliphatic hydrocarbons having carbon numbers predominantly in the range of C1 through C3.]","H350 H340"]
[null,"92045-17-5","295-399-3","649-171-00-9","Gases (petroleum), gas oil hydrodesulfurization purge; Refinery gas; [A complex combination of gases obtained from the reformer and from the purges from the hydrogenation reactor. It consists predominantly of hydrogen and aliphatic hydrocarbons having carbon numbers predominantly in the range of C1 through C4.]","H350 H340"]
[null,"92045-18-6","295-400-7","649-172-00-4","Gases (petroleum), hydrogenator effluent flash drum off; Refinery gas; [A complex combination of gases obtained from flash of the effluents after the hydrogenation reaction. It consists predominantly of hydrogen and aliphatic hydrocarbons having carbon numbers predominantly in the range of C1 through C6.]","H350 H340"]
[null,"92045-19-7","295-401-2","649-173-00-X","Gases (petroleum), naphtha steam cracking high-pressure residual; Refinery gas; [A complex combination obtained as a reaction mass of the non-condensable portions from the product of a naphtha steam cracking process as well as residual gases obtained during the preparation of subsequent products. It consists predominantly of hydrogen and paraffinic and olefinic hydrocarbons having carbon numbers predominantly in the range of C1 through C5 with which natural gas may also be mixed.]","H350 H340"]
[null,"92045-20-0","295-402-8","649-174-00-5","Gases (petroleum), residue visbaking off; Refinery gas; [A complex combination obtained from viscosity reduction of residues in a furnace. It consists predominantly of hydrogen sulfide and paraffinic and olefinic hydrocarbons having carbon numbers predominantly in the range of C1 through C5.]","H350 H340"]
[null,"93924-31-3","300-225-7","649-175-00-0","Foots oil (petroleum), acid-treated; Foots oil; [A complex combination of hydrocarbons obtained by treatment of Foot's oil with sulfuric acid. It consists predominantly of branched-chain hydrocarbons with carbon numbers predominantly in the range of C20 through C50.]","H350"]
[null,"93924-32-4","300-226-2","649-176-00-6","Foots oil (petroleum), clay-treated; Foots oil; [A complex combination of hydrocarbons obtained by treatment of Foot's oil with natural or modified clay in either a contacting or percolation process to remove the trace amounts of polar compounds and impurities present. It consists predominantly of branched chain hydrocarbons with carbon numbers predominantly in the range of C20 through C50.]","H350"]
[null,"68131-75-9","268-629-5","649-177-00-1","Gases (petroleum), C3-4; Petroleum gas; [A complex combination of hydrocarbons produced by distillation of products from the cracking of crude oil. It consists of hydrocarbons having carbon numbers in the range of C3 through C4, predominantly of propane and propylene, and boiling in the range of approximately – 51 °C to – 1 °C (– 60 °F to 30 °F.)]","H350 H340"]
[null,"68307-98-2","269-617-2","649-178-00-7","Tail gas (petroleum), catalytic cracked distillate and catalytic cracked naphtha fractionation absorber; Petroleum gas; [The complex combination of hydrocarbons from the distillation of the products from catalytic cracked distillates and catalytic cracked naphtha. It consists predominantly of hydrocarbons having carbon numbers in the range of C1 through C4.]","H350 H340"]
[null,"68307-99-3","269-618-8","649-179-00-2","Tail gas (petroleum), catalytic polymn. naphtha fractionation stabilizer; Petroleum gas; [A complex combination of hydrocarbons from the fractionation stabilization products from polymerization of naphtha. It consists predominantly of hydrocarbons having carbon numbers in the range of C1 through C4.]","H350 H340"]
[null,"68308-00-9","269-619-3","649-180-00-8","Tail gas (petroleum), catalytic reformed naphtha fractionation stabilizer, hydrogen sulfide-free; Petroleum gas; [A complex combination of hydrocarbons obtained from fractionation stabilization of catalytic reformed naphtha and from which hydrogen sulfide has been removed by amine treatment. It consists predominantly of hydrocarbons having carbon numbers predominantly in the range of C1 through C4.]","H350 H340"]
[null,"68308-01-0","269-620-9","649-181-00-3","Tail gas (petroleum), cracked distillate hydrotreater stripper; Petroleum gas; [A complex combination of hydrocarbons obtained by treating thermal cracked distillates with hydrogen in the presence of a catalyst. It consists predominantly of saturated hydrocarbons having carbon numbers predominantly in the range of C1 through C6.]","H350 H340"]
[null,"68308-10-1","269-630-3","649-182-00-9","Tail gas (petroleum), straight-run distillate hydrodesulfurizer, hydrogen sulfide-free; Petroleum gas; [A complex combination of hydrocarbons obtained from catalytic hydrodesulfurization of straight run distillates and from which hydrogen sulfide has been removed by amine treatment. It consists predominantly of hydrocarbons having carbon numbers predominantly in the range of C1 through C4.]","H350 H340"]
[null,"68308-03-2","269-623-5","649-183-00-4","Tail gas (petroleum), gas oil catalytic cracking absorber; Petroleum gas; [A complex combination of hydrocarbons obtained from the distillation of products from the catalytic cracking of gas oil. It consists predominantly of hydrocarbons having carbon numbers predominantly in the range of C1 through C5.]","H350 H340"]
[null,"68308-04-3","269-624-0","649-184-00-X","Tail gas (petroleum), gas recovery plant; Petroleum gas; [A complex combination of hydrocarbons from the distillation of products from miscellaneous hydrocarbon streams. It consists predominantly of hydrocarbons having carbon numbers predominantly in the range of C1 through C5.]","H350 H340"]
[null,"68308-05-4","269-625-6","649-185-00-5","Tail gas (petroleum), gas recovery plant deethanizer; Petroleum gas; [A complex combination of hydrocarbons from the distillation of products from miscellaneous hydrocarbon streams. It consists of hydrocarbons having carbon numbers predominantly in the range of C1 through C4.]","H350 H340"]
[null,"68308-06-5","269-626-1","649-186-00-0","Tail gas (petroleum), hydrodesulfurized distillate and hydrodesulfurized naphtha fractionator, acid-free; Petroleum gas; [A complex combination of hydrocarbons obtained from fractionation of hydrodesulfurized naphtha and distillate hydrocarbon streams and treated to remove acidic impurities. It consists predominantly of hydrocarbons having carbon numbers predominantly in the range of C1 through C5.]","H350 H340"]
[null,"68308-07-6","269-627-7","649-187-00-6","Tail gas (petroleum), hydrodesulfurized vacuum gas oil stripper, hydrogen sulfide-free; Petroleum gas; [A complex combination of hydrocarbons obtained from stripping stabilization of catalytic hydrodesulfurized vacuum gas oil and from which hydrogen sulfide has been removed by amine treatment. It consists predominantly of hydrocarbons having carbon numbers predominantly in the range of C1 through C6.]","H350 H340"]
[null,"68308-09-8","269-629-8","649-188-00-1","Tail gas (petroleum), light straight-run naphtha stabilizer, hydrogen sulfide-free; Petroleum gas; [A complex combination of hydrocarbons obtained from fractionation stabilization of light straight run naphtha and from which hydrogen sulfide has been removed by amine treatment. It consists predominantly of hydrocarbons having carbon numbers predominantly in the range of C1 through C5.]","H350 H340"]
[null,"68308-11-2","269-631-9","649-189-00-7","Tail gas (petroleum), propane-propylene alkylation feed prep deethanizer; Petroleum gas; [A complex combination of hydrocarbons obtained from the distillation of the reaction products of propane with propylene. It consists of hydrocarbons having carbon numbers predominantly in the range of C1 through C4.]","H350 H340"]
[null,"68308-12-3","269-632-4","649-190-00-2","Tail gas (petroleum), vacuum gas oil hydrodesulfurizer, hydrogen sulfide-free; Petroleum gas; [A complex combination of hydrocarbons obtained from catalytic hydrodesulfurization of vacuum gas oil and from which hydrogen sulfide has been removed by amine treatment. It consists predominantly of hydrocarbons having carbon numbers predominantly in the range of C1 through C6.]","H350 H340"]
[null,"68409-99-4","270-071-2","649-191-00-8","Gases (petroleum), catalytic cracked overheads; Petroleum gas; [A complex combination of hydrocarbons produced by the distillation of products from the catalytic cracking process. It consists of hydrocarbons having carbon numbers predominantly in the range of C3 through C5 and boiling in the range of approximately – 48 °C to 32 °C (– 54 °F to 90 °F).]","H350 H340"]
[null,"68475-57-0","270-651-5","649-193-00-9","Alkanes, C1-2; Petroleum gas","H350 H340"]
[null,"68475-58-1","270-652-0","649-194-00-4","Alkanes, C2-3; Petroleum gas","H350 H340"]
[null,"68475-59-2","270-653-6","649-195-00-X","Alkanes, C3-4; petroleum gas","H350 H340"]
[null,"68475-60-5","270-654-1","649-196-00-5","Alkanes, C4-5; Petroleum gas","H350 H340"]
[null,"68476-26-6","270-667-2","649-197-00-0","Fuel gases; Petroleum gas; [A combination of light gases. It consists predominantly of hydrogen and/or low molecular weight hydrocarbons.]","H350 H340"]
[null,"68476-29-9","270-670-9","649-198-00-6","Fuel gases, crude oil of distillates; Petroleum gas; [A complex combination of light gases produced by distillation of crude oil and by catalytic reforming of naphtha. It consists of hydrogen and hydrocarbons having carbon numbers predominantly in the range of C1 through C4 and boiling in the range of approximately – 217 °C to – 12 °C (– 423 °F to 10 °F).]","H350 H340"]
[null,"68476-40-4","270-681-9","649-199-00-1","Hydrocarbons, C3-4; Petroleum gas","H350 H340"]
[null,"68476-42-6","270-682-4","649-200-00-5","Hydrocarbons, C4-5; Petroleum gas","H350 H340"]
[null,"68476-49-3","270-689-2","649-201-00-0","Hydrocarbons, C2-4, C3-rich; Petroleum gas","H350 H340"]
[null,"68476-85-7","270-704-2","649-202-00-6","Petroleum gases, liquefied; Petroleum gas; [A complex combination of hydrocarbons produced by the distillation of crude oil. It consists of hydrocarbons having carbon numbers predominantly in the range of C3 through C7 and boiling in the range of approximately – 40 °C to 80 °C (– 40 °F to 176 °F).]","H350 H340"]
[null,"68476-86-8","270-705-8","649-203-00-1","Petroleum gases, liquefied, sweetened; Petroleum gas; [A complex combination of hydrocarbons obtained by subjecting liquefied petroleum gas mix to a sweetening process to convert mercaptans or to remove acidic impurities. It consists of hydrocarbons having carbon numbers predominantly in the range of C3 through C7 and boiling in the range of approximately – 40 °C to 80 °C (– 40 °F to 176 °F).]","H350 H340"]
[null,"68477-33-8","270-724-1","649-204-00-7","gases (petroleum), C3-4, isobutane-rich; Petroleum gas; [A complex combination of hydrocarbons from the distillation of saturated and unsaturated hydrocarbons usually ranging in carbon numbers from C3 through C6, predominantly butane and isobutane. It consists of saturated and unsaturated hydrocarbons having carbon numbers in the range of C3 through C4, predominantly isobutane.]","H350 H340"]
[null,"68477-35-0","270-726-2","649-205-00-2","Distillates (petroleum), C3-6, piperylene-rich; Petroleum gas; [A complex combination of hydrocarbons from the distillation of saturated and unsaturated aliphatic hydrocarbons usually ranging in the carbon numbers C3 through C6. It consists of saturated and unsaturated hydrocarbons having carbon numbers in the range of C3 through C6, predominantly piperylenes.]","H350 H340"]
[null,"68477-69-0","270-750-3","649-206-00-8","Gases (petroleum), butane splitter overheads; Petroleum gas; [A complex combination of hydrocarbons obtained from the distillation of the butane stream. It consists of aliphatic hydrocarbons having carbon numbers predominantly in the range of C3 through C4.]","H350 H340"]
[null,"68477-70-3","270-751-9","649-207-00-3","Gases (petroleum), C2-3-; Petroleum gas; [A complex combination of hydrocarbons produced by the distillation of products from a catalytic fractionation process. It contains predominantly ethane, ethylene, propane, and propylene.]","H350 H340"]
[null,"68477-71-4","270-752-4","649-208-00-9","Gases (petroleum), catalytic-cracked gas oil depropanizer bottoms, C4-rich acid-free; Petroleum gas; [A complex combination of hydrocarbons obtained from fractionation of catalytic cracked gas oil hydrocarbon stream and treated to remove hydrogen sulfide and other acidic components. It consists of hydrocarbons having carbon numbers in the range of C3 through C5, predominantly C4.]","H350 H340"]
[null,"68477-72-5","270-754-5","649-209-00-4","Gases (petroleum), catalytic-cracked naphtha debutanizer bottoms, C3-5-rich; Petroleum gas; [A complex combination of hydrocarbons obtained from the stabilization of catalytic cracked naphtha. It consists of aliphatic hydrocarbons having carbon numbers predominantly in the range of C3 through C5.]","H350 H340"]
[null,"68308-08-7","269-628-2","649-210-00-X","Tail gas (petroleum), isomerized naphtha fractionation stabilizer; Petroleum gas; [A complex combination of hydrocarbons obtained from the fractionation stabilization products from isomerized naphtha. It consists predominantly of hydrocarbons having carbon numbers predominantly in the range of C1 through C4.]","H350 H340"]
[null,"97862-76-5","308-126-0","649-211-00-5","Foots oil (petroleum), carbon-treated; Foots oil; [A complex combination of hydrocarbons obtained by the treatment of Foots oil with activated carbon for the removal of trace constituents and impurities. It consists predominantly of saturated straight chain hydrocarbons having carbon numbers predominantly greater than C12.]","H350"]
[null,"64741-86-2","265-088-7","649-212-00-0","Distillates (petroleum), sweetened middle; Gasoil - unspecified; [A complex combination of hydrocarbons obtained by subjecting a petroleum distillate to a sweetening process to convert mercaptans or to remove acidic impurities. It consists of hydrocarbons having carbon numbers predominantly in the range of C9 through C20 and boiling in the range of approximately 150 °C to 345 °C (302 °F to 653 °F).]","H350"]
[null,"64741-90-8","265-092-9","649-213-00-6","Gas oils (petroleum), solvent-refined; Gasoil - unspecified; [A complex combination of hydrocarbons obtained as the raffinate from a solvent extraction process. It consists predominantly of aliphatic hydrocarbons having carbon numbers predominantly in the range of C11 through C25 and boiling in the range of approximately 205 °C to 400 °C (401 °F to 752 °F).]","H350"]
[null,"64741-91-9","265-093-4","649-214-00-1","Distillates (petroleum), solvent-refined middle; Gasoil - unspecified; [A complex combination of hydrocarbons obtained as the raffinate from a solvent extraction process. It consists predominantly of aliphatic hydrocarbons having carbon numbers predominantly in the range of C9 through C20 and boiling in the range of approximately 150 °C to 345 °C (302 °F to 653 °F).]","H350"]
[null,"64742-12-7","265-112-6","649-215-00-7","Gas oils (petroleum), acid-treated; Gasoil - unspecified; [A complex combination of hydrocarbons obtained as a raffinate from a sulfuric acid treating process. It consists of hydrocarbons having carbon numbers predominantly in the range of C13 through C25 and boiling in the range of approximately 230 °C to 400 °C (446 °F to 752 °F).]","H350"]
[null,"64742-13-8","265-113-1","649-216-00-2","Distillates (petroleum), acid-treated middle; Gasoil - unspecified; [A complex combination of hydrocarbons obtained as a raffinate from a sulfuric acid treating process. It consists of hydrocarbons having carbon numbers predominantly in the range of C11 through C20 and boiling in the range of approximately 205 °C to 345 °C (401 °F to 653 °F).]","H350"]
[null,"64742-14-9","265-114-7","649-217-00-8","Distillates (petroleum), acid-treated light; Gasoil - unspecified; [A complex combination of hydrocarbons obtained as a raffinate from a sulfuric acid treating process. It consists of hydrocarbons having carbon numbers predominantly in the range of C9 through C16 and boiling in the range of approximately 150 °C to 290 °C (302 °F to 554 °F).]","H350"]
[null,"64742-29-6","265-129-9","649-218-00-3","Gas oils (petroleum), chemically neutralized; Gasoil - unspecified; [A complex combination of hydrocarbons produced by a treating process to remove acidic materials. It consists of hydrocarbons having carbon numbers predominantly in the range of C13 through C25 and boiling in the range of approximately 230 °C to 400 °C (446 °F to 752 °F).]","H350"]
[null,"64742-30-9","265-130-4","649-219-00-9","Distillates (petroleum), chemically neutralized middle; Gasoil - unspecified; [A complex combination of hydrocarbons produced by a treating process to remove acidic materials. It consists of hydrocarbons having carbon numbers predominantly in the range of C11 through C20 and boiling in the range of approximately 205 °C to 345 °C (401 °F to 653 °F).]","H350"]
[null,"64742-38-7","265-139-3","649-220-00-4","Distillates (petroleum), clay-treated middle; Gasoil - unspecified; [A complex combination of hydrocarbons resulting from treatment of a petroleum fraction with natural or modified clay, usually in a percolation process to remove the trace amounts of polar compounds and impurities present. It consists of hydrocarbons having carbon numbers predominantly in the range of C9 through C20 and boiling in the range of approximately 150 °C to 345 °C (302 °F to 653 °F).]","H350"]
[null,"64742-46-7","265-148-2","649-221-00-X","Distillates (petroleum), hydrotreated middle; Gasoil - unspecified; [A complex combination of hydrocarbons obtained by treating a petroleum fraction with hydrogen in the presence of a catalyst. It consists of hydrocarbons having carbon numbers predominantly in the range of C11 through C25 and boiling in the range of approximately 205 °C to 400 °C (401 °F to 752 °F).]","H350"]
[null,"64742-79-6","265-182-8","649-222-00-5","Gas oils (petroleum), hydrodesulfurized; Gasoil - unspecified; [A complex combination of hydrocarbons obtained from a petroleum stock by treating with hydrogen to convert organic sulfur to hydrogen sulfide which is removed. It consists predominantly of hydrocarbons having carbon numbers predominantly in the range of C13 through C25 and boiling in the range of approximately 230 °C to 400 °C (446 °F to 752 °F).]","H350"]
[null,"64742-80-9","265-183-3","649-223-00-0","Distillates (petroleum), hydrodesulfurized middle; Gasoil - unspecified; [A complex combination of hydrocarbons obtained from a petroleum stock by treating with hydrogen to convert organic sulfur to hydrogen sulfide which is removed. It consists of hydrocarbons having carbon numbers predominantly in the range of C11 through C25 and boiling in the range of approximately 205 °C to 400 °C (401 °F to 752 °F).]","H350"]
[null,"68477-29-2","270-719-4","649-228-00-8","Distillates (petroleum), catalytic reformer fractionator residue, high-boiling; Gasoil - unspecified; [A complex combination of hydrocarbons from the distillation of catalytic reformer fracftionator residue. It boils in the range of approximately 343 °C to 399 °C (650 °F to 750 °F).]","H350"]
[null,"68477-30-5","270-721-5","649-229-00-3","Distillates (petroleum), catalytic reformer fractionator residue, intermediate-boiling; Gasoil - unspecified; [A complex combination of hydrocarbons from the distillation of catalytic reformer fractionator residue. It boils in the range of approximately 288 °C to 371 °C (550 °F to 700 °F).]","H350"]
[null,"68477-31-6","270-722-0","649-230-00-9","Distillates (petroleum), catalytic reformer fractionator residue, low-boiling; Gasoil - unspecified; [The complex combination of hydrocarbons from the distillation of catalytic reformer fractionator residue. It boils approximately below 288 °C (550 °F).]","H350"]
[null,"90640-93-0","292-615-8","649-231-00-4","Distillates (petroleum), highly refined middle; Gasoil - unspecified; [A complex combination of hydrocarbons obtained by the subjection of a petroleum fraction to several of the following steps: filtration, centrifugation, atmospheric distillation, vacuum distillation, acidification, neutralization and clay treatment. It consists predominantly of hydrocarbons having carbon numbers predominantly in the range of C10 through C20.]","H350"]
[null,"91995-34-5","295-294-2","649-232-00-X","Distillates (petroleum) catalytic reformer, heavy arom. conc.; Gasoil - unspecified; [A complex combination of hydrocarbons obtained from the distillation of a catalytically reformed petroleum cut. It consists predominantly of aromatic hydrocarbons having carbon numbers predominantly in the range of C10 through C16 and boiling in the range of approximately 200 °C to 300 °C (392 °F to 572 °F).]","H350"]
[null,"93924-33-5","300-227-8","649-233-00-5","Gas oils, paraffinic; Gasoil - unspecified; [A distillate obtained from the redistillation of a complex combination of hydrocarbons obtained by the distillation of the effluents from a severe catalytic hydrotreatment of paraffins. It boils in the range of approximately 190 °C to 330 °C (374 °F to 594 °F).]","H350"]
[null,"97488-96-5","307-035-3","649-234-00-0","Naphtha (petroleum), solvent-refined hydrodesulfurized heavy; Gasoil - unspecified","H350"]
[null,"97675-85-9","307-659-6","649-235-00-6","Hydrocarbons, C16-20, hydrotreated middle distillate, distn. lights; Gasoil - unspecified; [A complex combination of hydrocarbons obtained as first runnings from the vacuum distillation of effluents from the treatment of a middle distillate with hydrogen. It consists predominantly of hydrocarbons having carbon numbers predominantly in the range of C16 through C20 and boiling in the range of approximately 290 °C to 350 °C (554 °F to 662 °F). It produces a finished oil having a viscosity of 2cSt at 100 °C (212 °F).]","H350"]
[null,"97675-86-0","307-660-1","649-236-00-1","Hydrocarbons, C12-20, hydrotreated paraffinic, distn. lights; Gasoil - unspecified; [A complex combination of hydrocarbons obtained as first runnings from the vacuum distillation of effluents from the treatment of heavy paraffins with hydrogen in the presence of a catalyst. It consists predominantly of hydrocarbons having carbon numbers predominantly in the range of C12 through C20 and boiling in the range of approximately 230 °C to 350 °C (446 °F to 662 °F). It produces a finished oil having a viscosity of 2cSt at 100 °C (212 °F).]","H350"]
[null,"97722-08-2","307-757-9","649-237-00-7","Hydrocarbons, C11-17, solvent-extd. light naphthenic; Gasoil - unspecified; [A complex combination of hydrocarbons obtained by extraction of the aromatics from a light naphthenic distillate having a visciosity of 2.2 cSt at 40 °C (104 °F). It consists predominantly of hydrocarbons having carbon numbers predominantly in the range of C11 through C17 and boiling in the range of approximately 200 °C to 300 °C (392 °F to 572 °F).]","H350"]
[null,"97862-78-7","308-128-1","649-238-00-2","Gas oils, hydrotreated; Gasoil - unspecified; [A complex combination of hydrocarbons obtained from the redistillation of the effluents from the treatment of paraffins with hydrogen in the presence of a catalyst. It consists predominantly of hydrocarbons having carbon numbers predominantly in the range of C17 through C27 and boiling in the range of approximately 330 °C to 340 °C (626 °F to 644 °F).]","H350"]
[null,"100683-97-4","309-667-5","649-239-00-8","Distillates (petroleum), carbon-treated light paraffinic; Gasoil - unspecified; [A complex combination of hydrocarbons obtained by the treatment of a petroleum oil fraction with activated charcoal for the removal of traces of polar constituents and impurities. It consists predominantly of hydrocarbons having carbon numbers predominantly in the range of C12 through C28.]","H350"]
[null,"100683-98-5","309-668-0","649-240-00-3","Distillates (petroleum), intermediate paraffinic, carbon-treated; Gasoil - unspecified; [A complex combination of hydrocarbons obtained by the treatment of petroleum with activated charcoal for the removal of trace polar constituents and impurities. It consists predominantly of hydrocarbons having carbon numbers predominantly in the range of C16 through C36.]","H350"]
[null,"100683-99-6","309-669-6","649-241-00-9","Distillates (petroleum), intermediate paraffinic, clay-treated; Gasoil - unspecified; [A complex combination of hydrocarbons obtained by the treatment of petroleum with bleaching earth for the removal of trace polar constituents and impurities. It consists predominantly of hydrocarbons having carbon numbers predominantly in the range of C16 through C36.]","H350"]
[null,"90622-53-0","292-454-3","649-242-00-4","Alkanes, C12-26-branched and linear","H350"]
[null,"74869-21-9","278-011-7","649-243-00-X","Lubricating greases; Grease; [A complex combination of hydrocarbons having carbon numbers predominantly in the range of C12 through C50. May contain organic salts of alkali metals, alkaline earth metals, and/or aluminium compounds.]","H350"]
[null,"64742-61-6","265-165-5","649-244-00-5","Slack wax (petroleum); Slack wax; [A complex combination of hydrocarbons obtained from a petroleum fraction by solvent crystallization (solvent dewaxing) or as a distillation fraction from a very waxy crude. It consists predominantly of saturated straight and branched chain hydrocarbons having carbon numbers predominantly greater than C20.]","H350"]
[null,"90669-77-5","292-659-8","649-245-00-0","Slack wax (petroleum), acid-treated; Slack wax; [A complex combination of hydrocarbons obtained as a raffinate by treatment of a petroleum slack wax fraction with sulfuric acid treating process. It consists predominantly of saturated straight and branched chain hydrocarbons having carbon numbers predominantly greater than C20.]","H350"]
[null,"90669-78-6","292-660-3","649-246-00-6","Slack wax (petroleum), clay-treated; Slack wax; [A complex combination of hydrocarbons obtained by treatment of a petroleum slack wax fraction with natural or modified clay in either a contacting or percolation process. It consists predominantly of saturated straight and branched hydrocarbons having carbon numbers predominantly greater than C20.]","H350"]
[null,"92062-09-4","295-523-6","649-247-00-1","Slack wax (petroleum), hydrotreated; Slack wax; [A complex combination of hydrocarbons obtained by treating slack wax with hydrogen in the presence of a catalyst. It consists predominantly of saturated straight and branched chain hydrocarbons having carbon numbers predominantly greater than C20.]","H350"]
[null,"92062-10-7","295-524-1","649-248-00-7","Slack wax (petroleum), low-melting; Slack wax; [A complex combination of hydrocarbons obtained from a petroleum fraction by solvent deparaffination. It consists predominantly of saturated straight and branched chain hydrocarbons having carbon numbers predominantly greater than C12.]","H350"]
[null,"92062-11-8","295-525-7","649-249-00-2","Slack wax (petroleum), low-melting, hydrotreated; Slack wax; [A complex combination of hydrocarbons obtained by treatment of low-melting petroleum slack wax with hydrogen in the presence of a catalyst. It consists predominantly of saturated straight and branched chain hydrocarbons having carbon numbers predominantly greater than C12.]","H350"]
[null,"97863-04-2","308-155-9","649-250-00-8","Slack wax (petroleum), low-melting, carbon-treated; Slack wax; [A complex combination of hydrocarbons obtained by the treatment of low-melting slack wax with activated carbon for the removal of trace polar constituents and impurities. It consists predominantly of saturated straight and branched chain hydrocarbons having carbon numbers predominantly greater than C12.]","H350"]
[null,"97863-05-3","308-156-4","649-251-00-3","Slack wax (petroleum), low-melting, clay-treated; Slack wax; [A complex combination of hydrocarbons obtained by the treatment of low-melting petroleum slack wax with bentonite for removal of trace polar constituents and impurities. It consists predominantly of saturated straight and branched chain hydrocarbons having carbon numbers predominantly greater than C12.]","H350"]
[null,"97863-06-4","308-158-5","649-252-00-9","Slack wax (petroleum), low-melting, silicic acid-treated; Slack wax; [A complex combination of hydrocarbons obtained by the treatment of low-melting petroleum slack wax with silicic acid for the removal of trace polar constituents and impurities. It consists predominantly of saturated straight and branched chain hydrocarbons having carbon numbers predominantly greater than C12.]","H350"]
[null,"100684-49-9","309-723-9","649-253-00-4","Slack wax (petroleum), carbon-treated; Slack wax; [A complex combination of hydrocarbons obtained by treatment of petroleum slack wax with activated charcoal for the removal of trace polar constituents and impurities.]","H350"]
[null,"8009-03-8","232-373-2","649-254-00-X","Petrolatum; Petrolatum; [A complex combination of hydrocarbons obtained as a semi-solid from dewaxing paraffinic residual oil. It consists predominantly of saturated crystalline and liquid hydrocarbons having carbon numbers predominantly greater than C25.]","H350"]
[null,"64743-01-7","265-206-7","649-255-00-5","Petrolatum (petroleum), oxidized; Petrolatum; [A complex combination of organic compounds, predominantly high molecular weight carboxylic acids, obtained by the air oxidation of petrolatum.]","H350"]
[null,"85029-74-9","285-098-5","649-256-00-0","Petrolatum (petroleum), alumina-treated; Petrolatum; [A complex combination of hydrocarbons obtained when petrolatum is treated with Al2O3 to remove polar components and impurities. It consists predominantly of saturated, crystalline, and liquid hydrocarbons having carbon numbers predominantly greater than C25.]","H350"]
[null,"92045-77-7","295-459-9","649-257-00-6","Petrolatum (petroleum), hydrotreated; Petrolatum; [A complex combination of hydrocarbons obtained as a semi-solid from dewaxed paraffinic residual oil treated with hydrogen in the presence of a catalyst. It consists predominantly of saturated microcrystalline and liquid hydrocarbons having carbon numbers predominantly greater than C20.]","H350"]
[null,"97862-97-0","308-149-6","649-258-00-1","Petrolatum (petroleum), carbon-treated; Petrolatum; [A complex combination of hydrocarbons obtained by the treatment of petroleum petrolatum with activated carbon for the removal of trace polar constituents and impurities. It consists predominantly of saturated hydrocarbons having carbon numbers predominantly greater than C20.]","H350"]
[null,"97862-98-1","308-150-1","649-259-00-7","Petrolatum (petroleum), silicic acid-treated; Petrolatum; [A complex combination of hydrocarbons obtained by the treatment of petroleum petrolatum with silicic acid for the removal of trace polar constituents and impurities. It consists predominantly of saturated hydrocarbons having carbon numbers predominantly greater than C20.]","H350"]
[null,"100684-33-1","309-706-6","649-260-00-2","Petrolatum (petroleum), clay-treated; Petrolatum; [A complex combination of hydrocarbons obtained by treatment of petrolatum with bleaching earth for the removal of traces of polar constituents and impurities. It consists predominantly of hydrocarbons having carbon numbers predominantly in the range of greater than C25.]","H350"]
[null,"8006-61-9","232-349-1","649-261-00-8","Gasoline, natural; Low boiling point naphtha; [A complex combination of hydrocarbons separated from natural gas by processes such as refrigeration or absorption.  It consists predominantly of saturated aliphatic hydrocarbons having carbon numbers predominantly in the range of C4 through C8 and boiling in the range of approximately minus 20°C to 120°C (-4°F to 248°F).]","H350 H340"]
[null,"8030-30-6","232-443-2","649-262-00-3","Naphtha; Low boiling point naphtha; [Refined, partly refined, or unrefined petroleum products produced by the distillation of natural gas.  It consists of hydrocarbons having carbon numbers predominantly in the range of C5 through C6 and boiling in the range of approximately 100°C to 200°C (212°F to 392°F).]","H350 H340"]
[null,"8032-32-4","232-453-7","649-263-00-9","Ligroine; Low boiling point naphtha; [A complex combination of hydrocarbons obtained by the fractional distillation of petroleum.  This fraction boils in a range of approximately 20°C to 135°C (58°F to 275°F).]","H350 H340"]
[null,"64741-41-9","265-041-0","649-264-00-4","Naphtha (petroleum), heavy straight-run; Low boiling point naphtha; [A complex combination of hydrocarbons produced by distillation of crude oil.  It consists of hydrocarbons having carbon numbers predominantly in the range of C6 through C12 and boiling in the range of approximately 65°C to 230°C (149°F to 446°F).]","H350 H340"]
[null,"64741-42-0","265-042-6","649-265-00-X","Naphtha (petroleum), full-range straight-run; Low boiling point naphtha; [A complex combination of hydrocarbons produced by distillation of crude oil.  It consists of hydrocarbons having carbon numbers predominantly in the range of C4 through C11 and boiling in the range of approximately -20°C to 220°C (-4°F to 428°F).]","H350 H340"]
[null,"64741-46-4","265-046-8","649-266-00-5","Naphtha (petroleum), light straight-run; Low boiling point naphtha; [A complex combination of hydrocarbons produced by distillation of crude oil.  It consists predominantly of aliphatic hydrocarbons having carbon numbers predominantly in the range of C4 through C10 and boiling in the range of approximately -20°C to 180°C (-4°F to 356°F).]","H350 H340"]
[null,"64742-89-8","265-192-2","649-267-00-0","Solvent naphtha (petroleum), light aliph.; Low boiling point naphtha; [A complex combination of hydrocarbons obtained from the distillation of crude oil or natural gasoline.  It consists predominantly of saturated hydrocarbons having carbon numbers predominantly in the range of C5 through C10 and boiling in the range of approximately 35°C to 160°C (95°F to 320°F).]","H350 H340"]
[null,"68410-05-9","270-077-5","649-268-00-6","Distillates (petroleum), straight-run light; Low boiling point naphtha; [A complex combination of hydrocarbons produced by the distillation of crude oil.  It consists of hydrocarbons having carbon numbers predominantly in the range of C2 through C7 and boiling in the range of approximately -88°C to 99°C (-127°F to 210°F).]","H350 H340"]
[null,"68514-15-8","271-025-4","649-269-00-1","Gasoline, vapor-recovery; Low boiling point naphtha; [A complex combination of hydrocarbons separated from the gases from vapor recovery systems by cooling.  It consists of hydrocarbons having carbon numbers predominantly in the range of C4 through C11 and boiling in the range of approximately -20°C to 196°C(-4°F to 384°F).]","H350 H340"]
[null,"68606-11-1","271-727-0","649-270-00-7","Gasoline, straight-run, topping-plant; Low boiling point naphtha; [A complex combination of hydrocarbons produced from the topping plant by the distillation of crude oil.  It boils in the range of approximately 36.1°C to 193.3°C (97°F to 380°F).]","H350 H340"]
[null,"68783-12-0","272-186-3","649-271-00-2","Naphtha (petroleum), unsweetened; Low boiling point naphtha; [A complex combination of hydrocarbons produced from the distillation of naphtha streams from various refinery processes.  It consists of hydrocarbons having carbon numbers predominantly in the range of C5 through C12 and boiling in the range of approximately 0°C to 230°C (25°F to 446°F).]","H350 H340"]
[null,"68921-08-4","272-931-2","649-272-00-8","Distillates (petroleum), light straight-run gasoline fractionation stabilizer overheads; Low boiling point naphtha; [A complex combination of hydrocarbons obtained by the fractionation of light straight-run gasoline.  It consists of saturated aliphatic hydrocarbons having carbon numbers predominantly in the range of C3 through C6.]","H350 H340"]
[null,"101631-20-3","309-945-6","649-273-00-3","Naphtha (petroleum), heavy straight run, arom.-contg.; Low boiling point naphtha; [A complex combination of hydrocarbons obtained from a distillation process of crude petroleum.  It consists predominantly of hydrocarbons having carbon numbers in the range of C8 through C12 and boiling in the range of approximately 130°C to 210°C (266°F to 410°F).]","H350 H340"]
[null,"64741-64-6","265-066-7","649-274-00-9","Naphtha (petroleum), full-range alkylate; Low boiling point modified naphtha; [A complex combination of hydrocarbons produced by distillation of the reaction products of isobutane with monoolefinic hydrocarbons usually ranging in carbon numbers from C3 through C5  It consists of predominantly branched chain saturated hydrocarbons having carbon numbers predominantly in the range of C7 through C12 and boiling in the range of approximately 90°C to 220°C (194°F to 428°F).]","H350 H340"]
[null,"64741-65-7","265-067-2","649-275-00-4","Naphtha (petroleum), heavy alkylate; Low boiling point modified naphtha; [A complex combination of hydrocarbons produced by distillation of the reaction products of isobutane with monoolefinic hydrocarbons usually ranging in carbon numbers from C3 to C5.  It consists of predominantly branched chain saturated hydrocarbons having carbon numbers predominantly in the range of C9 through C12 and boiling in the range of approximately 150°C to 220°C (302°F to 428°F).]","H350 H340"]
[null,"64741-66-8","265-068-8","649-276-00-X","Naphtha (petroleum), light alkylate; Low boiling point modified naphtha; [A complex combination of hydrocarbons produced by distillation of the reaction products of isobutane with monoolefinic hydrocarbons usually ranging in carbon numbers from C3 through C5.  It consists of predominantly branched chain saturated hydrocarbons having carbon numbers predominantly in the range of C7 through C10 and boiling in the range of approximately 90°C to 160°C (194°F to 320°F).]","H350 H340"]
[null,"64741-70-4","265-073-5","649-277-00-5","Naphtha (petroleum), isomerization; Low boiling point modified naphtha; [A complex combination of hydrocarbons obtained from catalytic isomerization of straight chain paraffinic C4 through C6 hydrocarbons.  It consists predominantly of saturated hydrocarbons such as isobutane, isopentane, 2,2-dimethylbutane, 2-methylpentane, and 3-methylpentane.]","H350 H340"]
[null,"64741-84-0","265-086-6","649-278-00-0","Naphtha (petroleum), solvent-refined light; Low boiling point modified naphtha; [A complex combination of hydrocarbons obtained as the raffinate from a solvent extraction process.  It consists predominantly of aliphatic hydrocarbons having carbon numbers predominantly in the range of C5 through C11 and boiling in the range of approximately 35°C to 190°C (95°F to 374°F).]","H350 H340"]
[null,"64741-92-0","265-095-5","649-279-00-6","Naphtha (petroleum), solvent-refined heavy; Low boiling point modified naphtha; [A complex combination of hydrocarbons obtained as the raffinate from a solvent extraction process.  It consists predominantly of aliphatic hydrocarbons having carbon numbers predominantly in the range of C7 through C12 and boiling in the range of approximately 90°C to 230°C (194°F to 446°F).]","H350 H340"]
[null,"68410-71-9","270-088-5","649-280-00-1","Raffinates (petroleum), catalytic reformer ethylene glycol-water countercurrent exts.; Low boiling point modified naphtha; [A complex combination of hydrocarbons obtained as the raffinate from the UDEX extraction process on the catalytic reformer stream.  It consists of saturated hydrocarbons having carbon numbers predominantly in the range of C6 through C9.]","H350 H340"]
[null,"68425-35-4","270-349-3","649-281-00-7","Raffinates (petroleum), reformer, Lurgi unit-sepd.; Low boiling point modified naphtha; [The complex combination of hydrocarbons obtained as a raffinate from a Lurgi separation unit.  It consists predominantly of non-aromatic hydrocarbons with various small amounts of aromatic hydrocarbons having carbon numbers predominantly in the range of C6 through C8.]","H350 H340"]
[null,"68527-27-5","271-267-0","649-282-00-2","Naphtha (petroleum), full-range alkylate, butane-contg.; Low boiling point modified naphta; [A complex combination of hydrocarbons produced by the distillation of the reaction products of isobutane with monoolefinic hydrocarbons usually ranging in carbon numbers from C3 through C5.  It consists of predominantly branched chain saturated hydrocarbons having carbon numbers predominantly in the range of C7 through C12 with some butanes and boiling in the range of approximately 35°C to 200°C (95°F to 428°F).]","H350 H340"]
[null,"91995-53-8","295-315-5","649-283-00-8","Distillates (petroleum), naphtha steam cracking-derived, solvent-refined light hydrotreated; Low boiling point modified naphtha; [A complex combination of hydrocarbons obtained as the raffinates from a solvent extraction process of hydrotreated light distillate from steam-cracked naphtha.]","H350 H340"]
[null,"92045-49-3","295-430-0","649-284-00-3","Naphtha (petroleum), C4-12, butane-alkylate, isooctane-rich; Low boiling point modified naphtha; [A complex combination of hydrocarbons obtained by alkylation of butanes.  It consists predominantly of hydrocarbons having carbon numbers predominantly in the range of C4 through C12, rich in isooctane, and boiling in the range of approximately 35°C to 210°C (95°F to 410°F).]","H350 H340"]
[null,"92045-55-1","295-436-3","649-285-00-9","Hydrocarbons, hydrotreated light naphtha distillates, solvent-refined; Low boiling point modified naphtha; [A combination of hydrocarbons obtained from the distillation of hydrotreated naphtha followed by a solvent extraction and distillation process.  It consists predominantly of saturated hydrocarbons boiling in the range of approximately 94°C to 99°C (201°F to 210°F).]","H350 H340"]
[null,"92045-58-4","295-440-5","649-286-00-4","Naphtha (petroleum), isomerization, C6-fraction; Low boiling point modified naphtha; [A complex combination of hydrocarbons obtained by distillation of a gasoline which has been catalytically isomerized.  It consists predominantly of hexane isomers boiling in the range of approximately 60°C to 66°C (140°F to 151°F).]","H350 H340"]
[null,"92045-64-2","295-446-8","649-287-00-X","Hydrocarbons, C6-7, naphtha-cracking, solvent-refined; Low boiling point modified naphtha; [A complex combination of hydrocarbons obtained by the sorption of benzene from a catalytically fully hydrogenated benzene-rich hydrocarbon cut that was distillatively obtained from prehydrogenated cracked naphtha.  It consists predominantly of paraffinic and naphthenic hydrocarbons having carbon numbers predominantly in the range of C6 through C7 and boiling in the range of approximately 70°C to 100°C (158°F to 212°F).]","H350 H340"]
[null,"101316-67-0","309-871-4","649-288-00-5","Hydrocarbons, C6-rich, hydrotreated light naphtha distillates, solvent-refined; Low boiling point modified naphtha; [A complex combination of hydrocarbons obtained by distillation of hydrotreated naphtha followed by solvent extraction.  It consists predominantly of saturated hydrocarbons and boiling in the range of approximately 65°C to 70°C (149°F to 158°F).]","H350 H340"]
[null,"64741-54-4","265-055-7","649-289-00-0","Naphtha (petroleum), heavy catalytic cracked; Low boiling point cat-cracked naphtha; [A complex combination of hydrocarbons produced by a distillation of products from a catalytic cracking process.  It consists of hydrocarbons having carbon numbers predominantly in the range of C6 through C12 and boiling in the range of approximately 65°C to 230°C (148°F to 446°F).  It contains a relatively large proportion of unsaturated hydrocarbons.]","H350 H340"]
[null,"64741-55-5","265-056-2","649-290-00-6","Naphtha (petroleum), light catalytic cracked; Low boiling point cat-cracked naphtha; [A complex combination of hydrocarbons produced by the distillation of products from a catalytic cracking process.  It consists of hydrocarbons having carbon numbers predominantly in the range of C4 through C11 and boiling in the range of approximately -20°C to 190°C (-4°F to 374°F).  It contains a relatively large proportion of unsaturated hydrocarbons.]","H350 H340"]
[null,"68476-46-0","270-686-6","649-291-00-1","Hydrocarbons, C3-11, catalytic cracker distillates; Low boiling point cat-cracked naphtha; [A complex combination of hydrocarbons produced by the distillations of products from a catalytic cracking process.  It consists of hydrocarbons having carbon numbers predominantly in the range of C3 through C11 and boiling in a range approximately up to 204°C (400°F).]","H350 H340"]
[null,"68783-09-5","272-185-8","649-292-00-7","Naphtha (petroleum), catalytic cracked light distd.; Low boiling point cat-cracked naphtha; [A complex combination of hydrocarbons produced by the distillation of products from a catalytic cracking process.  It consists of hydrocarbons having carbon numbers predominantly in the range of C1 through C5.]","H350 H340"]
[null,"91995-50-5","295-311-3","649-293-00-2","Distillates (petroleum), naphtha steam cracking-derived, hydrotreated light arom.; Low boiling point cat-cracked naphtha.; [A complex combination of hydrocarbons obtained by treating a light distillate from steam-cracked naphtha.  It consists predominantly of aromatic hydrocarbons.]","H350 H340"]
[null,"92045-50-6","295-431-6","649-294-00-8","Naphtha (petroleum), heavy catalytic cracked, sweetened; Low boiling point cat-cracked naphtha; [A complex combination of hydrocarbons obtained by subjecting a catalytic cracked petroleum distillate to a sweetening process to convert mercaptans or to remove acidic impurities.  It consists predominantly of hydrocarbons having carbon numbers predominantly in the range of C6 through C12 and boiling in the range of approximately 60°C to 200°C (140°F to 392°F).]","H350 H340"]
[null,"92045-59-5","295-441-0","649-295-00-3","Naphtha (petroleum), light catalytic cracked sweetened; Low boiling point cat-cracked naphtha; [A complex combination of hydrocarbons obtained by subjecting naphtha from a catalytic cracking process to a sweetening process to convert mercaptans or to remove acidic impurities.  It consists predominantly of hydrocarbons boiling in a range of approximately 35°C to 210°C (95°F to 410°F).]","H350 H340"]
[null,"92128-94-4","295-794-0","649-296-00-9","Hydrocarbons, C8-12, catalytic-cracking, chem. neutralized; Low boiling point cat-cracked naphtha; [A complex combination of hydrocarbons produced by the distillation of a cut from the catalytic cracking process, having undergone an alkaline washing.  It consists predominantly of hydrocarbons having carbon numbers in the range of C8 through C12 and boiling in the range of approximately 130°C to 210°C (266°F to 410°F).]","H350 H340"]
[null,"101794-97-2","309-974-4","649-297-00-4","Hydrocarbons, C8-12, catalytic cracker distillates; Low boiling point cat-cracked naphtha; [A complex combination of hydrocarbons obtained by distillation of products from a catalytic cracking process. It consists predominantly of hydrocarbons having carbon numbers predominantly in the range of C8 through C12 and boiling in the range of approximately 140°C to 210°C (284°F to 410°F).]","H350 H340"]
[null,"101896-28-0","309-987-5","649-298-00-X","Hydrocarbons, C8-12, catalytic cracking, chem. neutralized, sweetened; Low boiling point cat-cracked naphtha","H350 H340"]
[null,"64741-63-5","265-065-1","649-299-00-5","Naphtha (petroleum), light catalytic reformed; Low boiling point cat-reformed naphtha; [A complex combination of hydrocarbons produced from the distillation of products from a catalytic reforming process.  It consists of hydrocarbons having carbon numbers predominantly in the range of C5 through C11 and boiling in the range of approximately 35°C to 190°C (95°F to 374°F).  It contains a relatively large proportion of aromatic and branched chain hydrocarbons.  This stream may contain 10 vol. % or more benzene.]","H350 H340"]
[null,"64741-68-0","265-070-9","649-300-00-9","Naphtha (petroleum), heavy catalytic reformed; Low boiling point cat-reformed naphtha; [A complex combination of hydrocarbons produced from the distillation of products from a catalytic reforming process.  It consists of predominantly aromatic hydrocarbons having carbon numbers predominantly in the range of C7 through C12 and boiling in the range of approximately 90°C to 230°C (194°F to 446°F).]","H350 H340"]
[null,"68475-79-6","270-660-4","649-301-00-4","Distillates (petroleum), catalytic reformed depentanizer; Low boiling point cat-reformed naphtha; [A complex combination of hydrocarbons from the distillation of products from a catalytic reforming process.  It consists predominantly of aliphatic hydrocarbons having carbon numbers predominantly in the range of C3 through C6 and boiling in the range of approximately -49°C to 63°C (-57°F to 145°F).]","H350 H340"]
[null,"68476-47-1","270-687-1","649-302-00-X","Hydrocarbons, C2-6, C6-8 catalytic reformer; Low boiling point cat-reformed naphtha","H350 H340"]
[null,"68478-15-9","270-794-3","649-303-00-5","Residues (petroleum), C6-8 catalytic reformer; Low boiling point cat-reformed naphtha; [A complex residuum from the catalytic reforming of C6-8 feed.  It consists of hydrocarbons having carbon numbers predominantly in the range of C2 through C6.]","H350 H340"]
[null,"68513-03-1","270-993-5","649-304-00-0","Naphtha (petroleum), light catalytic reformed, arom.-free; Low boiling point cat-reformed naphtha; [A complex combination of hydrocarbons obtained from distillation of products from a catalytic reforming process.  It consists predominantly of hydrocarbons having carbon numbers predominantly in the range of C5 through C8 and boiling in the range of approximately 35°C to 120°C (95°F to 248°F).  It contains a relatively large proportion of branched chain hydrocarbons with the aromatic components removed.]","H350 H340"]
[null,"68513-63-3","271-008-1","649-305-00-6","Distillates (petroleum), catalytic reformed straight-run naphtha overheads; Low boiling point cat-reformed naphtha; [A complex combination of hydrocarbons obtained by the catalytic reforming of straight-run naphtha followed by the fractionation of the total effluent.  It consists of saturated aliphatic hydrocarbons having carbon numbers predominantly in the range of C2 through C6.]","H350 H340"]
[null,"68514-79-4","271-058-4","649-306-00-1","Petroleum products, hydrofiner-powerformer reformates; Low boiling point cat-reformed naphtha; [The complex combination of hydrocarbons obtained in a hydrofiner-powerformer process and boiling in a range of approximately 27°C to 210°C (80°F to 410°F).]","H350 H340"]
[null,"68919-37-9","272-895-8","649-307-00-7","Naphtha (petroleum), full-range reformed; Low boiling point cat-reformed naphtha; [A complex combination of hydrocarbons produced by the distillation of the products from a catalytic reforming process.  It consists of hydrocarbons having carbon numbers predominantly in the range of C5 through C12 and boiling in the range of approximately 35°C to 230°C (95°F to 446°F).]","H350 H340"]
[null,"68955-35-1","273-271-8","649-308-00-2","Naphtha (petroleum), catalytic reformed; Low boiling point cat-reformed naphtha; [A complex combination of hydrocarbons produced by the distillation of products from a catalytic reforming process.  It consists of hydrocarbons having carbon numbers predominantly in the range of C4 through C12 and boiling in the range of approximately 30°C to 220°C (90°F to 430°F).  It contains a relatively large proportion of aromatic and branched chain hydrocarbons.  This stream may contain 10 vol. % or more benzene.]","H350 H340"]
[null,"85116-58-1","285-509-8","649-309-00-8","Distillates (petroleum), catalytic reformed hydrotreated light, C8-12 arom. fraction; Low boiling point cat-reformed naphtha; [A complex combination of alkylbenzenes obtained by the catalytic reforming of petroleum naphtha.  It consists predominantly of alkylbenzenes having carbon numbers predominantly in the range of C8 through C10 and boiling in the range of approximately 160°C to 180°C (320°F to 356°F).]","H350 H340"]
[null,"91995-18-5","295-279-0","649-310-00-3","Aromatic hydrocarbons, C8, catalytic reforming-derived; Low boiling point cat-reformed naphtha","H350 H340"]
[null,"93571-75-6","297-401-8","649-311-00-9","Aromatic hydrocarbons, C7-12, C8-rich; Low boiling point cat-reformed naphtha; [A complex combination of hydrocarbons obtained by separation from the platformate-containing fraction.  It consists predominantly of aromatic hydrocarbons having carbon numbers predominantly in the range of C7 through C12 (primarily C8) and can contain nonaromatic hydrocarbons, both boiling in the range of approximately 130°C to 200°C (266°F to 392°F).]","H350 H340"]
[null,"93572-29-3","297-458-9","649-312-00-4","Gasoline, C5-11, high-octane stabilised reformed; Low boiling point cat-reformed naphtha; [A complex high octane combination of hydrocarbons obtained by the catalytic dehydrogenation of a predominantly naphthenic naphtha.  It consists predominantly of aromatics and non-aromatics having carbon numbers predominantly in the range of C5 through C11 and boiling in the range of approximately 45°C to 185°C (113°F to 365°F).]","H350 H340"]
[null,"93572-35-1","297-465-7","649-313-00-X","Hydrocarbons, C7-12, C≥9-arom.-rich, reforming heavy fraction; Low boiling point cat-reformed naphtha; [A complex combination of hydrocarbons obtained by separation from the platformate-containing fraction.  It consists predominantly of nonaromatic hydrocarbons having carbon numbers predominantly in the range of C7 through C12 and boiling in the range of approximately 120°C to 210°C (248°F to 380°F) and C9 and higher aromatic hydrocarbons.]","H350 H340"]
[null,"93572-36-2","297-466-2","649-314-00-5","Hydrocarbons, C5-11, nonaroms.-rich, reforming light fraction; Low boiling point cat-reformed naphtha; [A complex combination of hydrocarbons obtained by separation from the platformate-containing fraction.  It consists predominantly of nonaromatic hydrocarbons having carbon numbers predominantly in the range of C5 through C11 and boiling in the range of approximately 35°C to 125°C (94°F to 257°F), benzene and toluene.]","H350 H340"]
[null,"97862-77-6","308-127-6","649-315-00-0","Foots oil (petroleum), silicic acid-treated; Foots oil; [A complex combination of hydrocarbons obtained by the treatment of Foots oil with silicic acid for removal of trace constituents and impurities. It consists predominantly of straight chain hydrocarbons having carbon numbers predominantly greater than C12.]","H350"]
[null,"64741-74-8","265-075-6","649-316-00-6","Naphtha (petroleum), light thermal cracked; Low boiling point thermally cracked naphtha; [A complex combination of hydrocarbons from distillation of products from a thermal cracking process.  It consists predominantly of unsaturated hydrocarbons having carbon numbers predominantly in the range of C4 through C8 and boiling in the range of approximately -10 °C to 130 °C (14 °F to 266 °F).]","H350 H340"]
[null,"64741-83-9","265-085-0","649-317-00-1","Naphtha (petroleum), heavy thermal cracked; Low boiling point thermally cracked naphtha; [A complex combination of hydrocarbons from distillation of the products from a thermal cracking process.  It consists predominantly of unsaturated hydrocarbons having carbon numbers predominantly in the range of C6 through C12 and boiling in the range of approximately 65°C to 220°C (148°F to 428°F).]","H350 H340"]
[null,"67891-79-6","267-563-4","649-318-00-7","Distillates (petroleum), heavy arom.; Low boiling point thermally cracked naphtha; [The complex combination of hydrocarbons from the distillation of the products from the thermal cracking of ethane and propane.  This higher boiling fraction consists predominantly of C5-7 aromatic hydrocarbons with some unsaturated aliphatic hydrocarbons having carbon number predominantly of C5.  This stream may contain benzene.]","H350 H340"]
[null,"67891-80-9","267-565-5","649-319-00-2","Distillates (petroleum), light arom.; Low boiling point thermally cracked naphtha; [The complex combination of hydrocarbons from the distillation of the products from the thermal cracking of ethane and propane.  This lower boiling fraction consists predominantly of C5-7 aromatic hydrocarbons with some unsaturated aliphatic hydrocarbons having a carbon number predominantly of C5.  This stream may contain benzene.]","H350 H340"]
[null,"68425-29-6","270-344-6","649-320-00-8","Distillates (petroleum), naphtha-raffinate pyrolyzate-derived, gasoline-blending; Low boiling point thermally cracked naphtha; [The complex combination of hydrocarbons obtained by the pyrolysis fractionation at 816°C (1500°F) of naphtha and raffinate.  It consists predominantly of hydrocarbons having a carbon number of C9 and boiling at approximately 204°C (400°F).]","H350 H340"]
[null,"68475-70-7","270-658-3","649-321-00-3","Aromatic hydrocarbons, C6-8, naphtha-raffinate pyrolyzate-derived; Low boiling point thermally cracked naphtha; [A complex combination of hydrocarbons obtained by the fractionation pyrolysis at 816°C (1500°F) of naphtha and raffinate.  It consists predominantly of aromatic hydrocarbons having carbon numbers predominantly in the range of C6 through C8, including benzene.]","H350 H340"]
[null,"68603-00-9","271-631-9","649-322-00-9","Distillates (petroleum), thermal cracked naphtha and gas oil; Low boiling point thermally cracked naphtha; [A complex combination of hydrocarbons produced by distillation of thermally cracked naphtha and/or gas oil.  It consists predominantly of olefinic hydrocarbons having a carbon number of C5 and boiling in the range of approximately 33°C to 60°C (91°F to 140°F).]","H350 H340"]
[null,"68603-01-0","271-632-4","649-323-00-4","Distillates (petroleum), thermal cracked naphtha and gas oil, C5-dimer-contg.; Low boiling point thermally cracked naphtha; [A complex combination of hydrocarbons produced by the extractive distillation of thermal cracked naphtha and/or gas oil.  It consists predominantly of hydrocarbons having a carbon number of C5 with some dimerized C5 olefins and boiling in the range of approximately 33°C to 184°C (91°F to 363°F).]","H350 H340"]
[null,"68603-03-2","271-634-5","649-324-00-X","Distillates (petroleum), thermal cracked naphtha and gas oil, extractive; Low boiling point thermally cracked naphtha; [A complex combination of hydrocarbons produced by the extractive distillation of thermal cracked naphtha and/or gas oil.  It consists of paraffinic and olefinic hydrocarbons, predominantly isoamylenes such as 2-methyl-1-butene and 2-methyl-2-butene and boiling in the range of approximately 31°C to 40°C (88°F to 104°F).]","H350 H340"]
[null,"68955-29-3","273-266-0","649-325-00-5","Distillates (petroleum), light thermal cracked, debutanized arom.; Low boiling point thermally cracked naphtha; [A complex combination of hydrocarbons produced by the distillation of products from a thermal cracking process.  It consists predominantly of aromatic hydrocarbons, primarily benzene.]","H350 H340"]
[null,"92045-65-3","295-447-3","649-326-00-0","Naphtha (petroleum), light thermal cracked, sweetened; Low boiling point thermally cracked naphtha; [A complex combination of hydrocarbons obtained by subjecting a petroleum distillate from the high temperature thermal cracking of heavy oil fractions to a sweetening process to convert mercaptans.  It consists predominantly of aromatics, olefins and saturated hydrocarbons boiling in the range of approximately 20°C to 100°C (68°F to 212°F).]","H350 H340"]
[null,"64742-48-9","265-150-3","649-327-00-6","Naphtha (petroleum), hydrotreated heavy; Low boiling point hydrogen treated naphtha; [A complex combination of hydrocarbons obtained by treating a petroleum fraction with hydrogen in the presence of a catalyst.  It consists of hydrocarbons having carbon numbers predominantly in the range of C6 through C13 and boiling in the range of approximately 65°C to 230°C (149°F to 446°F).]","H350 H340"]
[null,"64742-49-0","265-151-9","649-328-00-1","Naphtha (petroleum), hydrotreated light; Low boiling point hydrogen treated naphtha; [A complex combination of hydrocarbons obtained by treating a petroleum fraction with hydrogen in the presence of a catalyst.  It consists of hydrocarbons having carbon numbers predominantly in the range of C4 through C11 and boiling in the range of approximately minus 20°C to 190°C (-4°F to 374°F).]","H350 H340"]
[null,"64742-73-0","265-178-6","649-329-00-7","Naphtha (petroleum), hydrodesulfurized light; Low boiling point hydrogen treated naphtha; [A complex combination of hydrocarbons obtained from a catalytic hydrodesulfurization process.  It consists of hydrocarbons having carbon numbers predominantly in the range of C4 through C11 and boiling in the range of approximately -20°C to 190°C (-4°F to 374°F).]","H350 H340"]
[null,"64742-82-1","265-185-4","649-330-00-2","naphtha (petroleum), hydrodesulphurized heavy; Low boiling point hydrogen treated naphtha; [A complex combination of hydrocarbons obtained from a catalytic hydrodesulfurization process. It consists of hydrocarbons having carbon numbers predominantly in the range of C7 through C12 and boiling in the range of approximately 90 °C to 230 °C (194 °F to 446 °F).]","H350 H340"]
[null,"68410-96-8","270-092-7","649-331-00-8","Distillates (petroleum), hydrotreated middle, intermediate boiling; Low boiling point hydrogen treated naphtha; [A complex combination of hydrocarbons obtained by the distillation of products from a middle distillate hydrotreating process.  It consists of hydrocarbons having carbon numbers predominantly in the range of C5 through C10 and boiling in the range of approximately 127°C to 188°C (262°F to 370°F).]","H350 H340"]
[null,"68410-97-9","270-093-2","649-332-00-3","Distillates (petroleum), light distillate hydrotreating process, low-boiling; Low boiling point hydrogen treated naphtha; [A complex combination of hydrocarbons obtained by the distillation of products from the light distillate hydrotreating process.  It consists of hydrocarbons having carbon numbers predominantly in the range of C6 through C9 and boiling in the range of approximately 3°C to 194°C (37°F to 382°F).]","H350 H340"]
[null,"68410-98-0","270-094-8","649-333-00-9","Distillates (petroleum), hydrotreated heavy naphtha, deisohexanizer overheads; Low boiling point hydrogen treated naphtha; [A complex combination of hydrocarbons obtained by distillation of the products from a heavy naphtha hydrotreating process.  It consists of hydrocarbons having carbon numbers predominantly in the range of C3 through C6 and boiling in the range of approximately -49°C to 68°C (-57°F to 155°F).]","H350 H340"]
[null,"68512-78-7","270-988-8","649-334-00-4","Solvent naphtha (petroleum), light arom., hydrotreated; Low boiling point hydrogen treated naphtha; [A complex combination of hydrocarbons obtained by treating a petroleum fraction with hydrogen in the presence of a catalyst.  It consists predominantly of aromatic hydrocarbons having carbon numbers predominantly in the range of C8 through C10 and boiling in the range of approximately 135°C to 210°C (275°F to 410°F).]","H350 H340"]
[null,"85116-60-5","285-511-9","649-335-00-X","Naphtha (petroleum), hydrodesulfurized thermal cracked light; Low boiling point hydrogen treated naphtha; [A complex combination of hydrocarbons obtained by fractionation of hydrodesulfurized thermal cracker distillate.  It consists predominantly of hydrocarbons having carbon numbers predominantly in the range of C5 to C11 and boiling in the range of approximately 23°C to 195°C (73°F to 383°F).]","H350 H340"]
[null,"85116-61-6","285-512-4","649-336-00-5","Naphtha (petroleum), hydrotreated light, cycloalkane-contg.; Low boiling point hydrogen treated naphtha; [A complex combination of hydrocarbons obtained from the distillation of a petroleum fraction.  It consists predominantly of alkanes and cycloalkanes boiling in the range of approximately -20°C to 190°C (-4°F to 374°F).]","H350 H340"]
[null,"92045-51-7","295-432-1","649-337-00-0","Naphtha (petroleum), heavy steam-cracked, hydrogenated; Low boiling point hydrogen treated naphtha","H350 H340"]
[null,"92045-52-8","295-433-7","649-338-00-6","Naphtha (petroleum), hydrodesulfurized full-range; Low boiling point hydrogen treated naphtha; [A complex combination of hydrocarbons obtained from a catalytic hydrodesulfurization process.  It consists predominantly of hydrocarbons having carbon numbers predominantly in the range of C4 through C11 and boiling in the range of approximately 30°C to 250°C (86°F to 482°F).]","H350 H340"]
[null,"92045-57-3","295-438-4","649-339-00-1","Naphtha (petroleum), hydrotreated light steam-cracked; Low boiling point hydrogen treated naphtha; [A complex combination of hydrocarbons obtained by treating a petroleum fraction, derived from a pyrolysis process, with hydrogen in the presence of a catalyst.  It consists predominantly of unsaturated hydrocarbons having carbon numbers predominantly in the range of C5 through C11 and boiling in the range of approximately 35°C to 190°C (95°F to 374°F).]","H350 H340"]
[null,"92045-61-9","295-443-1","649-340-00-7","Hydrocarbons, C4-12, naphtha-cracking, hydrotreated; Low boiling point hydrogen treated naphtha; [A complex combination of hydrocarbons obtained by distillation from the product of a naphtha steam cracking process and subsequent catalytic selective hydrogenation of gum formers.  It consists of hydrocarbons having carbon numbers predominantly in the range of C4 through C12 and boiling in the range of approximately 30°C to 230°C (86°F to 446°F).]","H350 H340"]
[null,"92062-15-2","295-529-9","649-341-00-2","Solvent naphtha (petroleum), hydrotreated light naphthenic; Low boiling point hydrogen treated naphtha; [A complex combination of hydrocarbons obtained by treating a petroleum fraction with hydrogen in the presence of a catalyst.  It consists predominantly of cycloparaffinic hydrocarbons having carbon numbers predominantly in the range of C6 through C7 and boiling in the range of approximately 73°C to 85°C (163°F to 185°F).]","H350 H340"]
[null,"93165-55-0","296-942-7","649-342-00-8","Naphtha (petroleum), light steam-cracked, hydrogenated; Low boiling point hydrogen treated naphtha; [A complex combination of hydrocarbons produced from the separation and subsequent hydrogenation of the products of a steam-cracking process to produce ethylene. It consists predominantly of saturated and unsaturated paraffins, cyclic paraffins and cyclic aromatic hydrocarbons having carbon numbers predominantly in the range of C4 through C10 and boiling in the range of approximately 50°C to 200°C (122°F to 392°F).  The proportion of benzene hydrocarbons may vary up to 30 wt. % and the stream may also contain small amounts of sulfur and oxygenated compounds.]","H350 H340"]
[null,"93763-33-8","297-852-0","649-343-00-3","Hydrocarbons, C6-11, hydrotreated, dearomatized; Low boiling point hydrogen treated naphtha; [A complex combination of hydrocarbons obtained as solvents which have been subjected to hydrotreatment in order to convert aromatics to naphthenes by catalytic hydrogenation.]","H350 H340"]
[null,"93763-34-9","297-853-6","649-344-00-9","Hydrocarbons, C9-12, hydrotreated, dearomatized; Low boiling point hydrogen treated naphtha; [A complex combination of hydrocarbons obtained as solvents which have been subjected to hydrotreatment in order to convert aromatics to naphthenes by catalytic hydrogenation.]","H350 H340"]
[null,"8052-41-3","232-489-3","649-345-00-4","stoddard solvent; Low boiling point naphtha - unspecified; [A colourless, refined petroleum distillate that is free from rancid or objectionable odours and that boils in a range of approximately 148,8 °C to 204,4 °C (300 °F to 400 °F).]","H350 H340"]
[null,"64741-47-5","265-047-3","649-346-00-X","Natural gas condensates (petroleum); Low boiling point naphtha - unspecified; [A complex combination of hydrocarbons separated as a liquid from natural gas in a surface separator by retrograde condensation.  It consists mainly of hydrocarbons having carbon numbers predominantly in the range of C2 to C20.  It is a liquid at atmospheric temperature and pressure.]","H350 H340"]
[null,"64741-48-6","265-048-9","649-347-00-5","Natural gas (petroleum), raw liq. mix; Low boiling point naphtha - unspecified; [A complex combination of hydrocarbons separated as a liquid from natural gas in a gas recycling plant by processes such as refrigeration or absorption.  It consists mainly of saturated aliphatic hydrocarbons having carbon numbers in the range of C2 through C8.]","H350 H340"]
[null,"64741-69-1","265-071-4","649-348-00-0","Naphtha (petroleum), light hydrocracked; Low boiling naphtha - unspecified; [A complex combination of hydrocarbons from distillation of the products from a hydrocracking process.  It consists predominantly of saturated hydrocarbons having carbon numbers predominantly in the range of C4 through C10, and boiling in the range of approximately -20°C to 180°C (-4°F to 356°F).]","H350 H340"]
[null,"64741-78-2","265-079-8","649-349-00-6","Naphtha (petroleum), heavy hydrocracked; Low boiling point naphtha - unspecified; [A complex combination of hydrocarbons from distillation of the products from a hydrocracking process.  It consists predominantly of saturated hydrocarbons having carbon numbers predominantly in the range of C6 through C12, and boiling in the range of approximately 65°C to 230°C (148°F to 446°F).]","H350 H340"]
[null,"64741-87-3","265-089-2","649-350-00-1","Naphtha (petroleum), sweetened; Low boiling point naphtha - unspecified; [A complex combination of hydrocarbons obtained by subjecting a petroleum naphtha to a sweetening process to convert mercaptans or to remove acidic impurities.  It consists of hydrocarbons having carbon numbers predominantly in the range of C4 through C12 and boiling in the range of approximately -10°C to 230°C (14°F to 446°F).]","H350 H340"]
[null,"64742-15-0","265-115-2","649-351-00-7","Naphtha (petroleum), acid-treated; Low boiling point naphtha - unspecified; [A complex combination of hydrocarbons obtained as a raffinate from a sulfuric acid treating process.  It consists of hydrocarbons having carbon numbers predominantly in the range of C7 through C12 and boiling in the range of approximately 90°C to 230°C (194°F to 446°F).]","H350 H340"]
[null,"64742-22-9","265-122-0","649-352-00-2","Naphtha (petroleum), chemically neutralized heavy; Low boiling point naphtha - unspecified; [A complex combination of hydrocarbons produced by a treating process to remove acidic materials.  It consists of hydrocarbons having carbon numbers predominantly in the range of C6 through C12 and boiling in the range of approximately 65°C to 230°C (149°F to 446°F).]","H350 H340"]
[null,"64742-23-0","265-123-6","649-353-00-8","Naphtha (petroleum), chemically neutralized light; Low boiling point naphtha - unspecified; [A complex combination of hydrocarbons produced by a treating process to remove acidic materials.  It consists of hydrocarbons having carbon numbers predominantly in the range of C4 through C11 and boiling in the range of approximately -20°C to 190°C (-4°F to 374°F).]","H350 H340"]
[null,"64742-66-1","265-170-2","649-354-00-3","Naphtha (petroleum), catalytic dewaxed; Low boiling point naphtha - unspecified; [A complex combination of hydrocarbons obtained from the catalytic dewaxing of a petroleum fraction.  It consists predominantly of hydrocarbons having carbon numbers predominantly in the range of C5 through C12 and boiling in the range of approximately 35°C to 230°C (95°F to 446°F).]","H350 H340"]
[null,"64742-83-2","265-187-5","649-355-00-9","Naphtha (petroleum), light steam-cracked; Low boiling point naphtha - unspecified; [A complex combination of hydrocarbons obtained by the distillation of the products from a steam cracking process.  It consists predominantly of unsaturated hydrocarbons having carbon numbers predominantly in the range of C4 through C11 and boiling in the range of approximately minus 20°C to 190°C (-4°F to 374°F).  This stream is likely to contain 10 vol. % or more benzene.]","H350 H340"]
[null,"64742-95-6","265-199-0","649-356-00-4","Solvent naphtha (petroleum), light arom.; Low boiling point naphtha - unspecified; [A complex combination of hydrocarbons obtained from distillation of aromatic streams.  It consists predominantly of aromatic hydrocarbons having carbon numbers predominantly in the range of C8 through C10 and boiling in the range of approximately 135°C to 210°C (275°F to 410°F).]","H350 H340"]
[null,"68131-49-7","268-618-5","649-357-00-X","Aromatic hydrocarbons, C6-10, acid-treated, neutralized; Low boiling point naphtha - unspecified","H350 H340"]
[null,"68477-34-9","270-725-7","649-358-00-5","Distillates (petroleum), C3-5, 2-methyl-2-butene-rich; Low boiling point naphtha - unspecified; [A complex combination of hydrocarbons from the distillation of hydrocarbons usually ranging in carbon numbers from C3 through C5, predominantly isopentane and 3-methyl-1-butene.  It consists of saturated and unsaturated hydrocarbons having carbon numbers in the range of C3 through C5, predominantly 2-methyl-2-butene.]","H350 H340"]
[null,"68477-50-9","270-735-1","649-359-00-0","Distillates (petroleum), polymd. steam-cracked petroleum distillates, C5-12 fraction; Low boiling point naphtha - unspecified; [A complex combination of hydrocarbons obtained from the distillation of polymerized steam-cracked petroleum distillate.  It consists predominantly of hydrocarbons having carbon numbers predominantly in the range of C5 through C12.]","H350 H340"]
[null,"68477-53-2","270-736-7","649-360-00-6","Distillates (petroleum), steam-cracked, C5-12 fraction; Low boiling point naphtha - unspecified; [A complex combination of organic compounds obtained by the distillation of products from a steam cracking process.  It consists of unsaturated hydrocarbons having carbon numbers predominantly in the range of C5 through C12.]","H350 H340"]
[null,"68477-55-4","270-738-8","649-361-00-1","Distillates (petroleum), steam-cracked, C5-10 fraction, mixed with light steam-cracked petroleum naphtha C5 fraction; Low boiling point naphtha - unspecified","H350 H340"]
[null,"68477-61-2","270-741-4","649-362-00-7","Extracts (petroleum), cold-acid, C4-6; Low boiling point naphtha - unspecified; [A complex combination of organic compounds produced by cold acid unit extraction of saturated and unsaturated aliphatic hydrocarbons usually ranging in carbon numbers from C3 through C6, predominantly pentanes and amylenes.  It consists predominantly of saturated and unsaturated hydrocarbons having carbon numbers in the range of C4 through C6, predominantly C5.]","H350 H340"]
[null,"68477-89-4","270-771-8","649-363-00-2","Distillates (petroleum), depentanizer overheads; Low boiling point naphtha - unspecified; [A complex combination of hydrocarbons obtained from a catalytic cracked gas stream.  It consists of aliphatic hydrocarbons having carbon numbers predominantly in the range of C4 through C6.]","H350 H340"]
[null,"68478-12-6","270-791-7","649-364-00-8","Residues (petroleum), butane splitter bottoms; Low boiling point naphtha - unspecified; [A complex residuum from the distillation of butane stream. It consists of aliphatic hydrocarbons having carbon numbers predominantly in the range of C4 through C6.]","H350 H340"]
[null,"68478-16-0","270-795-9","649-365-00-3","Residual oils (petroleum), deisobutanizer tower; Low boiling point naphtha - unspecified; [A complex residuum from the atmospheric distillation of the butane-butylene stream.  It consists of aliphatic hydrocarbons having carbon numbers predominantly in the range of C4 through C6.]","H350 H340"]
[null,"68513-02-0","270-991-4","649-366-00-9","Naphtha (petroleum), full-range coker; Low boiling point naphtha - unspecified; [A complex combination of hydrocarbons produced by the distillation of products from a fluid coker.  It consists predominantly of unsaturated hydrocarbons having carbon numbers predominantly in the range of C4 through C15 and boiling in the range of approximately 43°C to 250°C (110°F-500°F).]","H350 H340"]
[null,"68516-20-1","271-138-9","649-367-00-4","Naphtha (petroleum), steam-cracked middle arom.; Low boiling point naphtha - unspecified; [A complex combination of hydrocarbons produced by the distillation of products from a steam-cracking process.  It consists predominantly of aromatic hydrocarbons having carbon numbers predominantly in the range of C7 through C12 and boiling in the range of approximately 130°C to 220°C (266°F to 428°F).]","H350 H340"]
[null,"68527-21-9","271-262-3","649-368-00-X","Naphtha (petroleum), clay-treated full-range straight-run; Low boiling point naphtha - unspecified; [A complex combination of hydrocarbons resulting from treatment of full-range straight-run naphtha with natural or modified clay, usually in a percolation process to remove the trace amounts of polar compounds and impurities present.  It consists of hydrocarbons having carbon numbers predominantly in the range of C4 through C11 and boiling in the range of approximately -20°C to 220°C (-4°F to 429°F).]","H350 H340"]
[null,"68527-22-0","271-263-9","649-369-00-5","Naphtha (petroleum), clay-treated light straight-run; Low boiling point naphtha - unspecified; [A complex combination of hydrocarbons resulting from treatment of light straight-run naphtha with a natural or modified clay, usually in a percolation process to remove the trace amounts of polar compounds and impurities present.  It consists of hydrocarbons having carbon numbers predominantly in the range of C7 through C10 and boiling in the range of approximately 93°C to 180°C (200°F to 356°F).]","H350 H340"]
[null,"68527-23-1","271-264-4","649-370-00-0","Naphtha (petroleum), light steam-cracked arom.; Low boiling point naphtha - unspecified; [A complex combination of hydrocarbons produced by distillation of products from a steam-cracking process.  It consists predominantly of aromatic hydrocarbons having carbon numbers predominantly in the range of C7 through C9 and boiling in the range of approximately 110°C to 165°C (230°F to 329°F).]","H350 H340"]
[null,"68527-26-4","271-266-5","649-371-00-6","Naphtha (petroleum), light steam-cracked, debenzenized; Low boiling point naphtha - unspecified; [A complex combination of hydrocarbons produced by distillation of products from a steam-cracking process.  It consists predominantly of hydrocarbons having carbon numbers predominantly in the range of C4 through C12 and boiling in the range of approximately 80°C to 218°C (176°F to 424°F).]","H350 H340"]
[null,"68603-08-7","271-635-0","649-372-00-1","Naphtha (petroleum), arom.-contg.; Low boiling point naphtha - unspecified","H350 H340"]
[null,"68606-10-0","271-726-5","649-373-00-7","Gasoline, pyrolysis, debutanizer bottoms; Low boiling point naphtha - unspecified; [A complex combination of hydrocarbons obtained from the fractionation of depropanizer bottoms.  It consists of hydrocarbons having carbon numbers predominantly greater than C5.]","H350 H340"]
[null,"68783-66-4","272-206-0","649-374-00-2","Naphtha (petroleum), light, sweetened; Low boiling point naphtha - unspecified; [A complex combination of hydrocarbons obtained by subjecting a petroleum distillate to a sweetening process to convert mercaptans or to remove acidic impurities.  It consists predominantly of saturated and unsaturated hydrocarbons having carbon numbers predominantly in the range of C3 through C6 and boiling in the range of approximately -20°C to 100°C (-4°F to 212°F).]","H350 H340"]
[null,"68919-39-1","272-896-3","649-375-00-8","Natural gas condensates; Low boiling point naphtha - unspecified; [A complex combination of hydrocarbons separated and/or condensed from natural gas during transportation and collected at the wellhead and/or from the production, gathering, transmission, and distribution pipelines in deeps, scrubbers, etc.  It consists predominantly of hydrocarbons having carbon numbers predominantly in the range of C2 through C8.]","H350 H340"]
[null,"68921-09-5","272-932-8","649-376-00-3","Distillates (petroleum), naphtha unifiner stripper; Low boiling point naphtha - unspecified; [A complex combination of hydrocarbons produced by stripping the products from the naphtha unifiner.  It consists of saturated aliphatic hydrocarbons having carbon numbers predominantly in the range of C2 through C6.]","H350 H340"]
[null,"85116-59-2","285-510-3","649-377-00-9","Naphtha (petroleum), catalytic reformed light, arom.-free fraction; Low boiling point naphtha - unspecified; [A complex combination of hydrocarbons remaining after removal of aromatic compounds from catalytic reformed light naphtha in a selective absorption process.  It consists predominantly of paraffinic and cyclic compounds having carbon numbers predominantly in the range of C5 to C8 and boiling in the range of approximately 66°C to 121°C (151°F to 250°F).]","H350 H340"]
[null,"86290-81-5","289-220-8","649-378-00-4","Gasoline; Low boiling point naphtha - unspecified; [A complex combination of hydrocarbons consisting primarily of paraffins, cycloparaffins, aromatic and olefinic hydrocarbons having carbon numbers predominantly greater than C3 and boiling in the range of 30°C to 260°C (86°F to 500°F).]","H350 H340"]
[null,"90989-42-7","292-698-0","649-379-00-X","Aromatic hydrocarbons, C7-8, dealkylation products, distn. residues; Low boiling point naphtha - unspecified","H350 H340"]
[null,"91995-38-9","295-298-4","649-380-00-5","Hydrocarbons, C4-6, depentanizer lights, arom. hydrotreater; Low boiling point naphtha - unspecified; [A complex combination of hydrocarbons obtained as first runnings from the depentanizer column before hydrotreatment of the aromatic charges.  It consists predominantly of hydrocarbons having carbon numbers predominantly in the range of C4 through C6, predominantly pentanes and pentenes, and boiling in the range of approximately 25°C to 40°C (77°F to 104°F).]","H350 H340"]
[null,"91995-41-4","295-302-4","649-381-00-0","Distillates (petroleum), heat-soaked steam-cracked naphtha, C5-rich; Low boiling point naphtha - unspecified; [A complex combination of hydrocarbons obtained by distillation of heat-soaked steam-cracked naphtha.  It consists predominantly of hydrocarbons having carbon numbers in the range of C4 through C6, predominantly C5.]","H350 H340"]
[null,"91995-68-5","295-331-2","649-382-00-6","Extracts (petroleum), catalytic reformed light naphtha solvent; Low boiling point naphtha - unspecified; [A complex combination of hydrocarbons obtained as the extract from the solvent extraction of a catalytically reformed petroleum cut.  It consists predominantly of aromatic hydrocarbons having carbon numbers predominantly in the range of C7 through C8 and boiling in the range of approximately 100°C to 200°C (212°F to 392°F).]","H350 H340"]
[null,"92045-53-9","295-434-2","649-383-00-1","Naphtha (petroleum), hydrodesulfurized light, dearomatized; Low boiling point naphtha - unspecified; [A complex combination of hydrocarbons obtained by distillation of hydrodesulfurized and dearomatized light petroleum fractions.  It consists predominantly of C7 paraffins and cycloparaffins boiling in a range of approximately 90°C to 100°C (194°F to 212°F).]","H350 H340"]
[null,"92045-60-8","295-442-6","649-384-00-7","Naphtha (petroleum), light, C5-rich, sweetened; Low boiling point naphtha - unspecified; [A complex combination of hydrocarbons obtained by subjecting a petroleum naphtha to a sweetening process to convert mercaptans or to remove acidic impurities.  It consists of hydrocarbons having carbon numbers predominantly in the range of C4 through C5, predominantly C5, and boiling in the range of approximately minus 10°C to 35°C (14°F to 95°F).]","H350 H340"]
[null,"92045-62-0","295-444-7","649-385-00-2","Hydrocarbons, C8-11, naphtha-cracking, toluene cut; Low boiling point naphtha - unspecified; [A complex combination of hydrocarbons obtained by distillation from prehydrogenated cracked naphtha.  It consists predominantly of hydrocarbons having carbon numbers predominantly in the range of C8 through C11 and boiling in the range of approximately 130°C to 205°C (266°F to 401°F).]","H350 H340"]
[null,"92045-63-1","295-445-2","649-386-00-8","Hydrocarbons, C4-11, naphtha-cracking, arom.-free; Low boiling point naphtha - unspecified; [A complex combination of hydrocarbons obtained from prehydrogenated cracked naphtha after distillative separation of benzene- and toluene-containing hydrocarbon cuts and a higher boiling fraction.  It consists predominantly of hydrocarbons having carbon numbers predominantly in the range of C4 through C11 and boiling in the range of approximately 30°C to 205°C (86°F to 401°F).]","H350 H340"]
[null,"92201-97-3","296-028-8","649-387-00-3","Naphtha (petroleum), light heat-soaked, steam-cracked; Low boiling point naphtha - unspecified; [A complex combination of hydrocarbons obtained by the fractionation of steam cracked naphtha after recovery from a heat soaking process.  It consists predominantly of hydrocarbons having a carbon number predominantly in the range of C4 through C6 and boiling in the range of approximately 0°C to 80°C (32°F to 176°F).]","H350 H340"]
[null,"93165-19-6","296-903-4","649-388-00-9","Distillates (petroleum), C6-rich; Low boiling point naphtha - unspecified; [A complex combination of hydrocarbons obtained from the distillation of a petroleum feedstock.  It consists predominantly of hydrocarbons having carbon numbers of C5 through C7, rich in C6, and boiling in the range of approximately 60°C to 70°C (140°F to 158°F).]","H350 H340"]
[null,"94114-03-1","302-639-3","649-389-00-4","Gasoline, pyrolysis, hydrogenated; Low boiling point naphtha-unspecified; [A distillation fraction from the hydrogenation of pyrolysis gasoline boiling in the range of approximately 20°C to 200°C (68°F to 392°F).]","H350 H340"]
[null,"95009-23-7","305-750-5","649-390-00-X","Distillates (petroleum), steam-cracked, C8-12 fraction, polymd., distn. lights; Low boiling point naphtha - unspecified; [A complex combination of hydrocarbons obtained by distillation of the polymerized C8 through C12 fraction from steam-cracked petroleum distillates.  It consists predominantly of aromatic hydrocarbons having carbon numbers predominantly in the range of C8 through C12.]","H350 H340"]
[null,"97926-43-7","308-261-5","649-391-00-5","Extracts (petroleum) heavy naphtha solvent, clay-treated; Low boiling point naphtha - unspecified; [A complex combination of hydrocarbons obtained by the treatment of heavy naphthic solvent petroleum extract with bleaching earth.  It consists predominantly of hydrocarbons having carbon numbers predominantly in the range of C6 through C10 and boiling in the range of approximately 80°C to 180°C (175°F to 356°F).]","H350 H340"]
[null,"98219-46-6","308-713-1","649-392-00-0","Naphtha (petroleum), light steam-cracked, debenzenized, thermally treated; Low boiling point naphtha - unspecified; [A complex combination of hydrocarbons obtained by the treatment and distillation of debenzenized light steam-cracked petroleum naphtha.  It consists predominantly of hydrocarbons having carbon numbers predominantly in the range of C7 through C12 and boiling in the range of approximately 95°C to 200°C (203°F to 392°F).]","H350 H340"]
[null,"98219-47-7","308-714-7","649-393-00-6","Naphtha (petroleum), light steam-cracked, thermally treated; Low boiling point naphtha - unspecified; [A complex combination of hydrocarbons obtained by the treatment and distillation of light steam-cracked petroleum naphtha.  It consists predominantly of hydrocarbons having carbon numbers predominantly in the range of C5 through C6 and boiling in the range of approximately 35°C to 80°C (95°F to 176°F).]","H350 H340"]
[null,"101316-56-7","309-862-5","649-394-00-1","Distillates (petroleum), C7-9, C8-rich, hydrodesulfurized dearomatized; Low boiling point naphtha - unspecified; [A complex combination of hydrocarbons obtained by the distillation of petroleum light fraction, hydrodesulfurized and dearomatized.  It consists predominantly of hydrocarbons having carbon numbers in the range of C7 through C9, predominantly C8 paraffins and cycloparaffins, boiling in the range of approximately 120°C to 130°C (248°F to 266°F).]","H350 H340"]
[null,"101316-66-9","309-870-9","649-395-00-7","Hydrocarbons, C6-8, hydrogenated sorption-dearomatized, toluene raffination; Low boiling point naphtha - unspecified; [A complex combination of hydrocarbons obtained during the sorptions of toluene from a hydrocarbon fraction from cracked gasoline treated with hydrogen in the presence of a catalyst.  It consists predominantly of hydrocarbons having carbon numbers predominantly in the range of C6 through C8 and boiling in the range of approximately 80°C to 135°C (176°F to 275°F).]","H350 H340"]
[null,"101316-76-1","309-879-8","649-396-00-2","Naphtha (petroleum), hydrodesulfurised full-range coker; Low boiling point naphtha - unspecified; [A complex combination of hydrocarbons obtained by fractionation from hydrodesulfurised coker distillate.  It consists predominantly of hydrocarbons having carbon numbers predominantly in the range of C5 to C11 and boiling in the range of approximately 23°C to 196°C (73°F to 385°F).]","H350 H340"]
[null,"101795-01-1","309-976-5","649-397-00-8","Naphtha (petroleum), sweetened light; Low boiling point naphtha - unspecified; [A complex combination of hydrocarbons obtained by subjecting a petroleum naphtha to a sweetening process to convert mercaptans or to remove acidic impurities.  It consists predominantly of hydrocarbons having carbon numbers predominantly in the range of C5 through C8 and boiling in the range of approximately 20°C to 130°C (68°F to 266°F).]","H350 H340"]
[null,"102110-14-5","310-012-0","649-398-00-3","Hydrocarbons, C3-6, C5-rich, steam-cracked naphtha; Low boiling point naphtha - unspecified; [A complex combination of hydrocarbons obtained by distillation of steam-cracked naphtha.  It consists predominantly of hydrocarbons having carbon numbers in the range of C3 through C6, predominantly C5.]","H350 H340"]
[null,"102110-15-6","310-013-6","649-399-00-9","Hydrocarbons, C5-rich, dicyclopentadiene-contg.; Low boiling point naphtha - unspecified; [A complex combination of hydrocarbons obtained by distillation of the products from a steam-cracking process.  It consists predominantly of hydrocarbons having carbon numbers of C5 and dicyclopentadiene and boiling in the range of approximately 30°C to 170°C (86°F to 338°F).]","H350 H340"]
[null,"102110-55-4","310-057-6","649-400-00-2","Residues (petroleum), steam-cracked light, arom.; Low boiling point naphtha - unspecified; [A complex combination of hydrocarbons obtained by the distillation of the products of steam cracking or similar processes after taking off the very light products resulting in a residue starting with hydrocarbons having carbon numbers greater than C5.  It consists predominantly of aromatic hydrocarbons having carbon numbers greater than C5 and boiling above approximately 40°C (104°F).]","H350 H340"]
[null,"68476-50-6","270-690-8","649-401-00-8","Hydrocarbons, C≥5, C5-6-rich; Low boiling point naphtha - unspecified","H350 H340"]
[null,"68476-55-1","270-695-5","649-402-00-3","Hydrocarbons, C5-rich; Low boiling point naphtha - unspecified","H350 H340"]
[null,"90989-39-2","292-695-4","649-403-00-9","Aromatic hydrocarbons, C8-10; Low boiling point naphtha - unspecified","H350 H340"]
[null,"64741-59-9","265-060-4","649-435-00-3","Distillates (petroleum), light catalytic cracked; Cracked gasoil; [A complex combination of hydrocarbons produced by the distillation of products from a catalytic cracking process. It consists of hydrocarbons having carbon numbers predominantly in the range of C9 through C25 and boiling in the range of approximately 150 °C to 400 °C (302 °F to 752 °F). It contains a relatively large proportion of bicyclic aromatic hydrocarbons.]","H350"]
[null,"64741-60-2","265-062-5","649-436-00-9","Distillates (petroleum), intermediate catalytic cracked; Cracked gasoil; [A complex combination of hydrocarbons produced by the distillation of products from a catalytic cracking process. It consists of hydrocarbons having carbon numbers predominantly in the range of C11 through C30 and boiling in the range of approximately 205 °C to 450 °C (401 °F to 842 °F). It contains a relatively large proportion of tricyclic aromatic hydrocarbons.]","H350"]
[null,"64741-82-8","265-084-5","649-438-00-X","Distillates (petroleum), light thermal cracked; Cracked gasoil; [A complex combination of hydrocarbons from the distillation of the products from a thermal cracking process. It consists predominantly of unsaturated hydrocarbons having carbon numbers predominantly in the range of C10 through C22 and boiling in the range of approximately 160 °C to 370 °C (320 °F to 698 °F).]","H350"]
[null,"68333-25-5","269-781-5","649-439-00-5","Distillates (petroleum), hydrodesulfurized light catalytic cracked; Cracked gasoil; [A complex combination of hydrocarbons obtained by treating light catalytic cracked distillates with hydrogen to convert organic sulfur to hydrogen sulfide which is removed. It consists of hydrocarbons having carbon numbers predominantly in the range of C9 through C25 and boiling in the range of approximately 150 °C to 400 °C (302 °F to 752 °F). It contains a relatively large proportion of bicyclic aromatic hydrocarbons.]","H350"]
[null,"68475-80-9","270-662-5","649-440-00-0","Distillates (petroleum), light steam-cracked naphtha; Cracked gasoil; [A complex combination of hydrocarbons from the multiple distillation of products from a steam cracking process. It consists of hydrocarbons having carbon numbers predominantly in the range of C10 through C18.]","H350"]
[null,"68477-38-3","270-727-8","649-441-00-6","Distillates (petroleum), cracked steam-cracked petroleum distillates; Cracked gasoil; [A complex combination of hydrocarbons produced by distilling cracked steam cracked distillate and/or its fractionation products. It consists of hydrocarbons having carbon numbers predominently in the range of C10 to low molecular weight polymers.]","H350"]
[null,"68527-18-4","271-260-2","649-442-00-1","Gas oils (petroleum), steam-cracked; Cracked gasoil; [A complex combination of hydrocarbons produced by distillation of the products from a steam cracking process. It consists of hydrocarbons having carbon numbers predominantly greater than C9 and boiling in the range of from approximately 205 °C to 400 °C (400 °F to 752 °F).]","H350"]
[null,"85116-53-6","285-505-6","649-443-00-7","Distillates (petroleum), hydrodesulfurized thermal cracked middle; Cracked gasoil; [A complex combination of hydrocarbons obtained by fractionation from hydrodesulfurized themal cracker distillate stocks. It consists predominantly of hydrocarbons having carbon numbers predominantly in the range of C11 to C25 and boiling in the range of approximately 205 °C to 400 °C (401 °F to 752 °F).]","H350"]
[null,"92045-29-9","295-411-7","649-444-00-2","Gas oils (petroleum), thermal-cracked, hydrodesulfurized; Cracked gasoil","H350"]
[null,"92062-00-5","295-514-7","649-445-00-8","Residues (petroleum), hydrogenated steam-cracked naphtha; Cracked gasoil; [A complex combination of hydrocarbons obtained as a residual fraction from the distillation of hydrotreated steam-cracked naphtha. It consists predominantly of hydrocarbons boiling in the range of approximately 200 °C to 350 °C (32 °F to 662 °F).]","H350"]
[null,"92062-04-9","295-517-3","649-446-00-3","Residues (petroleum), steam-cracked naphtha distn.; Cracked gasoil; [A complex combination of hydrocarbons obtained as a column bottom from the separation of effluents from steam cracking naphtha at a high temperature. It boils in the range of approximately 147 °C to 300 °C (297 °F to 572 °F) and produces a finished oil having a viscosity of 18cSt at 50 °C.]","H350"]
[null,"92201-60-0","295-991-1","649-447-00-9","Distillates (petroleum), light catalytic cracked, thermally degraded; Cracked gasoil; [A complex combination of hydrocarbons produced by the distillation of products from a catalytic cracking process which has been used as a heat transfer fluid. It consists predominantly of hydrocarbons boiling in the range of approximately 190 °C to 340 °C (374 °F to 644 °F). This stream is likely to contain organic sulfur compounds.]","H350"]
[null,"93763-85-0","297-905-8","649-448-00-4","Residues (petroleum), steam-cracked heat-soaked naphtha; Cracked gasoil; [A complex combination of hydrocarbons obtained as residue from the distillation of steam cracked heat soaked naphtha and boiling in the range of approximately 150 °C to 350 °C (302 °F to 662 °F).]","H350"]
[null,"97926-59-5","308-278-8","649-450-00-5","Gas oils (petroleum), light vacuum, thermal-cracked hydrodesulfurized; Cracked gasoil; [A complex combination of hydrocarbons obtained by catalytic dehydrosulfurization of thermal-cracked light vacuum petroleum. It consists predominantly of hydrocarbons having carbon numbers predominantly in the range of C14 through C20 and boiling in the range of approximately 270 °C to 370 °C (518 °F to 698 °F).]","H350"]
[null,"101316-59-0","309-865-1","649-451-00-0","Distillates (petroleum), hydrodesulfurized middle coker; Cracked gasoil; [A complex combination of hydrocarbons by fractionation from hydrodesulfurised coker distillate stocks. Is consists of hydro-carbons having carbon numbers predominantly in the range of C12 through C21 and boiling in the range of approximately 200 °C to 360 °C (392 °F to 680 °F).]","H350"]
[null,"101631-14-5","309-939-3","649-452-00-6","Distillates (petroleum), heavy steam-cracked; Cracked gasoil; [A complex combination of hydrocarbons obtained by distillation of steam cracking heavy residues. It consists predominantly of highly alkylated heavy aromatic hydrocarbons boiling in the range of approximately 250 °C to 400 °C (482 °F to 752 °F).]","H350"]
[null,"64741-76-0","265-077-7","649-453-00-1","Distillates (petroleum), heavy hydrocracked; Baseoil - unspecified; [A complex combination of hydrocarbons from the distillation of the products from a hydrocracking process. It consists predominantly of saturated hydrocarbons having carbon numbers in the range of C15-C39 and boiling in the range of approximately 260 °C to 600 °C (500 °F to 1112 °F).]","H350"]
[null,"64741-88-4","265-090-8","649-454-00-7","Distillates (petroleum), solvent-refined heavy paraffinic; Baseoil - unspecified; [A complex combination of hydrocarbons obtained as the raffinate from a solvent extraction process. It consists predominantly of saturated hydrocarbons having carbon numbers predominantly in the range of C20 through C50 and produces a finished oil with a viscosity of at least 100 SUS at 100 °F (19cSt at 40 °C).]","H350"]
[null,"64741-89-5","265-091-3","649-455-00-2","Distillates (petroleum), solvent-refined light paraffinic; Baseoil - unspecified; [A complex combination of hydrocarbons obtained as the raffinate from a solvent extraction process. It consists predominantly of saturated hydrocarbons having carbon numbers predominantly in the range of C15 through C30 and produces a finished oil with a viscosity of less than 100 SUS at 100 °F (19cSt at 40 °C).]","H350"]
[null,"64741-95-3","265-096-0","649-456-00-8","Residual oils (petroleum), solvent deasphalted; Baseoil - unspecified; [A complex combination of hydrocarbons obtained as the solvent soluble fraction from C3-C4 solvent deasphalting of a residuum. It consists of hydrocarbons having carbon numbers predominantly higher than C25 and boiling above approximately 400 °C (752 °F).]","H350"]
[null,"64741-96-4","265-097-6","649-457-00-3","Distillates (petroleum), solvent-refined heavy naphthenic; Baseoil - unspecified; [A complex combination of hydrocarbons obtained as the raffinate from a solvent extraction process. It consists of hydrocarbons having carbon numbers predominantly in the range of C20 through C50 and produces a finished oil with a viscosity of at least 100 SUS at 100 °F (19cSt a 40 °C). It contains relatively few normal paraffins.]","H350"]
[null,"64741-97-5","265-098-1","649-458-00-9","Distillates (petroleum), solvent-refined light naphthenic; Baseoil - unspecified; [A complex combination of hydrocarbons obtained as the raffinate from a solvent extraction process. It consists of hydrocarbons having carbon numbers predominantly in the range of C15 through C30 and produces a finished oil with a viscosity of less than 100 SUS at 100 °F (19cSt at 40 °C). It contains relatively few normal paraffins.]","H350"]
[null,"64742-01-4","265-101-6","649-459-00-4","Residual oils (petroleum,) solvent-refined; Baseoil - unspecified; [A complex combination by hydrocarbons obtained as the solvent insoluble fraction from solvent refining of a residuum using a polar organic solvent such as phenol or furfural. It consists of hydrocarbons having carbon numbers predominantly higher than C25 and boiling above approximately 400 °C (752 °F).]","H350"]
[null,"64742-36-5","265-137-2","649-460-00-X","Distillates (petroleum), clay-treated paraffinic; Baseoil - unspecified; [A complex combination of hydrocarbons resulting from treatment of a petroleum fraction with natural or modified clay in either a contacting or percolation process to remove the trace amounts of polar compounds and impurities present. It consists of hydrocarbons having carbon numbers predominantly in the range of C20 through C50 and produces a finished oil with a viscosity of at least 100 SUS at 100 °F (19cSt at 40 °C). It contains a relatively large proportion of saturated hydrocarbons.]","H350"]
[null,"64742-37-6","265-138-8","649-461-00-5","Distillates (petroleum), clay-treated light paraffinic; Baseoil - unspecified; [A complex combination of hydrocarbons resulting from treatment of a petroleum fraction with natural or modified clay in either a contacting or percolation process to remove the trace amounts of polar compounds and impurities present. It consists of hydrocarbons having carbon numbers predominantly in the range of C15 through C30 and produces a finished oil with a viscosity of less than 100 SUS at 100 °F (19cSt at 40 °C). It contains a relatively large proportion of saturated hydrocarbons.]","H350"]
[null,"64742-41-2","265-143-5","649-462-00-0","Residual oils (petroleum), clay-treated; Baseoil - unspecified; [A complex combination of hydrocarbons obtained by treatment of a residual oil with a natural or modified clay in either a contacting or percolation process to remove the trace amounts of polar compounds and impurities present. It consists of hydro-carbons having carbon numbers predominantly higher than C25 and boiling above approximately 400 °C (752 °F).]","H350"]
[null,"64742-44-5","265-146-1","649-463-00-6","Distillates (petroleum), clay-treated heavy naphthenic; Baseoil - unspecified; [A complex combination of hydrocarbons resulting from treatment of a petroleum fraction with natural or modified clay in either a contacting or percolation process to remove the trace amounts of polar compounds and impurities present. It consists of hydrocarbons having carbon numbers predominantly in the range of C20 through C50 and produces a finished oil with a viscosity of at least 100 SUS at 100 °F (19cSt at 40 °C). It contains relatively few normal paraffins.]","H350"]
[null,"64742-45-6","265-147-7","649-464-00-1","Distillates (petroleum), clay-treated light naphthenic; Baseoil - unspecified; [A complex combination of hydrocarbons resulting from treatment of a petroleum fraction with natural or modified clay in either a contacting or percolation process to remove the trace amounts of polar compounds and impurities present. It consists of hydrocarbons having carbon numbers predominantly in the range of C15 through C30 and produces a finished oil with a viscosity of less than 100 SUS at 100 °F (19cSt at 40 °C). It contains relatively few normal paraffins.]","H350"]
[null,"64742-52-5","265-155-0","649-465-00-7","Distillates (petroleum), hydrotreated heavy naphthenic; Baseoil - unspecified; [A complex combination of hydrocarbons obtained by treating a petroleum fraction with hydrogen in the presence of a catalyst. It consists of hydrocarbons having carbon numbers predominantly in the range of C20 through C50 and produces a finished oil of at least 100 SUS at 100 °F (19cSt at 40 °C). It contains relatively few normal paraffins.]","H350"]
[null,"64742-53-6","265-156-6","649-466-00-2","Distillates (petroleum), hydrotreated light naphthenic; Baseoil - unspecified; [A complex combination of hydrocarbons obtained by treating a petroleum fraction with hydrogen in the presence of a catalyst. It consists of hydrocarbons having carbon numbers predominantly in the range of C15 through C30 and produces a finished oil with a viscosity of less than 100 SUS at 100 °F (19cSt at 40 °C). It contains relatively few normal paraffins.]","H350"]
[null,"64742-54-7","265-157-1","649-467-00-8","Distillates (petroleum), hydrotreated heavy paraffinic; Baseoil - unspecified; [A complex combination of hydrocarbons obtained by treating a petroleum fraction with hydrogen in the presence of a catalyst. It consists of hydrocarbons having carbon numbers predominantly in the range of C20 through C50 and produces a finished oil of at least 100 SUS at 100 °F (19cSt at 40 °C). It contains a relatively large proportion of saturated hydrocarbons.]","H350"]
[null,"64742-55-8","265-158-7","649-468-00-3","Distillates (petroleum), hydrotreated light paraffinic; Baseoil - unspecified; [A complex combination of hydrocarbons obtained by treating a petroleum fraction with hydrogen in the presence of a catalyst. It consists of hydrocarbons having carbon numbers predominantly in the range of C15 through C30 and produces a finished oil with a viscosity of less than 100 SUS at 100 °F (19cSt at 40 °C). It contains a relatively large proportion of saturated hydrocarbons.]","H350"]
[null,"64742-56-9","265-159-2","649-469-00-9","Distillates (petroleum), solvent-dewaxed light paraffinic; Baseoil - unspecified; [A complex comination of hydrocarbons obtained by removal of normal paraffins from a petroleum fraction by solvent crystallization. It consists predominantly of hydrocarbons having carbon numbers predominantly in the range of C15 through C30 and produces a finished oil with a viscosity of less than 100 SUS at 100 °F (19cSt at 40 °C).]","H350"]
[null,"64742-57-0","265-160-8","649-470-00-4","Residual oils (petroleum), hydrotreated; Baseoil - unspecified; [A complex combination of hydrocarbons obtained by treating a petroleum fraction with hydrogen in the presence of a catalyst. It consists of hydrocarbons having carbon numbers predominantly greater than C25 and boiling above approximately 400 °C (752 °F).]","H350"]
[null,"64742-62-7","265-166-0","649-471-00-X","Residual oils (petroleum), solvent-dewaxed; Baseoil - unspecified; [A complex combination of hydrocarbons obtained by removal of long, branched chain hydrocarbons from a residual oil by solvent crystallization. It consists of hydrocarbons having carbon numbers predominantly greater than C25 and boiling above approximately 400 °C (752 °F).]","H350"]
[null,"64742-63-8","265-167-6","649-472-00-5","Distillates (petroleum), solvent-dewaxed heavy naphthenic; Baseoil - unspecified; [A complex combination of hydrocarbons obtained by removal of normal paraffins from a petroleum fraction by solvent crystallization. It consists of hydrocarbons having carbon numbers predominantly in the range of C20 . through C50 and produces a finished oil of not less than 100 SUS at 100 °F (19cSt at 40 °C). It contains relatively few normal paraffins.]","H350"]
[null,"64742-64-9","265-168-1","649-473-00-0","Distillates (petroleum), solvent-dewaxed light naphthenic; Baseoil - unspecified; [A complex combination of hydrocarbons obtained by removal of normal paraffins from a petroleum fraction by solvent crystallization. It consists of hydrocarbons having carbon numbers predominantly in the range C15 through C30 and produces a finished oil with a viscosity of less than 100 SUS at 100 °F (19cSt at 40 °C). It contains relatively few normal paraffins.]","H350"]
[null,"64742-65-0","265-169-7","649-474-00-6","Distillates (petroleum), solvent-dewaxed heavy paraffinic; Baseoil - unspecified; [A complex combination of hydrocarbons obtained by removal of normal paraffins from a petroleum fraction by solvent crystallization. It consists predominantly of hydrocarbons having carbon numbers predominantly in the range of C20 through C50 and produces a finished oil with a viscosity not less than 100 SUS at 100 °F (19cSt at 40 °C).]","H350"]
[null,"64742-68-3","265-172-3","649-475-00-1","Naphthenic oils (petroleum), catalytic dewaxed heavy; Baseoil - unspecified; [A complex combination of hydrocarbons obtained from a catalytic dewaxing process. It consists predominantly of hydrocarbons having carbon numbers predominantly in the range of C20 through C50 and produces a finished oil with a viscosity of at least 100 SUS at 100 °F (19cSt at 40 °C). It contains relatively few normal paraffins.]","H350"]
[null,"64742-69-4","265-173-9","649-476-00-7","Naphthenic oils (petroleum), catalytic dewaxed light; Baseoil - unspecified; [A complex combination of hydrocarbons obtained from a catalytic dewaxing process. It consists of hydrocarbons having carbon numbers predominantly in the range of C15 through C30 and produces a finished oil with a viscosity less than 100 SUS at 100 °F (19cSt at 40 °C). It contains relatively few normal paraffins.]","H350"]
[null,"64742-70-7","265-174-4","649-477-00-2","Paraffin oils (petroleum), catalytic dewaxed heavy; Baseoil - unspecified; [A complex combination of hydrocarbons obtained from a catalytic dewaxing process. It consists predominantly of hydrocarbons having carbon numbers predominantly in the range of C20 through C50 and produces a finished oil with a viscosity of at least 100 SUS at 100 °F (19cSt at 40 °C).]","H350"]
[null,"64742-71-8","265-176-5","649-478-00-8","Paraffin oils (petroleum), catalytic dewaxed light; Baseoil - unspecified; [A complex combination of hydrocarbons obtained from a catalytic dewxing process. It consists predominantly of hydrocarbons having carbon numbers predominantly in the range of C15 through C30 and produces a finished oil with a viscosity of less than 100 SUS at 100 °F (19cSt at 40 °C).]","H350"]
[null,"64742-75-2","265-179-1","649-479-00-3","Naphthenic oils (petroleum), complex dewaxed heavy; Baseoil - unspecified; [A complex combination of hydrocarbons obtained by removing straight chain paraffin hydrocarbons as a solid by treatment with an agent such as urea. It consists of hydrocarbons having carbon numbers predominantly in the range of C20 through C50 and produces a finished oil having a viscosity of at least 100 SUS at 100 °F (19cSt at 40 °C). It contains relatively few normal paraffins.]","H350"]
[null,"64742-76-3","265-180-7","649-480-00-9","Naphthenic oils (petroleum), complex dewaxed light; Baseoil - unspecified; [A complex combination of hydrocarbons obtained from a catalytic dewaxing process. It consists of hydrocarbons having carbon numbers predominantly in the range of C15 through C30 and produces a finished oil having a viscosity less than 100 SUS at 100 °F (19cSt at 40 °C). It contains relatively few normal paraffins.]","H350"]
[null,"72623-85-9","276-736-3","649-481-00-4","Lubricating oils (petroleum), C20-50, hydrotreated neutral oil-based, high-viscosity; Baseoil - unspecified; [A complex combination of hydrocarbons obtained by treating light vacuum gas oil, heavy vacuum gas oil, and solvent deasphalted residual oil with hydrogen in the presence of a catalyst in a two stage process with dewaxing being carried out between the two stages. It consists predominantly of hydrocarbons having carbon numbers predominantly in the range of C20 through C50 and produces a finished oil having a viscosity of approximately 112cSt at 40 °C. It contains a relatively large proportion of saturated hydrocarbons.]","H350"]
[null,"72623-86-0","276-737-9","649-482-00-X","Lubricating oils (petroleum), C15-30, hydrotreated neutral oil-based; Baseoil - unspecified; [A complex combination of hydrocarbons obtained by treating light vacuum gas oil and heavy vacuum gas oil with hydrogen in the presence of a catalyst in a two stage process with dewaxing being carried out between the two stages. It consists predominantly of hydrocarbons having carbon numbers predominantly in the range of C15 through C30 and produces a finished oil having a viscosity of approximately 15cSt at 40 °C. It contains a relatively large proportion of saturated hydrocabons.]","H350"]
[null,"72623-87-1","276-738-4","649-483-00-5","Lubricating oils (petroleum), C20-50, hydrotreated neutral oil-based; Baseoil - unspecified; [A complex combination of hydrocarbons obtained by treating light vacuum gas oil, heavy vacuum gas oil and solvent deasphalted residual oil with hydrogen in the presence of a catalyst in a two stage process with dewaxing being carried out between the two stages. It consists predominantly of hydrocarbons having carbon numbers predominantly in the range of C20 through C50 and produces a finished oil with a viscosity of approximately 32cSt at 40 °C. It contains a relatively large proportion of saturated hydrocarbons.]","H350"]
[null,"74869-22-0","278-012-2","649-484-00-0","Lubricating oils; Baseoil - unspecified; [A complex combination of hydrocarbons obtained from solvent extraction and dewaxing processes. It consists predominantly of saturated hydrocarbons having carbon numbers in the range C15 through C50.]","H350"]
[null,"90640-91-8","292-613-7","649-485-00-6","Distillates (petroleum), complex dewaxed heavy paraffinci; Baseoil - unspecified; [A complex combination of hydrocarbons obtained by dewaxing heavy paraffinic distillate. It consists predominantly of hydrocarbons having carbon numbers predominantly in the range of C20 through C50 and produces a finished oil with a viscosity of equal to or greater than 100 SUS at 100 °F (19cSt at 40 °C). It contains relatively few normal paraffins.]","H350"]
[null,"90640-92-9","292-614-2","649-486-00-1","Distillates (petroleum), complex dewaxed light paraffinic; Baseoil - unspecified; [A complex combination of hydrocarbons obtained by dewaxing light paraffinic distillate. It consists predominantly of hydrocarbons having carbon numbers predominantly in the range of C12 through C30 and produces a finished oil with a viscosity of less than 100 SUS at 100 °F (19cSt at 40 °C). It contains relatively few normal paraffins.]","H350"]
[null,"90640-94-1","292-616-3","649-487-00-7","Distillates (petroleum), solvent dewaxed heavy paraffinic, clay-treated; Baseoil - unspecified; [A complex combination of hydrocarbons obtained by treating dewaxed heavy paraffinic distillate with neutral or modified clay in either a contacting or percolation process. It consists predominantly of hydrocarbons having carbon numbers predominantly in the range of C20 through C50.]","H350"]
[null,"90640-95-2","292-617-9","649-488-00-2","Hydrocarbons, C20-50, solvent dewaxed heavy paraffinic, hydrotreated; Baseoil - unspecified; [A complex combination of hydrocarbons produced by treating dewaxed heavy paraffinic distillate with hydrogen in the presence of a catalyst. It consists predominantly of hydrocarbons having carbon numbers predominantly in the range of C20 through C50.]","H350"]
[null,"90640-96-3","292-618-4","649-489-00-8","Distillates (petroleum), solvent dewaxed light paraffinic, clay-treated; Baseoil - unspecified; [A complex combination of hydrocarbons resulting from treatment of dewaxed light paraffinic distillate with natural or modified clay in either a contacting or percolation process. It consists predominantly of hydrocarbons having carbon numbers predominantly in the range of C15 through C30.]","H350"]
[null,"90640-97-4","292-620-5","649-490-00-3","Distillates (petroleum), solvent dewaxed light paraffinic, hydrotreated; Baseoil - unspecified; [A complex combination of hydrocarbons produced by treating a dewaxed light paraffinic distillate with hydrogen in the presence of a catalyst. It consists predominantly of hydrocarbons having carbon numbers predominantly in the range of C15 through C30.]","H350"]
[null,"90669-74-2","292-656-1","649-491-00-9","Residual oils (petroleum), hydrotreated solvent dewaxed; Baseoil - unspecified","H350"]
[null,"91770-57-9","294-843-3","649-492-00-4","Residual oils (petroleum), catalytic dewaxed; Baseoil - unspecified","H350"]
[null,"91995-39-0","295-300-3","649-493-00-X","Distillates (petroleum), dewaxed heavy paraffinic, hydrotreated; Baseoil - unspecified; [A complex combination of hydrocarbons obtained from an intensive treatment of dewaxed distillate by hydrogenation in the presence of a catalyst. It consists predominantly of saturated hydrocarbons having carbon numbers predominantly in the range of C25 through C39 and produces a finished oil with a viscosity of approximately 44 cSt at 50 °C.]","H350"]
[null,"91995-40-3","295-301-9","649-494-00-5","Distillates (petroleum), dewaxed light paraffinic, hydrotreated; Baseoil - unspecified; [A complex combination of hydrocarbons obtained from an intensive treatment of dewaxed distillate by hydrogenation in the presence of a catalyst. It consists predominantly of saturated hydrocarbons having carbon numbers predominantly in the range of C21 through C29 and produces a finished oil with a viscosity of approximately 13 cSt at 50 °C.]","H350"]
[null,"91995-45-8","295-306-6","649-495-00-0","Distillates (petroleum), hydrocracked solvent-refined, dewaxed; Baseoil - unspecified; [A complex combination of liquid hydrocarbons obtained by recrystallization of dewaxed hydrocracked solvent-refined petroleum distillates.]","H350"]
[null,"91995-54-9","295-316-0","649-496-00-6","Distillates (petroleum), solvent-refined light naphthenic, hydrotreated; Baseoil - unspecified; [A complex combination of hydrocarbons obtained by treating a petroleum fraction with hydrogen in the presence of a catalyst and removing the aromatic hydrocarbons by solvent extraction. It consists predominantly of naphthenic hydrocarbons having carbon numbers predominantly in the range of C15 through C30 and produces a finished oil with a viscosity of between 13-15cSt at 40 °C.]","H350"]
[null,"92045-42-6","295-423-2","649-497-00-1","Lubricating oils (petroleum), C17-35, solvent-extd., dewaxed, hydrotreated; Baseoil - unspecified","H350"]
[null,"92045-43-7","295-424-8","649-498-00-7","Lubricating oils (petroleum), hydrocracked nonarom. solvent-deparaffined; Baseoil - unspecified","H350"]
[null,"92061-86-4","295-499-7","649-499-00-2","Residual oils (petroleum), hydrocracked acid-treated solvent-dewaxed; Baseoil - unspecified; [A complex combination of hydrocarbons produced by solvent removal of paraffins from the residue of the distillation of acid-treated, hydrocracked heavy paraffins and boiling approximately above 380 °C (716 °F).]","H350"]
[null,"92129-09-4","295-810-6","649-500-00-6","Paraffin oils (petroleum), solvent-refined dewaxed heavy; Baseoil - unspecified; [A complex combination of hydrocarbons obtained from sulfur-containing paraffinic crude oil. It consists predominantly of a solvent refined deparaffinated lubricating oil with a viscosity of 65cSt at 50 °C.]","H350"]
[null,"93572-43-1","297-474-6","649-501-00-1","Lubricating oils (petroleum), base oils, paraffinic; Baseoil - unspecified; [A complex combination of hydrocarbons obtained by refining of crude oil. It consists predominantly of aromatics, naphthenics and paraffinics and produces a finished oil with a viscosity of 120 SUS at 100 °F (23cSt at 40 °C).]","H350"]
[null,"93763-38-3","297-857-8","649-502-00-7","Hydrocarbons, hydrocracked paraffinic distn. residues, solvent-dewaxed; Baseoil - unspecified","H350"]
[null,"93924-61-9","300-257-1","649-503-00-2","Hydrocarbons, C20-50, residual oil hydrogenation vacuum distillate; Baseoil - unspecified","H350"]
[null,"94733-08-1","305-588-5","649-504-00-8","Distillates (petroleum), solvent-refined hydrotreated heavy, hydrogenated; Baseoil - unspecified","H350"]
[null,"94733-09-2","305-589-0","649-505-00-3","Distillates (petroleum), solvent-refined hydrocracked light; Baseoil - unspecified; [A complex combination of hydrocarbons obtained by solvent dearomatization of the residue of hydrocracked petroleum. It consists predominantly of hydrocarbons having carbon numbers predominantly in the range of C18 through C27 and boiling in the range of approximately 370 °C to 450 °C (698 °F to 842 °F).]","H350"]
[null,"94733-15-0","305-594-8","649-506-00-9","Lubricating oils (petroleum), C18-40, solvent-dewaxed hydrocracked distillate-based; Baseoil - unspecified; [A complex combination of hydrocarbons obtained by solvent deparaffination of the distillation residue from hydrocracked petroleum. It consists predominantly of hydrocarbons having carbon numbers predominantly in the range of C18 through C40 and boiling in the range of approximately 370 °C to 550 °C (698 °F to 1022 °F).]","H350"]
[null,"94733-16-1","305-595-3","649-507-00-4","Lubricating oils (petroleum), C18-40, solvent-dewaxed hydrogenated raffinate-based; Baseoil - unspecified; [A complex combination of hydrocarbons obtained by solvent deparaffination of the hydrogenated raffinate obtained by solvent extraction of a hydrotreated petroleum distillate. It consists predominantly of hydrocarbons having carbon numbers predominantly in the range of C18 through C40 and boiling in the range of approximately 370 °C to 550 °C (698 °F to 1022 °F).]","H350"]
[null,"95371-04-3","305-971-7","649-508-00-X","Hydrocarbons, C13-30, arom.-rich, solvent-extd. naphthenic distillate; Baseoil - unspecified","H350"]
[null,"95371-05-4","305-972-2","649-509-00-5","Hydrocarbons, C16-32, arom. rich, solvent-extd. naphthenic distillate; Baseoil - unspecified","H350"]
[null,"95371-07-6","305-974-3","649-510-00-0","Hydrocarbons, C37-68, dewaxed deasphalted hydrotreated vacuum distn. residues; Baseoil - unspecified","H350"]
[null,"95371-08-7","305-975-9","649-511-00-6","Hydrocarbons, C37-65, hydrotreated deasphalted vacuum distn. residues; Baseoil - unspecified","H350"]
[null,"97488-73-8","307-010-7","649-512-00-1","Distillates (petroleum), hydrocracked solvent-refined light; Baseoil - unspecified; [A complex combination of hydrocarbons obtained by the solvent treatment of a distillate from hydrocracked petroleum distillates. It consists predominantly of hydrocarbons having carbon numbers predominantly in the range of C18 through C27 and boiling in the range of approximately 370 °C to 450 °C (698 °F to 842 °F.]","H350"]
[null,"97488-74-9","307-011-2","649-513-00-7","Distillates (petroleum), solvent-refined hydrogenated heavy; Baseoil - unspecified; [A complex combination of hydrocarbons, obtained by the treatment of a hydrogenated petroleum distillate with a solvent. It consists predominantly of hydrocarbons having carbon numbers predominantly in the range of C19 through C40 and boiling in the range of approximately 390 °C to 550 °C (734 °F to 1022 °F).]","H350"]
[null,"97488-95-4","307-034-8","649-514-00-2","Lubricating oils (petroleum), C18-27, hydrocracked solvent-dewaxed; Baseoil - unspecified","H350"]
[null,"97675-87-1","307-661-7","649-515-00-8","Hydrocarbons, C17-30, hydrotreated solvent-deasphalted atm. distn. residue, distn. lights; Baseoil - unspecified; [A complex combination of hydrocarbons obtained as first runnings from the vacuum distillation of effluents from the treatment of a solvent deasphalted short residue with hydrogen in the presence of a catalyst. It consists predominantly of hydrocarbons having carbon numbers predominantly in the range of C17 through C30 and boiling in the range of approximately 300 °C to 400 °C (572 °F to 752 °F). It produces a finished oil having a viscosity of 4cSt at approximately 100 °C (212 °F).]","H350"]
[null,"97722-06-0","307-755-8","649-516-00-3","Hydrocarbons, C17-40, hydrotreated solvent-deasphalted distn. residue, vacuum distn. lights; Baseoil - unspecified; [A complex combination of hydrocarbons obtained as first runnings from the vacuum distillation of effluents from the catalytic hydrotreatment of a solvent deasphalted short residue having a viscosity of 8cSt at approximately 100 °C (212 °F). It consists predominantly of hydrocarbons having carbon numbers predominantly in the range of C17 through C40 and boiling in the range of approximately 300 °C to 500 °C (592 °F to 932 °F).]","H350"]
[null,"97722-09-3","307-758-4","649-517-00-9","Hydrocarbons, C13-27, solvent-extd. light naphthenic; Baseoil - unspecified; [A complex combination of hydrocarbons obtained by extraction of the aromatics from a light naphthenic distillate having a viscosity of 9.5cSt at 40 °C (104 °F). It consists predominantly of hydrocarbons having carbon numbers predominantly in the range of C13 through C27 and boiling in the range of approximately 240 °C to 400 °C (464 °F to 752 °F.]","H350"]
[null,"97722-10-6","307-760-5","649-518-00-4","Hydrocarbons, C14-29, solvent-extd. light naphthenic; Baseoil - unspecified; [A complex combination of hydrocarbons obtained by extraction of the aromatics from a light naphthenic distillate having a viscosity of 16cSt at 40 °C (104 °F). It consists predominantly of hydrocarbons having carbon numbers predominantly in the range of C14 through C29 and boiling in the range of approximately 250 °C to 425 °C (482 °F to 797 °F).]","H350"]
[null,"97862-81-2","308-131-8","649-519-00-X","Hydrocarbons, C27-42, dearomatized; Baseoil - unspecified","H350"]
[null,"97862-82-3","308-132-3","649-520-00-5","Hydrocarbons, C17-30, hydrotreated distillates, distn. lights; Baseoil - unspecified","H350"]
[null,"97862-83-4","308-133-9","649-521-00-0","Hydrocarbons, C27-45, naphthenic vacuum distn.; Baseoil - unspecified","H350"]
[null,"97926-68-6","308-287-7","649-522-00-6","Hydrocarbons, C27-45, dearomatized; Baseoil - unspecified","H350"]
[null,"97926-70-0","308-289-8","649-523-00-1","Hydrocarbons, C20-58, hydrotreated; Baseoil - unspecified","H350"]
[null,"97926-71-1","308-290-3","649-524-00-7","Hydrocarbons, C27-42, naphthenic; Baseoil - unspecified","H350"]
[null,"100684-37-5","309-710-8","649-525-00-2","Residual oils (petroleum), carbon-treated solvent-dewaxed; Baseoil - unspecified; [A complex combination of hydrocarbons obtained by the treatment of solvent-dewaxed petroleum residual oils with activated charcoal for the removal of trace polar constituents and impurities.]","H350"]
[null,"100684-38-6","309-711-3","649-526-00-8","Residual oils (petroleum), clay-treated solvent-dewaxed; Baseoil - unspecified; [A complex combination of hydrocarbons obtained by treatment of solvent-dewaxed petroleum residual oils with bleaching earth for the removal of trace polar constituents and impurities.]","H350"]
[null,"101316-69-2","309-874-0","649-527-00-3","Lubricating oils (petroleum), C >25, solvent-extd., deasphalted, dewaxed, hydrogenated; Baseoil - unspecified; [A complex combination of hydrocarbons obtained by solvent extraction and hydrogenation of vacuum distillation residues. It consists predominantly of hydrocarbons having carbon numbers predominantly greater than C25 and produces a finished oil with a viscosity in the order of 32cSt to 37cSt at 100 °C (212 °F).]","H350"]
[null,"101316-70-5","309-875-6","649-528-00-9","Lubricating oils (petroleum), C17-32, solvent-extd., dewaxed, hydrogenated; Baseoil - unspecified; [A complex combination of hydrocarbons obtained by solvent extraction and hydrogenation of atmospheric distillation residues. It consists predominantly of hydrocarbons having carbon numbers predominantly in the range of C17 through C32 and produced a finished oil with a viscosity in the order of 17cSt to 23cSt at 40 °C (104 °F.]","H350"]
[null,"101316-71-6","309-876-1","649-529-00-4","Lubricating oils (petroleum), C20-35, solvent-extd., dewaxed, hydrogenated; Baseoil - unspecified; [A complex combination of hydrocarbons obtained by solvent extraction and hydrogenation of atmospheric distillation residues. It consists predominantly of hydrocarbons having carbon numbers predominantly in the range of C20 through C35 and produces a finished oil with a viscosity in the order of 37cSt to 44cSt at 40 °C (104 °F).]","H350"]
[null,"101316-72-7","309-877-7","649-530-00-X","Lubricating oils (petroleum), C24-50, solvent-extd., dewaxed, hydrogenated; Baseoil - unspecified; [A complex combination of hydrocarbons obtained by solvent extraction and hydrogenation of atmospheric distillation residues. It consists predominantly of hydrocarbons having carbon numbers predominantly in the range of C24 through C50 and produces a finished oil with a viscosity in the order of 16cSt to 75cSt at 40 °C (104 °F).]","H350"]
[null,"68783-00-6","272-175-3","649-531-00-5","Extracts (petroleum), heavy naphthenic distillate solvent, arom. conc.; Distillate aromatic extract (treated); [An aromatic concentrate produced by adding water to heavy naphthenic distillate solvent extract and extraction solvent.]","H350"]
[null,"68783-04-0","272-180-0","649-532-00-0","Extracts (petroleum), solvent-refined heavy paraffinic distillate solvent; Distillate aromatic extract (treated); [A complex combination of hydrocarbons obtained as the extract from the re-extraction of solvent-refined heavy paraffinic distillate. It consists of saturated and aromatic hydrocarbons having carbon numbers predominantly in the range of C20 through C50.]","H350"]
[null,"68814-89-1","272-342-0","649-533-00-6","Extracts (petroleum), heavy paraffinic distillates, solvent-deasphalted; Distillate aromatic extract (treated); [A complex combination of hydrocarbons obtained as the extract from a solvent extraction of heavy paraffinic distillate.]","H350"]
[null,"90641-07-9","292-631-5","649-534-00-1","Extracts (petroleum), heavy naphthenic distillate solvent, hydrotreated; Distillate aromatic extract (treated); [A complex combination of hydrocarbons obtained by treating a heavy naphthenic distillate solvent extract with hydrogen in the presence of a catalyst. It consists predominantly of aromatic hydrocarbons having carbon numbers predominantly in the range of C20 through C50 and produces a finished oil of at least 19cSt at 40 °C (100 SUS at 100 °F).]","H350"]
[null,"90641-08-0","292-632-0","649-535-00-7","Extracts (petroleum), heavy paraffinic distillate solvent, hydrotreated; Distillate aromatic extract (treated); [A complex combination of hydrocarbons produced by treating a heavy paraffinic distillate solvent extract with hydrogen in the presence of a catalyst. It consists predominantly of hydrocarbons having carbon numbers predominantly in the range of C21 through C33 and boiling in the range of approximately 350 °C to 480 °C (662 °F to 896 °F).","H350"]
[null,"90641-09-1","292-633-6","649-536-00-2","Extracts (petroleum), light paraffinic distillate solvent, hydrotreated; Distillate aromatic extract (treated); [A complex combination of hydrocarbons produced by treating a light paraffinic distillate solvent extract with hydrogen in the presence of a catalyst. It consists predominantly of hydrocarbons having carbon numbers predominantly in the range of C17 through C26 and boiling in the range of approximately 280 °C to 400 °C (536 °F to 752 °F).]","H350"]
[null,"91995-73-2","295-335-4","649-537-00-8","Extracts (petroleum), hydrotreated light paraffinic distillate solvent; Distillate aromatic extract (treated); [A complex combination of hydrocarbons obtained as the extract from solvent extraction of intermediate paraffinic top solvent distillate that is treated with hydrogen in the presence of a catalyst. It consists predominantly of aromatic hydrocarbons having carbon numbers predominantly in the range of C16 through C36.]","H350"]
[null,"91995-75-4","295-338-0","649-538-00-3","Extracts (petroleum), light naphthenic distillate solvent, hydrodesulfurized; Distillate aromatic extract (treated); [A complex combination of hydrocarbons obtained by treating the extract, obtained from a solvent extraction process, with hydrogen in the presence of a catalyst under conditions primarily to remove sulfur compounds. It consists predominantly of aromatic hydrocarbons having carbon numbers predominantly in the range of C15 through C30. This stream is likely to contain 5 wt.% or more of 4- to 6-membered condensed ring aromatic hydrocarbons.]","H350"]
[null,"91995-76-5","295-339-6","649-539-00-9","Extracts (petroleum), light paraffinic distillate solvent, acid-treated; Distillate aromatic extract (treated); [A complex combination of hydrocarbons obtained as a fraction of the distillation of an extract from the solvent extraction of light paraffinic top petroleum distillates that is subjected to a sulfuric acid refining. It consists predominantly of aromatic hydrocarbons having carbon numbers predominantly in the range of C16 through C32.]","H350"]
[null,"91995-77-6","295-340-1","649-540-00-4","Extracts (petroleum), light paraffinic distillate solvent, hydrodesulfurized; Distillate aromatic extract (treated); [A complex combination of hydrocarbons obtained by solvent extraction of a light paraffin distillate and treated with hydrogen to convert the organic sulfur to hydrogen sulfide which is eliminated. It consists predominantly of hydrocarbons having carbon numbers predominantly in the range of C15 through C40 and produces a finished oil with a viscosity of greater than 10cSt at 40 °C.]","H350"]
[null,"91995-79-8","295-342-2","649-541-00-X","Extracts (petroleum), light vacuum gas oil solvent, hydrotreated; Distillate aromatic extract (treated); [A complex combination of hydrocarbons, obtained by solvent extraction from light vacuum petroleum gas oils and treated with hydrogen in the presence of a catalyst. It consists predominantly of aromatic hydrocarbons having carbon numbers predominantly in the range of C13 through C30.]","H350"]
[null,"92704-08-0","296-437-1","649-542-00-5","Extracts (petroleum), heavy paraffinic distillate solvent, clay-treated; Distillate aromatic extract (treated); [A complex combination of hydrocarbons resulting from treatment of a petroleum fraction with natural or modified clay in either a contact or percolation process to remove the trace amounts of polar compounds and impurities present. It consists predominantly of aromatic hydrocarbons having carbon numbers predominantly in the range of C20 through C50. This stream is likely to contain 5 wt.% or more 4-6 membered ring aromatic hydrocarbons.]","H350"]
[null,"93763-10-1","297-827-4","649-543-00-0","Extracts (petroleum), heavy naphthenic distillate solvent, hydrodesulfurized; Distillate aromatic extract (treated); [A complex combination of hydrocarbons obtained from a petroleum stock by treating with hydrogen to convert organic sulfur to hydrogen sulfide which is removed. It consists predominantly of hydrocarbons having carbon numbers predominantly in the range of C15 through C50 and produces a finished oil with a viscosity of greater than 19cSt at 40 °C.]","H350"]
[null,"93763-11-2","297-829-5","649-544-00-6","Extracts (petroleum), solvent-dewaxed heavy paraffinic distillate solvent, hydrodesulfurized; Distillate aromatic extract (treated); [A complex combination of hydrocarbons obtained from a solvent dewaxed petroleum stock by treating with hydrogen to convert organic sulfur to hydrogen sulfide which is removed. It consists predominantly of hydrocarbons having carbon numbers predominantly in the range of C15 through C50 and produces a finished oil with a viscosity of greater than 19cSt at 40 °C.]","H350"]
[null,"100684-02-4","309-672-2","649-545-00-1","Extracts (petroleum), light paraffinic distillate solvent, carbon-treated; Distillate aromatic extract (treated); [A complex combination of hydrocarbons obtained as a fraction from distillation of an extract recovered by solvent extraction of light paraffinic top petroleum distillate treated with activated charcoal to remove traces of polar constituents and impurities. It consists predominantly of aromatic hydrocarbons having carbon numbers predominantly in the range of C16 through C32.]","H350"]
[null,"100684-03-5","309-673-8","649-546-00-7","Extracts (petroleum), light paraffinic distillate solvent, clay-treated; Distillate aromatic extract (treated); [A complex combination of hydrocarbons obtained as a fraction from distillation of an extract recovered by solvent extraction of light paraffinic top petroleum distillates treated with bleaching earth to remove traces of polar constituents and impurities. It consists predominantly of aromatic hydrocarbons having carbon numbers predominantly in the range of C16 through C32.]","H350"]
[null,"100684-04-6","309-674-3","649-547-00-2","Extracts (petroleum), light vacuum, gas oil solvent, carbon-treated; Distillate aromatic extract (treated); [A complex combination of hydrocarbons obtained by solvent extraction of light vacuum petroleum gas oil treated with activated charcoal for the removal of trace polar constituents and impurities. It consists predominantly of aromatic hydrocarbons having carbon numbers predominantly in the range of C13 through C30.]","H350"]
[null,"100684-05-7","309-675-9","649-548-00-8","Extracts (petroleum), light vacuum gas oil solvent, clay-treated; Distillate aromatic extract (treated); [A complex combination of hydrocarbons obtained by solvent extraction of light vacuum petroleum gas oils treated with bleaching earth for removal of trace polar constituents and impurities. It consists predominantly of aromatic hydrocarbons having carbon numbers predominantly in the range of C13 through C30.]","H350"]
[null,"64742-67-2","265-171-8","649-549-00-3","Foots oil (petroleum); Foots oil; [A complex combination of hydrocarbons obtained as the oil fraction from a solvent deoiling or a wax sweating process. It consists predominantly of branched chain hydrocarbons having carbon numbers predominantly in the range of C20 through C50.]","H350"]
[null,"92045-12-0","295-394-6","649-550-00-9","Foots oil (petroleum), hydrotreated; Foots oil","H350"]
[null,"12510-42-8","-","650-012-00-0","erionite","H350"]
[null,"12001-28-4","-","650-013-00-6","asbestos","H350"]
[null,"132207-32-0","-","650-013-00-6","asbestos","H350"]
[null,"12172-73-5","-","650-013-00-6","asbestos","H350"]
[null,"77536-66-4","-","650-013-00-6","asbestos","H350"]
[null,"77536-68-6","-","650-013-00-6","asbestos","H350"]
[null,"77536-67-5","-","650-013-00-6","asbestos","H350"]
[null,"12001-29-5\n","-","650-013-00-6","asbestos","H350"]
[null,"-","-","650-017-00-8","Refractory Ceramic Fibres, Special Purpose Fibres, with the exception of those specified elsewhere in this Annex; [Man-made vitreous (silicate) fibres with random orientation with alkaline oxide and alkali earth oxide (Na2O+K2O+CaO+ MgO+BaO) content less or equal to 18 % by weight]"," H350i"]
[null,"94361-06-5","-","650-032-00-X","cyproconazole (ISO); (2RS,3RS;2RS,3SR)-2-(4-chlorophenyl)-3-cyclopropyl-1-(1H-1,2,4-triazol-1-yl)butan-2-ol"," H360D"]
[null,"22673-19-4","245-152-0","650-056-00-0","dibutylbis(pentane-2,4-dionato-O,O')tin"," H360FD"]